Workbook
Name OLE_LINK6: AC!#REF!

Sheet 修订历史
A1: 版本 | B1: 日期 | C1: 修订内容 | D1: 修订人
A2: V0.1.0 | B2: 43416 | C2: 创建5G北向接口定义第一稿 | D2: 李健、胡亚希
A3: V0.2.0 | B3: 43439 | C3: 1）删除IOC DNN。 2）删除EthernetPort对象； 3) 删除ME中的PvFlag属性。
A4: V0.3.0 | B4: 43451 | C4: 补充index的统计公式
A5: V0.4.0 | B5: 43516 | C5: 附录页补充IOC的包含关系图、继承关系图 | D5: 李健、胡亚希
A6: V1.0.0 | B6: 43732 | C6: 1. AE:InventoryUnitHost类删除HostName属性，原因是与UserLabel重复。 2. AF：InventoryUnitAccessory类删除AccessoryName。 3. AH:EpRpDynN9Upf增加EpRpDynN9Upf_Global对象需要缺省实现的说明。 4. AI：EpRpDynN3Upf增加EpRpDynN3Upf_Global对象需要缺省实现的说明。 5. Index页增加“包含关系上级类”一列，更新Index页第11行公式。 | D6: 李健、胡亚希、李端
A7: V1.1.0 | B7: 43821 | C7: 1. Index页Subnetwork修改为SubNetwork，以与3GPP保持一致。 2. 附录1中的UML，原图使用Rational Rose制作，改为使用开源软件UMLet制作。 3. 修订Index页中的“总体说明”部分。注意，原描述“各个对象的属性适用范围为VNF，则对于物理网元，上报NIL。适用范围为PNF，则对于虚拟网元，上报NIL。”错误。 当某个IOC的属性为CB且仅适用于VNF，则对于PNF该属性不应上报，而不是上报NIL值。 | D7: 李健
A8: V1.1.0 | B8: 43821 | C8: 无内容更新，版本随NRM同步升级。 | D8: 李健
A9: V1.1.1 | B9: 44187 | C9: 1.AH页和AI页，修订“远端IP子网列表”定义，增加Ipv6格式和样例。
A10: V1.1.2 | B10: 44256 | C10: 1、AA分页，“网管接口IP地址列表”统一增加“如支持IPV4V6，IPV4和IPV6都要呈现”说明； | D10: 刘振旺
A11: V1.2.0 | B11: 44619 | C11: 1.在增加UPF+场景下，UPF+的内置应急AMF、SMF、UDM功能及对应的属性： 新增AJ页，UPF+内置的应急移动性管理功能； 新增AK页，UPF+内置的应急会话管理功能； 新增AL页，UPF+内置的应急统一数据存储功能。 这些新增指标重要度为CB 2.Index页更新对应对应说明和指标统计。 3.2022年2月份，新增UPF+场景相关的指标，第2段版本号修订为V1.2.0 | D11: 张渊、洪晓、梁旭驰
B12: 44624 | C12: 1.新增AM页，UPF+内置的应急鉴权管理功能 | D12: 张渊、洪晓、梁旭驰
A13: V1.2.1 | B13: 44769 | C13: 1.新增AN页，列举UPF网元所涉及到的业务接口和管理接口，以及这些接口所配置的IPV4/V6地址 2.index新增一行IPResource，对应UPF的管理接口和业务接口的信息 | D13: 张渊、洪晓、梁旭驰
B14: 44804 | C14: 修订LocIpV4AddrList，LocIpV6AddrList定义：删除掉分割符描述，按字符串列表缺省的方式展示，其它的字符串列表字段保持一致 | D14: 张渊、洪晓、梁旭驰
B15: 44812 | C15: index页的IPResource包含关系上级类统一修订为ManagedElement | D15: 张渊、洪晓、梁旭驰

Sheet 应答统计
A1: UPF-NRM(V1.2.1)应答情况汇总表
A2: 设备厂家名称 | E2: XX公司
A3: 应答日期(T) | E3: XXXX年XX月XX日
A4: 本应答文档适用的设备版本（及补丁） | E4: VersionXX(patchXX)
A5: 对OMC的版本（及补丁）要求 | E5: OMC版本需升级到VXXXX (或/并 加载补丁YYYY）
A7: 内容 | C7: 规范定义数量 | D7: 不适用数量 | E7: 当前支持数量 | F7: 当前+1Q支持数量 | G7: 当前+2Q支持数量 | H7: 当前+3Q支持数量 | I7: 当前+4Q支持数量 | J7: 当前支持率 | K7: 综合支持率 | L7: 最终支持率
A8: 网络资源模型IOC属性 | B8: A类 | C8: =Index!E16 -> 3 | D8: NA | E8: =Index!P16 -> 0 | F8: =Index!V16 -> 0 | G8: =Index!AB16 -> 0 | H8: =Index!AH16 -> 0 | I8: =Index!AN16 -> 0 | J8: =(E8+E11)/(C8+C11-D11) -> 0 | K8: =((E8+E11)+0.8*(F8+F11)+0.6*(G8+G11)+0.4*(H8+H11)+0.2*(I8+I11))/(C8+C11-D11) -> 0 | L8: =((E8+E11)+(F8+F11)+(G8+G11)+(H8+H11)+(I8+I11))/(C8+C11-D11) -> 0
B9: B类 | C9: =Index!F16 -> 25 | D9: NA | E9: =Index!Q16 -> 0 | F9: =Index!W16 -> 0 | G9: =Index!AC16 -> 0 | H9: =Index!AI16 -> 0 | I9: =Index!AO16 -> 0 | J9: =(E9+E12)/(C9+C12-D12) -> 0 | K9: =((E9+E12)+0.8*(F9+F12)+0.6*(G9+G12)+0.4*(H9+H12)+0.2*(I9+I12))/(C9+C12-D12) -> 0 | L9: =((E9+E12)+(F9+F12)+(G9+G12)+(H9+H12)+(I9+I12))/(C9+C12-D12) -> 0
B10: C类 | C10: =Index!G16 -> 0 | D10: NA | E10: =Index!R16 -> 0 | F10: =Index!X16 -> 0 | G10: =Index!AD16 -> 0 | H10: =Index!AJ16 -> 0 | I10: =Index!AP16 -> 0 | J10: =(E10+E13)/(C10+C13-D13) -> 0 | K10: =((E10+E13)+0.8*(F10+F13)+0.6*(G10+G13)+0.4*(H10+H13)+0.2*(I10+I13))/(C10+C13-D13) -> 0 | L10: =((E10+E13)+(F10+F13)+(G10+G13)+(H10+H13)+(I10+I13))/(C10+C13-D13) -> 0
B11: CA类 | C11: =Index!H16 -> 0 | D11: =Index!M16 -> 0 | E11: =Index!S16 -> 0 | F11: =Index!Y16 -> 0 | G11: =Index!AE16 -> 0 | H11: =Index!AK16 -> 0 | I11: =Index!AQ16 -> 0 | J11: NA
B12: CB类 | C12: =Index!I16 -> 80 | D12: =Index!N16 -> 0 | E12: =Index!T16 -> 0 | F12: =Index!Z16 -> 0 | G12: =Index!AF16 -> 0 | H12: =Index!AL16 -> 0 | I12: =Index!AR16 -> 0
B13: CC类 | C13: =Index!J16 -> 10 | D13: =Index!O16 -> 0 | E13: =Index!U16 -> 0 | F13: =Index!AA16 -> 0 | G13: =Index!AG16 -> 0 | H13: =Index!AM16 -> 0 | I13: =Index!AS16 -> 0
A17: 应答说明：
A18: 一、本页须填写蓝色字体部分，即公司名、应答日期、本应答适用的版本（及补丁）名、对OMC的版本（及补丁）要求。AA开始的各页仅须应答“支持时间”一列。其中， “T”：指当前(T)已经支持，所谓当前即应答日期。 “T+1Q”：指当前(T)不支持，但（当前时间+91天）之前可以支持。 “T+2Q”：指当前(T)不支持，但（当前时间+182天）之前可以支持 “T+3Q”：指当前(T)不支持，但（当前时间+273天）之前可以支持 “T+4Q”：指当前(T)不支持，但（当前时间+364天）之前可以支持 “NS”: 若计划支持时间晚于T+4Q，或没有支持计划，必须应答“NS” “NA”：对应于CA、CB、CC类条件属性,条件成立时答上述支持时间，条件不成立时答“NA”，指示不适用。
A19: 二、“Index”页以及“应答统计”页的统计结果均为公式自动生成，请勿直接改动。
A20: 三、NRM中的对象属性是否支持的应答，以北向接口的NRM文件为准。当且仅当同时满足以下3项要求时才可以应答为具体的支持时间(T/T+xQ): 1、NRM文件遵循《移动通信网网络管理技术规范 OMC北向接口 统一网络资源模型文件格式》的要求；_x000D_ 2、对象的属性名、数据类型与相应网元的北向接口信息模型规范的约定完全一致；_x000D_ 3、可以从NRM文件中取到属性值。
A21: 四、注意将文件名中的“Company”、“Version”改为你公司名称以及应答适用的网元版本。
A22: 五、若应答文档需要打印，请打印“Index”和“应答统计”页，并打印当前不支持的统计项的相关页，请勿打印全部规范，请勿打印“修订历史”和“附录”页。
A23: 本应答模板的更新日期：2022-09-23

Sheet Index
A1: 索引 | B1: 管理对象类 | C1: 备注 | D1: 包含关系上级类 | E1: A类属性数 | F1: B类属性数 | G1: C类属性数 | H1: CA类属性数 | I1: CB类属性数 | J1: CC类属性数 | K1: 小计 | L1: 适用范围 | M1: CA类 不适用数 | N1: CB类 不适用数 | O1: CC类 不适用数 | P1: 当前A类 支持数 | Q1: 当前B类 支持数 | R1: 当前C类 支持数 | S1: 当前CA类 支持数 | T1: 当前CB类 支持数 | U1: 当前CC类 支持数 | V1: (当前+1Q) A类支持数 | W1: (当前+1Q) B类支持数 | X1: (当前+1Q) C类支持数 | Y1: (当前+1Q) CA类支持数 | Z1: (当前+1Q) CB类支持数 | AA1: (当前+1Q) CC类支持数 | AB1: (当前+2Q) A类支持数 | AC1: (当前+2Q) B类支持数 | AD1: (当前+2Q) C类支持数 | AE1: (当前+2Q) CA类支持数 | AF1: (当前+2Q) CB类支持数 | AG1: (当前+2Q) CC类支持数 | AH1: (当前+3Q) A类支持数 | AI1: (当前+3Q) B类支持数 | AJ1: (当前+3Q) C类支持数 | AK1: (当前+3Q) CA类支持数 | AL1: (当前+3Q) CB类支持数 | AM1: (当前+3Q) CC类支持数 | AN1: (当前+4Q) A类支持数 | AO1: (当前+4Q) B类支持数 | AP1: (当前+4Q) C类支持数 | AQ1: (当前+4Q) CA类支持数 | AR1: (当前+4Q) CB类支持数 | AS1: (当前+4Q) CC类支持数
A2: AA | B2: ManagedElement | C2: 网元 | D2: SubNetwork | E2: =COUNTIF(AA!$B:$B,"A") -> 1 | F2: =COUNTIF(AA!$B:$B,"B") -> 8 | G2: =COUNTIF(AA!$B:$B,"C") -> 0 | H2: =COUNTIF(AA!$B:$B,"CA") -> 0 | I2: =COUNTIF(AA!$B:$B,"CB") -> 2 | J2: =COUNTIF(AA!$B:$B,"CC") -> 0 | K2: =SUM($E2:$J2) -> 11 | L2: PNF/VNF | M2: =SUMPRODUCT((INDIRECT($A2&"!B:B")="CA")*((INDIRECT($A2&"!I:I")="NA"))) -> 0 | N2: =SUMPRODUCT((INDIRECT($A2&"!B:B")="CB")*((INDIRECT($A2&"!I:I")="NA"))) -> 0 | O2: =SUMPRODUCT((INDIRECT($A2&"!B:B")="CC")*((INDIRECT($A2&"!I:I")="NA"))) -> 0 | P2: =SUMPRODUCT((INDIRECT($A2&"!B:B")="A")*((INDIRECT($A2&"!I:I")="T"))) -> 0 | Q2: =SUMPRODUCT((INDIRECT($A2&"!B:B")="B")*((INDIRECT($A2&"!I:I")="T"))) -> 0 | R2: =SUMPRODUCT((INDIRECT($A2&"!B:B")="C")*((INDIRECT($A2&"!I:I")="T"))) -> 0 | S2: =SUMPRODUCT((INDIRECT($A2&"!B:B")="CA")*((INDIRECT($A2&"!I:I")="T"))) -> 0 | T2: =SUMPRODUCT((INDIRECT($A2&"!B:B")="CB")*((INDIRECT($A2&"!I:I")="T"))) -> 0 | U2: =SUMPRODUCT((INDIRECT($A2&"!B:B")="CC")*((INDIRECT($A2&"!I:I")="T"))) -> 0 | V2: =SUMPRODUCT((INDIRECT($A2&"!B:B")="A")*((INDIRECT($A2&"!I:I")="T+1Q"))) -> 0 | W2: =SUMPRODUCT((INDIRECT($A2&"!B:B")="B")*((INDIRECT($A2&"!I:I")="T+1Q"))) -> 0 | X2: =SUMPRODUCT((INDIRECT($A2&"!B:B")="C")*((INDIRECT($A2&"!I:I")="T+1Q"))) -> 0 | Y2: =SUMPRODUCT((INDIRECT($A2&"!B:B")="CA")*((INDIRECT($A2&"!I:I")="T+1Q"))) -> 0 | Z2: =SUMPRODUCT((INDIRECT($A2&"!B:B")="CB")*((INDIRECT($A2&"!I:I")="T+1Q"))) -> 0 | AA2: =SUMPRODUCT((INDIRECT($A2&"!B:B")="A")*((INDIRECT($A2&"!I:I")="T+2Q"))) -> 0 | AB2: =SUMPRODUCT((INDIRECT($A2&"!B:B")="A")*((INDIRECT($A2&"!I:I")="T+2Q"))) -> 0 | AC2: =SUMPRODUCT((INDIRECT($A2&"!B:B")="B")*((INDIRECT($A2&"!I:I")="T+2Q"))) -> 0 | AD2: =SUMPRODUCT((INDIRECT($A2&"!B:B")="C")*((INDIRECT($A2&"!I:I")="T+2Q"))) -> 0 | AE2: =SUMPRODUCT((INDIRECT($A2&"!B:B")="CA")*((INDIRECT($A2&"!I:I")="T+2Q"))) -> 0 | AF2: =SUMPRODUCT((INDIRECT($A2&"!B:B")="CB")*((INDIRECT($A2&"!I:I")="T+2Q"))) -> 0 | AG2: =SUMPRODUCT((INDIRECT($A2&"!B:B")="CC")*((INDIRECT($A2&"!I:I")="T+2Q"))) -> 0 | AH2: =SUMPRODUCT((INDIRECT($A2&"!B:B")="A")*((INDIRECT($A2&"!I:I")="T+3Q"))) -> 0 | AI2: =SUMPRODUCT((INDIRECT($A2&"!B:B")="B")*((INDIRECT($A2&"!I:I")="T+3Q"))) -> 0 | AJ2: =SUMPRODUCT((INDIRECT($A2&"!B:B")="C")*((INDIRECT($A2&"!I:I")="T+3Q"))) -> 0 | AK2: =SUMPRODUCT((INDIRECT($A2&"!B:B")="CA")*((INDIRECT($A2&"!I:I")="T+3Q"))) -> 0 | AL2: =SUMPRODUCT((INDIRECT($A2&"!B:B")="CB")*((INDIRECT($A2&"!I:I")="T+3Q"))) -> 0 | AM2: =SUMPRODUCT((INDIRECT($A2&"!B:B")="CC")*((INDIRECT($A2&"!I:I")="T+3Q"))) -> 0 | AN2: =SUMPRODUCT((INDIRECT($A2&"!B:B")="A")*((INDIRECT($A2&"!I:I")="T+4Q"))) -> 0 | AO2: =SUMPRODUCT((INDIRECT($A2&"!B:B")="B")*((INDIRECT($A2&"!I:I")="T+4Q"))) -> 0 | AP2: =SUMPRODUCT((INDIRECT($A2&"!B:B")="C")*((INDIRECT($A2&"!I:I")="T+4Q"))) -> 0 | AQ2: =SUMPRODUCT((INDIRECT($A2&"!B:B")="CA")*((INDIRECT($A2&"!I:I")="T+4Q"))) -> 0 | AR2: =SUMPRODUCT((INDIRECT($A2&"!B:B")="CB")*((INDIRECT($A2&"!I:I")="T+4Q"))) -> 0 | AS2: =SUMPRODUCT((INDIRECT($A2&"!B:B")="CC")*((INDIRECT($A2&"!I:I")="T+4Q"))) -> 0
A3: AB | B3: InventoryUnitRack | C3: 机架 | D3: ManagedElement | E3: =COUNTIF(AB!$B:$B,"A") -> 0 | F3: =COUNTIF(AB!$B:$B,"B") -> 0 | G3: =COUNTIF(AB!$B:$B,"C") -> 0 | H3: =COUNTIF(AB!$B:$B,"CA") -> 0 | I3: =COUNTIF(AB!$B:$B,"CB") -> 9 | J3: =COUNTIF(AB!$B:$B,"CC") -> 2 | K3: =SUM($E3:$J3) -> 11 | L3: PNF | M3: =SUMPRODUCT((INDIRECT($A3&"!B:B")="CA")*((INDIRECT($A3&"!I:I")="NA"))) -> 0 | N3: =SUMPRODUCT((INDIRECT($A3&"!B:B")="CB")*((INDIRECT($A3&"!I:I")="NA"))) -> 0 | O3: =SUMPRODUCT((INDIRECT($A3&"!B:B")="CC")*((INDIRECT($A3&"!I:I")="NA"))) -> 0 | P3: =SUMPRODUCT((INDIRECT($A3&"!B:B")="A")*((INDIRECT($A3&"!I:I")="T"))) -> 0 | Q3: =SUMPRODUCT((INDIRECT($A3&"!B:B")="B")*((INDIRECT($A3&"!I:I")="T"))) -> 0 | R3: =SUMPRODUCT((INDIRECT($A3&"!B:B")="C")*((INDIRECT($A3&"!I:I")="T"))) -> 0 | S3: =SUMPRODUCT((INDIRECT($A3&"!B:B")="CA")*((INDIRECT($A3&"!I:I")="T"))) -> 0 | T3: =SUMPRODUCT((INDIRECT($A3&"!B:B")="CB")*((INDIRECT($A3&"!I:I")="T"))) -> 0 | U3: =SUMPRODUCT((INDIRECT($A3&"!B:B")="CC")*((INDIRECT($A3&"!I:I")="T"))) -> 0 | V3: =SUMPRODUCT((INDIRECT($A3&"!B:B")="A")*((INDIRECT($A3&"!I:I")="T+1Q"))) -> 0 | W3: =SUMPRODUCT((INDIRECT($A3&"!B:B")="B")*((INDIRECT($A3&"!I:I")="T+1Q"))) -> 0 | X3: =SUMPRODUCT((INDIRECT($A3&"!B:B")="C")*((INDIRECT($A3&"!I:I")="T+1Q"))) -> 0 | Y3: =SUMPRODUCT((INDIRECT($A3&"!B:B")="CA")*((INDIRECT($A3&"!I:I")="T+1Q"))) -> 0 | Z3: =SUMPRODUCT((INDIRECT($A3&"!B:B")="CB")*((INDIRECT($A3&"!I:I")="T+1Q"))) -> 0 | AA3: =SUMPRODUCT((INDIRECT($A3&"!B:B")="CC")*((INDIRECT($A3&"!I:I")="T+1Q"))) -> 0 | AB3: =SUMPRODUCT((INDIRECT($A3&"!B:B")="A")*((INDIRECT($A3&"!I:I")="T+2Q"))) -> 0 | AC3: =SUMPRODUCT((INDIRECT($A3&"!B:B")="B")*((INDIRECT($A3&"!I:I")="T+2Q"))) -> 0 | AD3: =SUMPRODUCT((INDIRECT($A3&"!B:B")="C")*((INDIRECT($A3&"!I:I")="T+2Q"))) -> 0 | AE3: =SUMPRODUCT((INDIRECT($A3&"!B:B")="CA")*((INDIRECT($A3&"!I:I")="T+2Q"))) -> 0 | AF3: =SUMPRODUCT((INDIRECT($A3&"!B:B")="CB")*((INDIRECT($A3&"!I:I")="T+2Q"))) -> 0 | AG3: =SUMPRODUCT((INDIRECT($A3&"!B:B")="CC")*((INDIRECT($A3&"!I:I")="T+2Q"))) -> 0 | AH3: =SUMPRODUCT((INDIRECT($A3&"!B:B")="A")*((INDIRECT($A3&"!I:I")="T+3Q"))) -> 0 | AI3: =SUMPRODUCT((INDIRECT($A3&"!B:B")="B")*((INDIRECT($A3&"!I:I")="T+3Q"))) -> 0 | AJ3: =SUMPRODUCT((INDIRECT($A3&"!B:B")="C")*((INDIRECT($A3&"!I:I")="T+3Q"))) -> 0 | AK3: =SUMPRODUCT((INDIRECT($A3&"!B:B")="CA")*((INDIRECT($A3&"!I:I")="T+3Q"))) -> 0 | AL3: =SUMPRODUCT((INDIRECT($A3&"!B:B")="CB")*((INDIRECT($A3&"!I:I")="T+3Q"))) -> 0 | AM3: =SUMPRODUCT((INDIRECT($A3&"!B:B")="CC")*((INDIRECT($A3&"!I:I")="T+3Q"))) -> 0 | AN3: =SUMPRODUCT((INDIRECT($A3&"!B:B")="A")*((INDIRECT($A3&"!I:I")="T+4Q"))) -> 0 | AO3: =SUMPRODUCT((INDIRECT($A3&"!B:B")="B")*((INDIRECT($A3&"!I:I")="T+4Q"))) -> 0 | AP3: =SUMPRODUCT((INDIRECT($A3&"!B:B")="C")*((INDIRECT($A3&"!I:I")="T+4Q"))) -> 0 | AQ3: =SUMPRODUCT((INDIRECT($A3&"!B:B")="CA")*((INDIRECT($A3&"!I:I")="T+4Q"))) -> 0 | AR3: =SUMPRODUCT((INDIRECT($A3&"!B:B")="CB")*((INDIRECT($A3&"!I:I")="T+4Q"))) -> 0 | AS3: =SUMPRODUCT((INDIRECT($A3&"!B:B")="CC")*((INDIRECT($A3&"!I:I")="T+4Q"))) -> 0
A4: AC | B4: InventoryUnitShelf | C4: 机框 | D4: InventoryUnitRack | E4: =COUNTIF(AC!$B:$B,"A") -> 0 | F4: =COUNTIF(AC!$B:$B,"B") -> 0 | G4: =COUNTIF(AC!$B:$B,"C") -> 0 | H4: =COUNTIF(AC!$B:$B,"CA") -> 0 | I4: =COUNTIF(AC!$B:$B,"CB") -> 10 | J4: =COUNTIF(AC!$B:$B,"CC") -> 2 | K4: =SUM($E4:$J4) -> 12 | L4: PNF | M4: =SUMPRODUCT((INDIRECT($A4&"!B:B")="CA")*((INDIRECT($A4&"!I:I")="NA"))) -> 0 | N4: =SUMPRODUCT((INDIRECT($A4&"!B:B")="CB")*((INDIRECT($A4&"!I:I")="NA"))) -> 0 | O4: =SUMPRODUCT((INDIRECT($A4&"!B:B")="CC")*((INDIRECT($A4&"!I:I")="NA"))) -> 0 | P4: =SUMPRODUCT((INDIRECT($A4&"!B:B")="A")*((INDIRECT($A4&"!I:I")="T"))) -> 0 | Q4: =SUMPRODUCT((INDIRECT($A4&"!B:B")="B")*((INDIRECT($A4&"!I:I")="T"))) -> 0 | R4: =SUMPRODUCT((INDIRECT($A4&"!B:B")="C")*((INDIRECT($A4&"!I:I")="T"))) -> 0 | S4: =SUMPRODUCT((INDIRECT($A4&"!B:B")="CA")*((INDIRECT($A4&"!I:I")="T"))) -> 0 | T4: =SUMPRODUCT((INDIRECT($A4&"!B:B")="CB")*((INDIRECT($A4&"!I:I")="T"))) -> 0 | U4: =SUMPRODUCT((INDIRECT($A4&"!B:B")="CC")*((INDIRECT($A4&"!I:I")="T"))) -> 0 | V4: =SUMPRODUCT((INDIRECT($A4&"!B:B")="A")*((INDIRECT($A4&"!I:I")="T+1Q"))) -> 0 | W4: =SUMPRODUCT((INDIRECT($A4&"!B:B")="B")*((INDIRECT($A4&"!I:I")="T+1Q"))) -> 0 | X4: =SUMPRODUCT((INDIRECT($A4&"!B:B")="C")*((INDIRECT($A4&"!I:I")="T+1Q"))) -> 0 | Y4: =SUMPRODUCT((INDIRECT($A4&"!B:B")="CA")*((INDIRECT($A4&"!I:I")="T+1Q"))) -> 0 | Z4: =SUMPRODUCT((INDIRECT($A4&"!B:B")="CB")*((INDIRECT($A4&"!I:I")="T+1Q"))) -> 0 | AA4: =SUMPRODUCT((INDIRECT($A4&"!B:B")="CC")*((INDIRECT($A4&"!I:I")="T+1Q"))) -> 0 | AB4: =SUMPRODUCT((INDIRECT($A4&"!B:B")="A")*((INDIRECT($A4&"!I:I")="T+2Q"))) -> 0 | AC4: =SUMPRODUCT((INDIRECT($A4&"!B:B")="B")*((INDIRECT($A4&"!I:I")="T+2Q"))) -> 0 | AD4: =SUMPRODUCT((INDIRECT($A4&"!B:B")="C")*((INDIRECT($A4&"!I:I")="T+2Q"))) -> 0 | AE4: =SUMPRODUCT((INDIRECT($A4&"!B:B")="CA")*((INDIRECT($A4&"!I:I")="T+2Q"))) -> 0 | AF4: =SUMPRODUCT((INDIRECT($A4&"!B:B")="CB")*((INDIRECT($A4&"!I:I")="T+2Q"))) -> 0 | AG4: =SUMPRODUCT((INDIRECT($A4&"!B:B")="CC")*((INDIRECT($A4&"!I:I")="T+2Q"))) -> 0 | AH4: =SUMPRODUCT((INDIRECT($A4&"!B:B")="A")*((INDIRECT($A4&"!I:I")="T+3Q"))) -> 0 | AI4: =SUMPRODUCT((INDIRECT($A4&"!B:B")="B")*((INDIRECT($A4&"!I:I")="T+3Q"))) -> 0 | AJ4: =SUMPRODUCT((INDIRECT($A4&"!B:B")="C")*((INDIRECT($A4&"!I:I")="T+3Q"))) -> 0 | AK4: =SUMPRODUCT((INDIRECT($A4&"!B:B")="CA")*((INDIRECT($A4&"!I:I")="T+3Q"))) -> 0 | AL4: =SUMPRODUCT((INDIRECT($A4&"!B:B")="CB")*((INDIRECT($A4&"!I:I")="T+3Q"))) -> 0 | AM4: =SUMPRODUCT((INDIRECT($A4&"!B:B")="CC")*((INDIRECT($A4&"!I:I")="T+3Q"))) -> 0 | AN4: =SUMPRODUCT((INDIRECT($A4&"!B:B")="A")*((INDIRECT($A4&"!I:I")="T+4Q"))) -> 0 | AO4: =SUMPRODUCT((INDIRECT($A4&"!B:B")="B")*((INDIRECT($A4&"!I:I")="T+4Q"))) -> 0 | AP4: =SUMPRODUCT((INDIRECT($A4&"!B:B")="C")*((INDIRECT($A4&"!I:I")="T+4Q"))) -> 0 | AQ4: =SUMPRODUCT((INDIRECT($A4&"!B:B")="CA")*((INDIRECT($A4&"!I:I")="T+4Q"))) -> 0 | AR4: =SUMPRODUCT((INDIRECT($A4&"!B:B")="CB")*((INDIRECT($A4&"!I:I")="T+4Q"))) -> 0 | AS4: =SUMPRODUCT((INDIRECT($A4&"!B:B")="CC")*((INDIRECT($A4&"!I:I")="T+4Q"))) -> 0
A5: AD | B5: InventoryUnitPack | C5: 板卡 | D5: InventoryUnitShelf | E5: =COUNTIF(AD!$B:$B,"A") -> 0 | F5: =COUNTIF(AD!$B:$B,"B") -> 0 | G5: =COUNTIF(AD!$B:$B,"C") -> 0 | H5: =COUNTIF(AD!$B:$B,"CA") -> 0 | I5: =COUNTIF(AD!$B:$B,"CB") -> 11 | J5: =COUNTIF(AD!$B:$B,"CC") -> 2 | K5: =SUM($E5:$J5) -> 13 | L5: PNF | M5: =SUMPRODUCT((INDIRECT($A5&"!B:B")="CA")*((INDIRECT($A5&"!I:I")="NA"))) -> 0 | N5: =SUMPRODUCT((INDIRECT($A5&"!B:B")="CB")*((INDIRECT($A5&"!I:I")="NA"))) -> 0 | O5: =SUMPRODUCT((INDIRECT($A5&"!B:B")="CC")*((INDIRECT($A5&"!I:I")="NA"))) -> 0 | P5: =SUMPRODUCT((INDIRECT($A5&"!B:B")="A")*((INDIRECT($A5&"!I:I")="T"))) -> 0 | Q5: =SUMPRODUCT((INDIRECT($A5&"!B:B")="B")*((INDIRECT($A5&"!I:I")="T"))) -> 0 | R5: =SUMPRODUCT((INDIRECT($A5&"!B:B")="C")*((INDIRECT($A5&"!I:I")="T"))) -> 0 | S5: =SUMPRODUCT((INDIRECT($A5&"!B:B")="CA")*((INDIRECT($A5&"!I:I")="T"))) -> 0 | T5: =SUMPRODUCT((INDIRECT($A5&"!B:B")="CB")*((INDIRECT($A5&"!I:I")="T"))) -> 0 | U5: =SUMPRODUCT((INDIRECT($A5&"!B:B")="CC")*((INDIRECT($A5&"!I:I")="T"))) -> 0 | V5: =SUMPRODUCT((INDIRECT($A5&"!B:B")="A")*((INDIRECT($A5&"!I:I")="T+1Q"))) -> 0 | W5: =SUMPRODUCT((INDIRECT($A5&"!B:B")="B")*((INDIRECT($A5&"!I:I")="T+1Q"))) -> 0 | X5: =SUMPRODUCT((INDIRECT($A5&"!B:B")="C")*((INDIRECT($A5&"!I:I")="T+1Q"))) -> 0 | Y5: =SUMPRODUCT((INDIRECT($A5&"!B:B")="CA")*((INDIRECT($A5&"!I:I")="T+1Q"))) -> 0 | Z5: =SUMPRODUCT((INDIRECT($A5&"!B:B")="CB")*((INDIRECT($A5&"!I:I")="T+1Q"))) -> 0 | AA5: =SUMPRODUCT((INDIRECT($A5&"!B:B")="CC")*((INDIRECT($A5&"!I:I")="T+1Q"))) -> 0 | AB5: =SUMPRODUCT((INDIRECT($A5&"!B:B")="A")*((INDIRECT($A5&"!I:I")="T+2Q"))) -> 0 | AC5: =SUMPRODUCT((INDIRECT($A5&"!B:B")="B")*((INDIRECT($A5&"!I:I")="T+2Q"))) -> 0 | AD5: =SUMPRODUCT((INDIRECT($A5&"!B:B")="C")*((INDIRECT($A5&"!I:I")="T+2Q"))) -> 0 | AE5: =SUMPRODUCT((INDIRECT($A5&"!B:B")="CA")*((INDIRECT($A5&"!I:I")="T+2Q"))) -> 0 | AF5: =SUMPRODUCT((INDIRECT($A5&"!B:B")="CB")*((INDIRECT($A5&"!I:I")="T+2Q"))) -> 0 | AG5: =SUMPRODUCT((INDIRECT($A5&"!B:B")="CC")*((INDIRECT($A5&"!I:I")="T+2Q"))) -> 0 | AH5: =SUMPRODUCT((INDIRECT($A5&"!B:B")="A")*((INDIRECT($A5&"!I:I")="T+3Q"))) -> 0 | AI5: =SUMPRODUCT((INDIRECT($A5&"!B:B")="B")*((INDIRECT($A5&"!I:I")="T+3Q"))) -> 0 | AJ5: =SUMPRODUCT((INDIRECT($A5&"!B:B")="C")*((INDIRECT($A5&"!I:I")="T+3Q"))) -> 0 | AK5: =SUMPRODUCT((INDIRECT($A5&"!B:B")="CA")*((INDIRECT($A5&"!I:I")="T+3Q"))) -> 0 | AL5: =SUMPRODUCT((INDIRECT($A5&"!B:B")="CB")*((INDIRECT($A5&"!I:I")="T+3Q"))) -> 0 | AM5: =SUMPRODUCT((INDIRECT($A5&"!B:B")="CC")*((INDIRECT($A5&"!I:I")="T+3Q"))) -> 0 | AN5: =SUMPRODUCT((INDIRECT($A5&"!B:B")="A")*((INDIRECT($A5&"!I:I")="T+4Q"))) -> 0 | AO5: =SUMPRODUCT((INDIRECT($A5&"!B:B")="B")*((INDIRECT($A5&"!I:I")="T+4Q"))) -> 0 | AP5: =SUMPRODUCT((INDIRECT($A5&"!B:B")="C")*((INDIRECT($A5&"!I:I")="T+4Q"))) -> 0 | AQ5: =SUMPRODUCT((INDIRECT($A5&"!B:B")="CA")*((INDIRECT($A5&"!I:I")="T+4Q"))) -> 0 | AR5: =SUMPRODUCT((INDIRECT($A5&"!B:B")="CB")*((INDIRECT($A5&"!I:I")="T+4Q"))) -> 0 | AS5: =SUMPRODUCT((INDIRECT($A5&"!B:B")="CC")*((INDIRECT($A5&"!I:I")="T+4Q"))) -> 0
A6: AE | B6: InventoryUnitHost | C6: 主机 | D6: ManagedElement | E6: =COUNTIF(AE!$B:$B,"A") -> 0 | F6: =COUNTIF(AE!$B:$B,"B") -> 0 | G6: =COUNTIF(AE!$B:$B,"C") -> 0 | H6: =COUNTIF(AE!$B:$B,"CA") -> 0 | I6: =COUNTIF(AE!$B:$B,"CB") -> 12 | J6: =COUNTIF(AE!$B:$B,"CC") -> 2 | K6: =SUM($E6:$J6) -> 14 | L6: PNF | M6: =SUMPRODUCT((INDIRECT($A6&"!B:B")="CA")*((INDIRECT($A6&"!I:I")="NA"))) -> 0 | N6: =SUMPRODUCT((INDIRECT($A6&"!B:B")="CB")*((INDIRECT($A6&"!I:I")="NA"))) -> 0 | O6: =SUMPRODUCT((INDIRECT($A6&"!B:B")="CC")*((INDIRECT($A6&"!I:I")="NA"))) -> 0 | P6: =SUMPRODUCT((INDIRECT($A6&"!B:B")="A")*((INDIRECT($A6&"!I:I")="T"))) -> 0 | Q6: =SUMPRODUCT((INDIRECT($A6&"!B:B")="B")*((INDIRECT($A6&"!I:I")="T"))) -> 0 | R6: =SUMPRODUCT((INDIRECT($A6&"!B:B")="C")*((INDIRECT($A6&"!I:I")="T"))) -> 0 | S6: =SUMPRODUCT((INDIRECT($A6&"!B:B")="CA")*((INDIRECT($A6&"!I:I")="T"))) -> 0 | T6: =SUMPRODUCT((INDIRECT($A6&"!B:B")="CB")*((INDIRECT($A6&"!I:I")="T"))) -> 0 | U6: =SUMPRODUCT((INDIRECT($A6&"!B:B")="CC")*((INDIRECT($A6&"!I:I")="T"))) -> 0 | V6: =SUMPRODUCT((INDIRECT($A6&"!B:B")="A")*((INDIRECT($A6&"!I:I")="T+1Q"))) -> 0 | W6: =SUMPRODUCT((INDIRECT($A6&"!B:B")="B")*((INDIRECT($A6&"!I:I")="T+1Q"))) -> 0 | X6: =SUMPRODUCT((INDIRECT($A6&"!B:B")="C")*((INDIRECT($A6&"!I:I")="T+1Q"))) -> 0 | Y6: =SUMPRODUCT((INDIRECT($A6&"!B:B")="CA")*((INDIRECT($A6&"!I:I")="T+1Q"))) -> 0 | Z6: =SUMPRODUCT((INDIRECT($A6&"!B:B")="CB")*((INDIRECT($A6&"!I:I")="T+1Q"))) -> 0 | AA6: =SUMPRODUCT((INDIRECT($A6&"!B:B")="CC")*((INDIRECT($A6&"!I:I")="T+1Q"))) -> 0 | AB6: =SUMPRODUCT((INDIRECT($A6&"!B:B")="A")*((INDIRECT($A6&"!I:I")="T+2Q"))) -> 0 | AC6: =SUMPRODUCT((INDIRECT($A6&"!B:B")="B")*((INDIRECT($A6&"!I:I")="T+2Q"))) -> 0 | AD6: =SUMPRODUCT((INDIRECT($A6&"!B:B")="C")*((INDIRECT($A6&"!I:I")="T+2Q"))) -> 0 | AE6: =SUMPRODUCT((INDIRECT($A6&"!B:B")="CA")*((INDIRECT($A6&"!I:I")="T+2Q"))) -> 0 | AF6: =SUMPRODUCT((INDIRECT($A6&"!B:B")="CB")*((INDIRECT($A6&"!I:I")="T+2Q"))) -> 0 | AG6: =SUMPRODUCT((INDIRECT($A6&"!B:B")="CC")*((INDIRECT($A6&"!I:I")="T+2Q"))) -> 0 | AH6: =SUMPRODUCT((INDIRECT($A6&"!B:B")="A")*((INDIRECT($A6&"!I:I")="T+3Q"))) -> 0 | AI6: =SUMPRODUCT((INDIRECT($A6&"!B:B")="B")*((INDIRECT($A6&"!I:I")="T+3Q"))) -> 0 | AJ6: =SUMPRODUCT((INDIRECT($A6&"!B:B")="C")*((INDIRECT($A6&"!I:I")="T+3Q"))) -> 0 | AK6: =SUMPRODUCT((INDIRECT($A6&"!B:B")="CA")*((INDIRECT($A6&"!I:I")="T+3Q"))) -> 0 | AL6: =SUMPRODUCT((INDIRECT($A6&"!B:B")="CB")*((INDIRECT($A6&"!I:I")="T+3Q"))) -> 0 | AM6: =SUMPRODUCT((INDIRECT($A6&"!B:B")="CC")*((INDIRECT($A6&"!I:I")="T+3Q"))) -> 0 | AN6: =SUMPRODUCT((INDIRECT($A6&"!B:B")="A")*((INDIRECT($A6&"!I:I")="T+4Q"))) -> 0 | AO6: =SUMPRODUCT((INDIRECT($A6&"!B:B")="B")*((INDIRECT($A6&"!I:I")="T+4Q"))) -> 0 | AP6: =SUMPRODUCT((INDIRECT($A6&"!B:B")="C")*((INDIRECT($A6&"!I:I")="T+4Q"))) -> 0 | AQ6: =SUMPRODUCT((INDIRECT($A6&"!B:B")="CA")*((INDIRECT($A6&"!I:I")="T+4Q"))) -> 0 | AR6: =SUMPRODUCT((INDIRECT($A6&"!B:B")="CB")*((INDIRECT($A6&"!I:I")="T+4Q"))) -> 0 | AS6: =SUMPRODUCT((INDIRECT($A6&"!B:B")="CC")*((INDIRECT($A6&"!I:I")="T+4Q"))) -> 0
A7: AF | B7: InventoryUnitAccessory | C7: 附属设备 | D7: ManagedElement | E7: =COUNTIF(AF!$B:$B,"A") -> 0 | F7: =COUNTIF(AF!$B:$B,"B") -> 0 | G7: =COUNTIF(AF!$B:$B,"C") -> 0 | H7: =COUNTIF(AF!$B:$B,"CA") -> 0 | I7: =COUNTIF(AF!$B:$B,"CB") -> 11 | J7: =COUNTIF(AF!$B:$B,"CC") -> 2 | K7: =SUM($E7:$J7) -> 13 | L7: PNF | M7: =SUMPRODUCT((INDIRECT($A7&"!B:B")="CA")*((INDIRECT($A7&"!I:I")="NA"))) -> 0 | N7: =SUMPRODUCT((INDIRECT($A7&"!B:B")="CB")*((INDIRECT($A7&"!I:I")="NA"))) -> 0 | O7: =SUMPRODUCT((INDIRECT($A7&"!B:B")="CC")*((INDIRECT($A7&"!I:I")="NA"))) -> 0 | P7: =SUMPRODUCT((INDIRECT($A7&"!B:B")="A")*((INDIRECT($A7&"!I:I")="T"))) -> 0 | Q7: =SUMPRODUCT((INDIRECT($A7&"!B:B")="B")*((INDIRECT($A7&"!I:I")="T"))) -> 0 | R7: =SUMPRODUCT((INDIRECT($A7&"!B:B")="C")*((INDIRECT($A7&"!I:I")="T"))) -> 0 | S7: =SUMPRODUCT((INDIRECT($A7&"!B:B")="CA")*((INDIRECT($A7&"!I:I")="T"))) -> 0 | T7: =SUMPRODUCT((INDIRECT($A7&"!B:B")="CB")*((INDIRECT($A7&"!I:I")="T"))) -> 0 | U7: =SUMPRODUCT((INDIRECT($A7&"!B:B")="CC")*((INDIRECT($A7&"!I:I")="T"))) -> 0 | V7: =SUMPRODUCT((INDIRECT($A7&"!B:B")="A")*((INDIRECT($A7&"!I:I")="T+1Q"))) -> 0 | W7: =SUMPRODUCT((INDIRECT($A7&"!B:B")="B")*((INDIRECT($A7&"!I:I")="T+1Q"))) -> 0 | X7: =SUMPRODUCT((INDIRECT($A7&"!B:B")="C")*((INDIRECT($A7&"!I:I")="T+1Q"))) -> 0 | Y7: =SUMPRODUCT((INDIRECT($A7&"!B:B")="CA")*((INDIRECT($A7&"!I:I")="T+1Q"))) -> 0 | Z7: =SUMPRODUCT((INDIRECT($A7&"!B:B")="CB")*((INDIRECT($A7&"!I:I")="T+1Q"))) -> 0 | AA7: =SUMPRODUCT((INDIRECT($A7&"!B:B")="CC")*((INDIRECT($A7&"!I:I")="T+1Q"))) -> 0 | AB7: =SUMPRODUCT((INDIRECT($A7&"!B:B")="A")*((INDIRECT($A7&"!I:I")="T+2Q"))) -> 0 | AC7: =SUMPRODUCT((INDIRECT($A7&"!B:B")="B")*((INDIRECT($A7&"!I:I")="T+2Q"))) -> 0 | AD7: =SUMPRODUCT((INDIRECT($A7&"!B:B")="C")*((INDIRECT($A7&"!I:I")="T+2Q"))) -> 0 | AE7: =SUMPRODUCT((INDIRECT($A7&"!B:B")="CA")*((INDIRECT($A7&"!I:I")="T+2Q"))) -> 0 | AF7: =SUMPRODUCT((INDIRECT($A7&"!B:B")="CB")*((INDIRECT($A7&"!I:I")="T+2Q"))) -> 0 | AG7: =SUMPRODUCT((INDIRECT($A7&"!B:B")="CC")*((INDIRECT($A7&"!I:I")="T+2Q"))) -> 0 | AH7: =SUMPRODUCT((INDIRECT($A7&"!B:B")="A")*((INDIRECT($A7&"!I:I")="T+3Q"))) -> 0 | AI7: =SUMPRODUCT((INDIRECT($A7&"!B:B")="B")*((INDIRECT($A7&"!I:I")="T+3Q"))) -> 0 | AJ7: =SUMPRODUCT((INDIRECT($A7&"!B:B")="C")*((INDIRECT($A7&"!I:I")="T+3Q"))) -> 0 | AK7: =SUMPRODUCT((INDIRECT($A7&"!B:B")="CA")*((INDIRECT($A7&"!I:I")="T+3Q"))) -> 0 | AL7: =SUMPRODUCT((INDIRECT($A7&"!B:B")="CB")*((INDIRECT($A7&"!I:I")="T+3Q"))) -> 0 | AM7: =SUMPRODUCT((INDIRECT($A7&"!B:B")="CC")*((INDIRECT($A7&"!I:I")="T+3Q"))) -> 0 | AN7: =SUMPRODUCT((INDIRECT($A7&"!B:B")="A")*((INDIRECT($A7&"!I:I")="T+4Q"))) -> 0 | AO7: =SUMPRODUCT((INDIRECT($A7&"!B:B")="B")*((INDIRECT($A7&"!I:I")="T+4Q"))) -> 0 | AP7: =SUMPRODUCT((INDIRECT($A7&"!B:B")="C")*((INDIRECT($A7&"!I:I")="T+4Q"))) -> 0 | AQ7: =SUMPRODUCT((INDIRECT($A7&"!B:B")="CA")*((INDIRECT($A7&"!I:I")="T+4Q"))) -> 0 | AR7: =SUMPRODUCT((INDIRECT($A7&"!B:B")="CB")*((INDIRECT($A7&"!I:I")="T+4Q"))) -> 0 | AS7: =SUMPRODUCT((INDIRECT($A7&"!B:B")="CC")*((INDIRECT($A7&"!I:I")="T+4Q"))) -> 0
A8: AG | B8: UpfFunction | C8: 用户面功能 | D8: ManagedElement | E8: =COUNTIF(AG!$B:$B,"A") -> 2 | F8: =COUNTIF(AG!$B:$B,"B") -> 4 | G8: =COUNTIF(AG!$B:$B,"C") -> 0 | H8: =COUNTIF(AG!$B:$B,"CA") -> 0 | I8: =COUNTIF(AG!$B:$B,"CB") -> 1 | J8: =COUNTIF(AG!$B:$B,"CC") -> 0 | K8: =SUM($E8:$J8) -> 7 | L8: PNF/VNF | M8: =SUMPRODUCT((INDIRECT($A8&"!B:B")="CA")*((INDIRECT($A8&"!I:I")="NA"))) -> 0 | N8: =SUMPRODUCT((INDIRECT($A8&"!B:B")="CB")*((INDIRECT($A8&"!I:I")="NA"))) -> 0 | O8: =SUMPRODUCT((INDIRECT($A8&"!B:B")="CC")*((INDIRECT($A8&"!I:I")="NA"))) -> 0 | P8: =SUMPRODUCT((INDIRECT($A8&"!B:B")="A")*((INDIRECT($A8&"!I:I")="T"))) -> 0 | Q8: =SUMPRODUCT((INDIRECT($A8&"!B:B")="B")*((INDIRECT($A8&"!I:I")="T"))) -> 0 | R8: =SUMPRODUCT((INDIRECT($A8&"!B:B")="C")*((INDIRECT($A8&"!I:I")="T"))) -> 0 | S8: =SUMPRODUCT((INDIRECT($A8&"!B:B")="CA")*((INDIRECT($A8&"!I:I")="T"))) -> 0 | T8: =SUMPRODUCT((INDIRECT($A8&"!B:B")="CB")*((INDIRECT($A8&"!I:I")="T"))) -> 0 | U8: =SUMPRODUCT((INDIRECT($A8&"!B:B")="CC")*((INDIRECT($A8&"!I:I")="T"))) -> 0 | V8: =SUMPRODUCT((INDIRECT($A8&"!B:B")="A")*((INDIRECT($A8&"!I:I")="T+1Q"))) -> 0 | W8: =SUMPRODUCT((INDIRECT($A8&"!B:B")="B")*((INDIRECT($A8&"!I:I")="T+1Q"))) -> 0 | X8: =SUMPRODUCT((INDIRECT($A8&"!B:B")="C")*((INDIRECT($A8&"!I:I")="T+1Q"))) -> 0 | Y8: =SUMPRODUCT((INDIRECT($A8&"!B:B")="CA")*((INDIRECT($A8&"!I:I")="T+1Q"))) -> 0 | Z8: =SUMPRODUCT((INDIRECT($A8&"!B:B")="CB")*((INDIRECT($A8&"!I:I")="T+1Q"))) -> 0 | AA8: =SUMPRODUCT((INDIRECT($A8&"!B:B")="CC")*((INDIRECT($A8&"!I:I")="T+1Q"))) -> 0 | AB8: =SUMPRODUCT((INDIRECT($A8&"!B:B")="A")*((INDIRECT($A8&"!I:I")="T+2Q"))) -> 0 | AC8: =SUMPRODUCT((INDIRECT($A8&"!B:B")="B")*((INDIRECT($A8&"!I:I")="T+2Q"))) -> 0 | AD8: =SUMPRODUCT((INDIRECT($A8&"!B:B")="C")*((INDIRECT($A8&"!I:I")="T+2Q"))) -> 0 | AE8: =SUMPRODUCT((INDIRECT($A8&"!B:B")="CA")*((INDIRECT($A8&"!I:I")="T+2Q"))) -> 0 | AF8: =SUMPRODUCT((INDIRECT($A8&"!B:B")="CB")*((INDIRECT($A8&"!I:I")="T+2Q"))) -> 0 | AG8: =SUMPRODUCT((INDIRECT($A8&"!B:B")="CC")*((INDIRECT($A8&"!I:I")="T+2Q"))) -> 0 | AH8: =SUMPRODUCT((INDIRECT($A8&"!B:B")="A")*((INDIRECT($A8&"!I:I")="T+3Q"))) -> 0 | AI8: =SUMPRODUCT((INDIRECT($A8&"!B:B")="B")*((INDIRECT($A8&"!I:I")="T+3Q"))) -> 0 | AJ8: =SUMPRODUCT((INDIRECT($A8&"!B:B")="C")*((INDIRECT($A8&"!I:I")="T+3Q"))) -> 0 | AK8: =SUMPRODUCT((INDIRECT($A8&"!B:B")="CA")*((INDIRECT($A8&"!I:I")="T+3Q"))) -> 0 | AL8: =SUMPRODUCT((INDIRECT($A8&"!B:B")="CB")*((INDIRECT($A8&"!I:I")="T+3Q"))) -> 0 | AM8: =SUMPRODUCT((INDIRECT($A8&"!B:B")="CC")*((INDIRECT($A8&"!I:I")="T+3Q"))) -> 0 | AN8: =SUMPRODUCT((INDIRECT($A8&"!B:B")="A")*((INDIRECT($A8&"!I:I")="T+4Q"))) -> 0 | AO8: =SUMPRODUCT((INDIRECT($A8&"!B:B")="B")*((INDIRECT($A8&"!I:I")="T+4Q"))) -> 0 | AP8: =SUMPRODUCT((INDIRECT($A8&"!B:B")="C")*((INDIRECT($A8&"!I:I")="T+4Q"))) -> 0 | AQ8: =SUMPRODUCT((INDIRECT($A8&"!B:B")="CA")*((INDIRECT($A8&"!I:I")="T+4Q"))) -> 0 | AR8: =SUMPRODUCT((INDIRECT($A8&"!B:B")="CB")*((INDIRECT($A8&"!I:I")="T+4Q"))) -> 0 | AS8: =SUMPRODUCT((INDIRECT($A8&"!B:B")="CC")*((INDIRECT($A8&"!I:I")="T+4Q"))) -> 0
A9: AH | B9: EpRpDynN9Upf | C9: 分局向的N9(UPF-UPF)接口 | D9: UpfFunction | E9: =COUNTIF(AH!$B:$B,"A") -> 0 | F9: =COUNTIF(AH!$B:$B,"B") -> 4 | G9: =COUNTIF(AH!$B:$B,"C") -> 0 | H9: =COUNTIF(AH!$B:$B,"CA") -> 0 | I9: =COUNTIF(AH!$B:$B,"CB") -> 0 | J9: =COUNTIF(AH!$B:$B,"CC") -> 0 | K9: =SUM($E9:$J9) -> 4 | L9: PNF/VNF | M9: =SUMPRODUCT((INDIRECT($A9&"!B:B")="CA")*((INDIRECT($A9&"!I:I")="NA"))) -> 0 | N9: =SUMPRODUCT((INDIRECT($A9&"!B:B")="CB")*((INDIRECT($A9&"!I:I")="NA"))) -> 0 | O9: =SUMPRODUCT((INDIRECT($A9&"!B:B")="CC")*((INDIRECT($A9&"!I:I")="NA"))) -> 0 | P9: =SUMPRODUCT((INDIRECT($A9&"!B:B")="A")*((INDIRECT($A9&"!I:I")="T"))) -> 0 | Q9: =SUMPRODUCT((INDIRECT($A9&"!B:B")="B")*((INDIRECT($A9&"!I:I")="T"))) -> 0 | R9: =SUMPRODUCT((INDIRECT($A9&"!B:B")="C")*((INDIRECT($A9&"!I:I")="T"))) -> 0 | S9: =SUMPRODUCT((INDIRECT($A9&"!B:B")="CA")*((INDIRECT($A9&"!I:I")="T"))) -> 0 | T9: =SUMPRODUCT((INDIRECT($A9&"!B:B")="CB")*((INDIRECT($A9&"!I:I")="T"))) -> 0 | U9: =SUMPRODUCT((INDIRECT($A9&"!B:B")="CC")*((INDIRECT($A9&"!I:I")="T"))) -> 0 | V9: =SUMPRODUCT((INDIRECT($A9&"!B:B")="A")*((INDIRECT($A9&"!I:I")="T+1Q"))) -> 0 | W9: =SUMPRODUCT((INDIRECT($A9&"!B:B")="B")*((INDIRECT($A9&"!I:I")="T+1Q"))) -> 0 | X9: =SUMPRODUCT((INDIRECT($A9&"!B:B")="C")*((INDIRECT($A9&"!I:I")="T+1Q"))) -> 0 | Y9: =SUMPRODUCT((INDIRECT($A9&"!B:B")="CA")*((INDIRECT($A9&"!I:I")="T+1Q"))) -> 0 | Z9: =SUMPRODUCT((INDIRECT($A9&"!B:B")="CB")*((INDIRECT($A9&"!I:I")="T+1Q"))) -> 0 | AA9: =SUMPRODUCT((INDIRECT($A9&"!B:B")="CC")*((INDIRECT($A9&"!I:I")="T+1Q"))) -> 0 | AB9: =SUMPRODUCT((INDIRECT($A9&"!B:B")="A")*((INDIRECT($A9&"!I:I")="T+2Q"))) -> 0 | AC9: =SUMPRODUCT((INDIRECT($A9&"!B:B")="B")*((INDIRECT($A9&"!I:I")="T+2Q"))) -> 0 | AD9: =SUMPRODUCT((INDIRECT($A9&"!B:B")="C")*((INDIRECT($A9&"!I:I")="T+2Q"))) -> 0 | AE9: =SUMPRODUCT((INDIRECT($A9&"!B:B")="CA")*((INDIRECT($A9&"!I:I")="T+2Q"))) -> 0 | AF9: =SUMPRODUCT((INDIRECT($A9&"!B:B")="CB")*((INDIRECT($A9&"!I:I")="T+2Q"))) -> 0 | AG9: =SUMPRODUCT((INDIRECT($A9&"!B:B")="CC")*((INDIRECT($A9&"!I:I")="T+2Q"))) -> 0 | AH9: =SUMPRODUCT((INDIRECT($A9&"!B:B")="A")*((INDIRECT($A9&"!I:I")="T+3Q"))) -> 0 | AI9: =SUMPRODUCT((INDIRECT($A9&"!B:B")="B")*((INDIRECT($A9&"!I:I")="T+3Q"))) -> 0 | AJ9: =SUMPRODUCT((INDIRECT($A9&"!B:B")="C")*((INDIRECT($A9&"!I:I")="T+3Q"))) -> 0 | AK9: =SUMPRODUCT((INDIRECT($A9&"!B:B")="CA")*((INDIRECT($A9&"!I:I")="T+3Q"))) -> 0 | AL9: =SUMPRODUCT((INDIRECT($A9&"!B:B")="CB")*((INDIRECT($A9&"!I:I")="T+3Q"))) -> 0 | AM9: =SUMPRODUCT((INDIRECT($A9&"!B:B")="CC")*((INDIRECT($A9&"!I:I")="T+3Q"))) -> 0 | AN9: =SUMPRODUCT((INDIRECT($A9&"!B:B")="A")*((INDIRECT($A9&"!I:I")="T+4Q"))) -> 0 | AO9: =SUMPRODUCT((INDIRECT($A9&"!B:B")="B")*((INDIRECT($A9&"!I:I")="T+4Q"))) -> 0 | AP9: =SUMPRODUCT((INDIRECT($A9&"!B:B")="C")*((INDIRECT($A9&"!I:I")="T+4Q"))) -> 0 | AQ9: =SUMPRODUCT((INDIRECT($A9&"!B:B")="CA")*((INDIRECT($A9&"!I:I")="T+4Q"))) -> 0 | AR9: =SUMPRODUCT((INDIRECT($A9&"!B:B")="CB")*((INDIRECT($A9&"!I:I")="T+4Q"))) -> 0 | AS9: =SUMPRODUCT((INDIRECT($A9&"!B:B")="CC")*((INDIRECT($A9&"!I:I")="T+4Q"))) -> 0
A10: AI | B10: EpRpDynN3Upf | C10: 分局向的N3(UPF-RAN)接口 | D10: UpfFunction | E10: =COUNTIF(AI!$B:$B,"A") -> 0 | F10: =COUNTIF(AI!$B:$B,"B") -> 4 | G10: =COUNTIF(AI!$B:$B,"C") -> 0 | H10: =COUNTIF(AI!$B:$B,"CA") -> 0 | I10: =COUNTIF(AI!$B:$B,"CB") -> 0 | J10: =COUNTIF(AI!$B:$B,"CC") -> 0 | K10: =SUM($E10:$J10) -> 4 | L10: PNF/VNF | M10: =SUMPRODUCT((INDIRECT($A10&"!B:B")="CA")*((INDIRECT($A10&"!I:I")="NA"))) -> 0 | N10: =SUMPRODUCT((INDIRECT($A10&"!B:B")="CB")*((INDIRECT($A10&"!I:I")="NA"))) -> 0 | O10: =SUMPRODUCT((INDIRECT($A10&"!B:B")="CC")*((INDIRECT($A10&"!I:I")="NA"))) -> 0 | P10: =SUMPRODUCT((INDIRECT($A10&"!B:B")="A")*((INDIRECT($A10&"!I:I")="T"))) -> 0 | Q10: =SUMPRODUCT((INDIRECT($A10&"!B:B")="B")*((INDIRECT($A10&"!I:I")="T"))) -> 0 | R10: =SUMPRODUCT((INDIRECT($A10&"!B:B")="C")*((INDIRECT($A10&"!I:I")="T"))) -> 0 | S10: =SUMPRODUCT((INDIRECT($A10&"!B:B")="CA")*((INDIRECT($A10&"!I:I")="T"))) -> 0 | T10: =SUMPRODUCT((INDIRECT($A10&"!B:B")="CB")*((INDIRECT($A10&"!I:I")="T"))) -> 0 | U10: =SUMPRODUCT((INDIRECT($A10&"!B:B")="CC")*((INDIRECT($A10&"!I:I")="T"))) -> 0 | V10: =SUMPRODUCT((INDIRECT($A10&"!B:B")="A")*((INDIRECT($A10&"!I:I")="T+1Q"))) -> 0 | W10: =SUMPRODUCT((INDIRECT($A10&"!B:B")="B")*((INDIRECT($A10&"!I:I")="T+1Q"))) -> 0 | X10: =SUMPRODUCT((INDIRECT($A10&"!B:B")="C")*((INDIRECT($A10&"!I:I")="T+1Q"))) -> 0 | Y10: =SUMPRODUCT((INDIRECT($A10&"!B:B")="CA")*((INDIRECT($A10&"!I:I")="T+1Q"))) -> 0 | Z10: =SUMPRODUCT((INDIRECT($A10&"!B:B")="CB")*((INDIRECT($A10&"!I:I")="T+1Q"))) -> 0 | AA10: =SUMPRODUCT((INDIRECT($A10&"!B:B")="CC")*((INDIRECT($A10&"!I:I")="T+1Q"))) -> 0 | AB10: =SUMPRODUCT((INDIRECT($A10&"!B:B")="A")*((INDIRECT($A10&"!I:I")="T+2Q"))) -> 0 | AC10: =SUMPRODUCT((INDIRECT($A10&"!B:B")="B")*((INDIRECT($A10&"!I:I")="T+2Q"))) -> 0 | AD10: =SUMPRODUCT((INDIRECT($A10&"!B:B")="C")*((INDIRECT($A10&"!I:I")="T+2Q"))) -> 0 | AE10: =SUMPRODUCT((INDIRECT($A10&"!B:B")="CA")*((INDIRECT($A10&"!I:I")="T+2Q"))) -> 0 | AF10: =SUMPRODUCT((INDIRECT($A10&"!B:B")="CB")*((INDIRECT($A10&"!I:I")="T+2Q"))) -> 0 | AG10: =SUMPRODUCT((INDIRECT($A10&"!B:B")="CC")*((INDIRECT($A10&"!I:I")="T+2Q"))) -> 0 | AH10: =SUMPRODUCT((INDIRECT($A10&"!B:B")="A")*((INDIRECT($A10&"!I:I")="T+3Q"))) -> 0 | AI10: =SUMPRODUCT((INDIRECT($A10&"!B:B")="B")*((INDIRECT($A10&"!I:I")="T+3Q"))) -> 0 | AJ10: =SUMPRODUCT((INDIRECT($A10&"!B:B")="C")*((INDIRECT($A10&"!I:I")="T+3Q"))) -> 0 | AK10: =SUMPRODUCT((INDIRECT($A10&"!B:B")="CA")*((INDIRECT($A10&"!I:I")="T+3Q"))) -> 0 | AL10: =SUMPRODUCT((INDIRECT($A10&"!B:B")="CB")*((INDIRECT($A10&"!I:I")="T+3Q"))) -> 0 | AM10: =SUMPRODUCT((INDIRECT($A10&"!B:B")="CC")*((INDIRECT($A10&"!I:I")="T+3Q"))) -> 0 | AN10: =SUMPRODUCT((INDIRECT($A10&"!B:B")="A")*((INDIRECT($A10&"!I:I")="T+4Q"))) -> 0 | AO10: =SUMPRODUCT((INDIRECT($A10&"!B:B")="B")*((INDIRECT($A10&"!I:I")="T+4Q"))) -> 0 | AP10: =SUMPRODUCT((INDIRECT($A10&"!B:B")="C")*((INDIRECT($A10&"!I:I")="T+4Q"))) -> 0 | AQ10: =SUMPRODUCT((INDIRECT($A10&"!B:B")="CA")*((INDIRECT($A10&"!I:I")="T+4Q"))) -> 0 | AR10: =SUMPRODUCT((INDIRECT($A10&"!B:B")="CB")*((INDIRECT($A10&"!I:I")="T+4Q"))) -> 0 | AS10: =SUMPRODUCT((INDIRECT($A10&"!B:B")="CC")*((INDIRECT($A10&"!I:I")="T+4Q"))) -> 0
A11: AJ | B11: AmfFunction | C11: UPF+场景下支持内置应急AMF功能涉及 | D11: ManagedElement | E11: =COUNTIF(AJ!$B:$B,"A") -> 0 | F11: =COUNTIF(AJ!$B:$B,"B") -> 0 | G11: =COUNTIF(AJ!$B:$B,"C") -> 0 | H11: =COUNTIF(AJ!$B:$B,"CA") -> 0 | I11: =COUNTIF(AJ!$B:$B,"CB") -> 6 | J11: =COUNTIF(AJ!$B:$B,"CC") -> 0 | K11: =SUM($E11:$J11) -> 6 | L11: PNF/VNF | M11: =SUMPRODUCT((INDIRECT($A11&"!B:B")="CA")*((INDIRECT($A11&"!I:I")="NA"))) -> 0 | N11: =SUMPRODUCT((INDIRECT($A11&"!B:B")="CB")*((INDIRECT($A11&"!I:I")="NA"))) -> 0 | O11: =SUMPRODUCT((INDIRECT($A11&"!B:B")="CC")*((INDIRECT($A11&"!I:I")="NA"))) -> 0 | P11: =SUMPRODUCT((INDIRECT($A11&"!B:B")="A")*((INDIRECT($A11&"!I:I")="T"))) -> 0 | Q11: =SUMPRODUCT((INDIRECT($A11&"!B:B")="B")*((INDIRECT($A11&"!I:I")="T"))) -> 0 | R11: =SUMPRODUCT((INDIRECT($A11&"!B:B")="C")*((INDIRECT($A11&"!I:I")="T"))) -> 0 | S11: =SUMPRODUCT((INDIRECT($A11&"!B:B")="CA")*((INDIRECT($A11&"!I:I")="T"))) -> 0 | T11: =SUMPRODUCT((INDIRECT($A11&"!B:B")="CB")*((INDIRECT($A11&"!I:I")="T"))) -> 0 | U11: =SUMPRODUCT((INDIRECT($A11&"!B:B")="CC")*((INDIRECT($A11&"!I:I")="T"))) -> 0 | V11: =SUMPRODUCT((INDIRECT($A11&"!B:B")="A")*((INDIRECT($A11&"!I:I")="T+1Q"))) -> 0 | W11: =SUMPRODUCT((INDIRECT($A11&"!B:B")="B")*((INDIRECT($A11&"!I:I")="T+1Q"))) -> 0 | X11: =SUMPRODUCT((INDIRECT($A11&"!B:B")="C")*((INDIRECT($A11&"!I:I")="T+1Q"))) -> 0 | Y11: =SUMPRODUCT((INDIRECT($A11&"!B:B")="CA")*((INDIRECT($A11&"!I:I")="T+1Q"))) -> 0 | Z11: =SUMPRODUCT((INDIRECT($A11&"!B:B")="CB")*((INDIRECT($A11&"!I:I")="T+1Q"))) -> 0 | AA11: =SUMPRODUCT((INDIRECT($A11&"!B:B")="CC")*((INDIRECT($A11&"!I:I")="T+1Q"))) -> 0 | AB11: =SUMPRODUCT((INDIRECT($A11&"!B:B")="A")*((INDIRECT($A11&"!I:I")="T+2Q"))) -> 0 | AC11: =SUMPRODUCT((INDIRECT($A11&"!B:B")="B")*((INDIRECT($A11&"!I:I")="T+2Q"))) -> 0 | AD11: =SUMPRODUCT((INDIRECT($A11&"!B:B")="C")*((INDIRECT($A11&"!I:I")="T+2Q"))) -> 0 | AE11: =SUMPRODUCT((INDIRECT($A11&"!B:B")="CA")*((INDIRECT($A11&"!I:I")="T+2Q"))) -> 0 | AF11: =SUMPRODUCT((INDIRECT($A11&"!B:B")="CB")*((INDIRECT($A11&"!I:I")="T+2Q"))) -> 0 | AG11: =SUMPRODUCT((INDIRECT($A11&"!B:B")="CC")*((INDIRECT($A11&"!I:I")="T+2Q"))) -> 0 | AH11: =SUMPRODUCT((INDIRECT($A11&"!B:B")="A")*((INDIRECT($A11&"!I:I")="T+3Q"))) -> 0 | AI11: =SUMPRODUCT((INDIRECT($A11&"!B:B")="B")*((INDIRECT($A11&"!I:I")="T+3Q"))) -> 0 | AJ11: =SUMPRODUCT((INDIRECT($A11&"!B:B")="C")*((INDIRECT($A11&"!I:I")="T+3Q"))) -> 0 | AK11: =SUMPRODUCT((INDIRECT($A11&"!B:B")="CA")*((INDIRECT($A11&"!I:I")="T+3Q"))) -> 0 | AL11: =SUMPRODUCT((INDIRECT($A11&"!B:B")="CB")*((INDIRECT($A11&"!I:I")="T+3Q"))) -> 0 | AM11: =SUMPRODUCT((INDIRECT($A11&"!B:B")="CC")*((INDIRECT($A11&"!I:I")="T+3Q"))) -> 0 | AN11: =SUMPRODUCT((INDIRECT($A11&"!B:B")="A")*((INDIRECT($A11&"!I:I")="T+4Q"))) -> 0 | AO11: =SUMPRODUCT((INDIRECT($A11&"!B:B")="B")*((INDIRECT($A11&"!I:I")="T+4Q"))) -> 0 | AP11: =SUMPRODUCT((INDIRECT($A11&"!B:B")="C")*((INDIRECT($A11&"!I:I")="T+4Q"))) -> 0 | AQ11: =SUMPRODUCT((INDIRECT($A11&"!B:B")="CA")*((INDIRECT($A11&"!I:I")="T+4Q"))) -> 0 | AR11: =SUMPRODUCT((INDIRECT($A11&"!B:B")="CB")*((INDIRECT($A11&"!I:I")="T+4Q"))) -> 0 | AS11: =SUMPRODUCT((INDIRECT($A11&"!B:B")="CC")*((INDIRECT($A11&"!I:I")="T+4Q"))) -> 0
A12: AK | B12: SmfFunction | C12: UPF+场景下支持内置应急SMF功能涉及 | D12: ManagedElement | E12: =COUNTIF(AK!$B:$B,"A") -> 0 | F12: =COUNTIF(AK!$B:$B,"B") -> 0 | G12: =COUNTIF(AK!$B:$B,"C") -> 0 | H12: =COUNTIF(AK!$B:$B,"CA") -> 0 | I12: =COUNTIF(AK!$B:$B,"CB") -> 6 | J12: =COUNTIF(AK!$B:$B,"CC") -> 0 | K12: =SUM($E12:$J12) -> 6 | L12: PNF/VNF | M12: =SUMPRODUCT((INDIRECT($A12&"!B:B")="CA")*((INDIRECT($A12&"!I:I")="NA"))) -> 0 | N12: =SUMPRODUCT((INDIRECT($A12&"!B:B")="CB")*((INDIRECT($A12&"!I:I")="NA"))) -> 0 | O12: =SUMPRODUCT((INDIRECT($A12&"!B:B")="CC")*((INDIRECT($A12&"!I:I")="NA"))) -> 0 | P12: =SUMPRODUCT((INDIRECT($A12&"!B:B")="A")*((INDIRECT($A12&"!I:I")="T"))) -> 0 | Q12: =SUMPRODUCT((INDIRECT($A12&"!B:B")="B")*((INDIRECT($A12&"!I:I")="T"))) -> 0 | R12: =SUMPRODUCT((INDIRECT($A12&"!B:B")="C")*((INDIRECT($A12&"!I:I")="T"))) -> 0 | S12: =SUMPRODUCT((INDIRECT($A12&"!B:B")="CA")*((INDIRECT($A12&"!I:I")="T"))) -> 0 | T12: =SUMPRODUCT((INDIRECT($A12&"!B:B")="CB")*((INDIRECT($A12&"!I:I")="T"))) -> 0 | U12: =SUMPRODUCT((INDIRECT($A12&"!B:B")="CC")*((INDIRECT($A12&"!I:I")="T"))) -> 0 | V12: =SUMPRODUCT((INDIRECT($A12&"!B:B")="A")*((INDIRECT($A12&"!I:I")="T+1Q"))) -> 0 | W12: =SUMPRODUCT((INDIRECT($A12&"!B:B")="B")*((INDIRECT($A12&"!I:I")="T+1Q"))) -> 0 | X12: =SUMPRODUCT((INDIRECT($A12&"!B:B")="C")*((INDIRECT($A12&"!I:I")="T+1Q"))) -> 0 | Y12: =SUMPRODUCT((INDIRECT($A12&"!B:B")="CA")*((INDIRECT($A12&"!I:I")="T+1Q"))) -> 0 | Z12: =SUMPRODUCT((INDIRECT($A12&"!B:B")="CB")*((INDIRECT($A12&"!I:I")="T+1Q"))) -> 0 | AA12: =SUMPRODUCT((INDIRECT($A12&"!B:B")="CC")*((INDIRECT($A12&"!I:I")="T+1Q"))) -> 0 | AB12: =SUMPRODUCT((INDIRECT($A12&"!B:B")="A")*((INDIRECT($A12&"!I:I")="T+2Q"))) -> 0 | AC12: =SUMPRODUCT((INDIRECT($A12&"!B:B")="B")*((INDIRECT($A12&"!I:I")="T+2Q"))) -> 0 | AD12: =SUMPRODUCT((INDIRECT($A12&"!B:B")="C")*((INDIRECT($A12&"!I:I")="T+2Q"))) -> 0 | AE12: =SUMPRODUCT((INDIRECT($A12&"!B:B")="CA")*((INDIRECT($A12&"!I:I")="T+2Q"))) -> 0 | AF12: =SUMPRODUCT((INDIRECT($A12&"!B:B")="CB")*((INDIRECT($A12&"!I:I")="T+2Q"))) -> 0 | AG12: =SUMPRODUCT((INDIRECT($A12&"!B:B")="CC")*((INDIRECT($A12&"!I:I")="T+2Q"))) -> 0 | AH12: =SUMPRODUCT((INDIRECT($A12&"!B:B")="A")*((INDIRECT($A12&"!I:I")="T+3Q"))) -> 0 | AI12: =SUMPRODUCT((INDIRECT($A12&"!B:B")="B")*((INDIRECT($A12&"!I:I")="T+3Q"))) -> 0 | AJ12: =SUMPRODUCT((INDIRECT($A12&"!B:B")="C")*((INDIRECT($A12&"!I:I")="T+3Q"))) -> 0 | AK12: =SUMPRODUCT((INDIRECT($A12&"!B:B")="CA")*((INDIRECT($A12&"!I:I")="T+3Q"))) -> 0 | AL12: =SUMPRODUCT((INDIRECT($A12&"!B:B")="CB")*((INDIRECT($A12&"!I:I")="T+3Q"))) -> 0 | AM12: =SUMPRODUCT((INDIRECT($A12&"!B:B")="CC")*((INDIRECT($A12&"!I:I")="T+3Q"))) -> 0 | AN12: =SUMPRODUCT((INDIRECT($A12&"!B:B")="A")*((INDIRECT($A12&"!I:I")="T+4Q"))) -> 0 | AO12: =SUMPRODUCT((INDIRECT($A12&"!B:B")="B")*((INDIRECT($A12&"!I:I")="T+4Q"))) -> 0 | AP12: =SUMPRODUCT((INDIRECT($A12&"!B:B")="C")*((INDIRECT($A12&"!I:I")="T+4Q"))) -> 0 | AQ12: =SUMPRODUCT((INDIRECT($A12&"!B:B")="CA")*((INDIRECT($A12&"!I:I")="T+4Q"))) -> 0 | AR12: =SUMPRODUCT((INDIRECT($A12&"!B:B")="CB")*((INDIRECT($A12&"!I:I")="T+4Q"))) -> 0 | AS12: =SUMPRODUCT((INDIRECT($A12&"!B:B")="CC")*((INDIRECT($A12&"!I:I")="T+4Q"))) -> 0
A13: AL | B13: UdrFunction | C13: UPF+场景下支持内置应急UDR功能涉及 | D13: ManagedElement | E13: =COUNTIF(AL!$B:$B,"A") -> 0 | F13: =COUNTIF(AL!$B:$B,"B") -> 0 | G13: =COUNTIF(AL!$B:$B,"C") -> 0 | H13: =COUNTIF(AL!$B:$B,"CA") -> 0 | I13: =COUNTIF(AL!$B:$B,"CB") -> 6 | J13: =COUNTIF(AL!$B:$B,"CC") -> 0 | K13: =SUM($E13:$J13) -> 6 | L13: PNF/VNF | M13: =SUMPRODUCT((INDIRECT($A13&"!B:B")="CA")*((INDIRECT($A13&"!I:I")="NA"))) -> 0 | N13: =SUMPRODUCT((INDIRECT($A13&"!B:B")="CB")*((INDIRECT($A13&"!I:I")="NA"))) -> 0 | O13: =SUMPRODUCT((INDIRECT($A13&"!B:B")="CC")*((INDIRECT($A13&"!I:I")="NA"))) -> 0 | P13: =SUMPRODUCT((INDIRECT($A13&"!B:B")="A")*((INDIRECT($A13&"!I:I")="T"))) -> 0 | Q13: =SUMPRODUCT((INDIRECT($A13&"!B:B")="B")*((INDIRECT($A13&"!I:I")="T"))) -> 0 | R13: =SUMPRODUCT((INDIRECT($A13&"!B:B")="C")*((INDIRECT($A13&"!I:I")="T"))) -> 0 | S13: =SUMPRODUCT((INDIRECT($A13&"!B:B")="CA")*((INDIRECT($A13&"!I:I")="T"))) -> 0 | T13: =SUMPRODUCT((INDIRECT($A13&"!B:B")="CB")*((INDIRECT($A13&"!I:I")="T"))) -> 0 | U13: =SUMPRODUCT((INDIRECT($A13&"!B:B")="CC")*((INDIRECT($A13&"!I:I")="T"))) -> 0 | V13: =SUMPRODUCT((INDIRECT($A13&"!B:B")="A")*((INDIRECT($A13&"!I:I")="T+1Q"))) -> 0 | W13: =SUMPRODUCT((INDIRECT($A13&"!B:B")="B")*((INDIRECT($A13&"!I:I")="T+1Q"))) -> 0 | X13: =SUMPRODUCT((INDIRECT($A13&"!B:B")="C")*((INDIRECT($A13&"!I:I")="T+1Q"))) -> 0 | Y13: =SUMPRODUCT((INDIRECT($A13&"!B:B")="CA")*((INDIRECT($A13&"!I:I")="T+1Q"))) -> 0 | Z13: =SUMPRODUCT((INDIRECT($A13&"!B:B")="CB")*((INDIRECT($A13&"!I:I")="T+1Q"))) -> 0 | AA13: =SUMPRODUCT((INDIRECT($A13&"!B:B")="CC")*((INDIRECT($A13&"!I:I")="T+1Q"))) -> 0 | AB13: =SUMPRODUCT((INDIRECT($A13&"!B:B")="A")*((INDIRECT($A13&"!I:I")="T+2Q"))) -> 0 | AC13: =SUMPRODUCT((INDIRECT($A13&"!B:B")="B")*((INDIRECT($A13&"!I:I")="T+2Q"))) -> 0 | AD13: =SUMPRODUCT((INDIRECT($A13&"!B:B")="C")*((INDIRECT($A13&"!I:I")="T+2Q"))) -> 0 | AE13: =SUMPRODUCT((INDIRECT($A13&"!B:B")="CA")*((INDIRECT($A13&"!I:I")="T+2Q"))) -> 0 | AF13: =SUMPRODUCT((INDIRECT($A13&"!B:B")="CB")*((INDIRECT($A13&"!I:I")="T+2Q"))) -> 0 | AG13: =SUMPRODUCT((INDIRECT($A13&"!B:B")="CC")*((INDIRECT($A13&"!I:I")="T+2Q"))) -> 0 | AH13: =SUMPRODUCT((INDIRECT($A13&"!B:B")="A")*((INDIRECT($A13&"!I:I")="T+3Q"))) -> 0 | AI13: =SUMPRODUCT((INDIRECT($A13&"!B:B")="B")*((INDIRECT($A13&"!I:I")="T+3Q"))) -> 0 | AJ13: =SUMPRODUCT((INDIRECT($A13&"!B:B")="C")*((INDIRECT($A13&"!I:I")="T+3Q"))) -> 0 | AK13: =SUMPRODUCT((INDIRECT($A13&"!B:B")="CA")*((INDIRECT($A13&"!I:I")="T+3Q"))) -> 0 | AL13: =SUMPRODUCT((INDIRECT($A13&"!B:B")="CB")*((INDIRECT($A13&"!I:I")="T+3Q"))) -> 0 | AM13: =SUMPRODUCT((INDIRECT($A13&"!B:B")="CC")*((INDIRECT($A13&"!I:I")="T+3Q"))) -> 0 | AN13: =SUMPRODUCT((INDIRECT($A13&"!B:B")="A")*((INDIRECT($A13&"!I:I")="T+4Q"))) -> 0 | AO13: =SUMPRODUCT((INDIRECT($A13&"!B:B")="B")*((INDIRECT($A13&"!I:I")="T+4Q"))) -> 0 | AP13: =SUMPRODUCT((INDIRECT($A13&"!B:B")="C")*((INDIRECT($A13&"!I:I")="T+4Q"))) -> 0 | AQ13: =SUMPRODUCT((INDIRECT($A13&"!B:B")="CA")*((INDIRECT($A13&"!I:I")="T+4Q"))) -> 0 | AR13: =SUMPRODUCT((INDIRECT($A13&"!B:B")="CB")*((INDIRECT($A13&"!I:I")="T+4Q"))) -> 0 | AS13: =SUMPRODUCT((INDIRECT($A13&"!B:B")="CC")*((INDIRECT($A13&"!I:I")="T+4Q"))) -> 0
A14: AM | B14: AusfFunction | C14: UPF+场景下支持内置应急Ausf功能涉及 | D14: ManagedElement | E14: =COUNTIF(AM!$B:$B,"A") -> 0 | F14: =COUNTIF(AM!$B:$B,"B") -> 0 | G14: =COUNTIF(AM!$B:$B,"C") -> 0 | H14: =COUNTIF(AM!$B:$B,"CA") -> 0 | I14: =COUNTIF(AM!$B:$B,"CB") -> 6 | J14: =COUNTIF(AM!$B:$B,"CC") -> 0 | K14: =SUM($E14:$J14) -> 6 | L14: PNF/VNF | M14: =SUMPRODUCT((INDIRECT($A14&"!B:B")="CA")*((INDIRECT($A14&"!I:I")="NA"))) -> 0 | N14: =SUMPRODUCT((INDIRECT($A14&"!B:B")="CB")*((INDIRECT($A14&"!I:I")="NA"))) -> 0 | O14: =SUMPRODUCT((INDIRECT($A14&"!B:B")="CC")*((INDIRECT($A14&"!I:I")="NA"))) -> 0 | P14: =SUMPRODUCT((INDIRECT($A14&"!B:B")="A")*((INDIRECT($A14&"!I:I")="T"))) -> 0 | Q14: =SUMPRODUCT((INDIRECT($A14&"!B:B")="B")*((INDIRECT($A14&"!I:I")="T"))) -> 0 | R14: =SUMPRODUCT((INDIRECT($A14&"!B:B")="C")*((INDIRECT($A14&"!I:I")="T"))) -> 0 | S14: =SUMPRODUCT((INDIRECT($A14&"!B:B")="CA")*((INDIRECT($A14&"!I:I")="T"))) -> 0 | T14: =SUMPRODUCT((INDIRECT($A14&"!B:B")="CB")*((INDIRECT($A14&"!I:I")="T"))) -> 0 | U14: =SUMPRODUCT((INDIRECT($A14&"!B:B")="CC")*((INDIRECT($A14&"!I:I")="T"))) -> 0 | V14: =SUMPRODUCT((INDIRECT($A14&"!B:B")="A")*((INDIRECT($A14&"!I:I")="T+1Q"))) -> 0 | W14: =SUMPRODUCT((INDIRECT($A14&"!B:B")="B")*((INDIRECT($A14&"!I:I")="T+1Q"))) -> 0 | X14: =SUMPRODUCT((INDIRECT($A14&"!B:B")="C")*((INDIRECT($A14&"!I:I")="T+1Q"))) -> 0 | Y14: =SUMPRODUCT((INDIRECT($A14&"!B:B")="CA")*((INDIRECT($A14&"!I:I")="T+1Q"))) -> 0 | Z14: =SUMPRODUCT((INDIRECT($A14&"!B:B")="CB")*((INDIRECT($A14&"!I:I")="T+1Q"))) -> 0 | AA14: =SUMPRODUCT((INDIRECT($A14&"!B:B")="CC")*((INDIRECT($A14&"!I:I")="T+1Q"))) -> 0 | AB14: =SUMPRODUCT((INDIRECT($A14&"!B:B")="A")*((INDIRECT($A14&"!I:I")="T+2Q"))) -> 0 | AC14: =SUMPRODUCT((INDIRECT($A14&"!B:B")="B")*((INDIRECT($A14&"!I:I")="T+2Q"))) -> 0 | AD14: =SUMPRODUCT((INDIRECT($A14&"!B:B")="C")*((INDIRECT($A14&"!I:I")="T+2Q"))) -> 0 | AE14: =SUMPRODUCT((INDIRECT($A14&"!B:B")="CA")*((INDIRECT($A14&"!I:I")="T+2Q"))) -> 0 | AF14: =SUMPRODUCT((INDIRECT($A14&"!B:B")="CB")*((INDIRECT($A14&"!I:I")="T+2Q"))) -> 0 | AG14: =SUMPRODUCT((INDIRECT($A14&"!B:B")="CC")*((INDIRECT($A14&"!I:I")="T+2Q"))) -> 0 | AH14: =SUMPRODUCT((INDIRECT($A14&"!B:B")="A")*((INDIRECT($A14&"!I:I")="T+3Q"))) -> 0 | AI14: =SUMPRODUCT((INDIRECT($A14&"!B:B")="B")*((INDIRECT($A14&"!I:I")="T+3Q"))) -> 0 | AJ14: =SUMPRODUCT((INDIRECT($A14&"!B:B")="C")*((INDIRECT($A14&"!I:I")="T+3Q"))) -> 0 | AK14: =SUMPRODUCT((INDIRECT($A14&"!B:B")="CA")*((INDIRECT($A14&"!I:I")="T+3Q"))) -> 0 | AL14: =SUMPRODUCT((INDIRECT($A14&"!B:B")="CB")*((INDIRECT($A14&"!I:I")="T+3Q"))) -> 0 | AM14: =SUMPRODUCT((INDIRECT($A14&"!B:B")="CC")*((INDIRECT($A14&"!I:I")="T+3Q"))) -> 0 | AN14: =SUMPRODUCT((INDIRECT($A14&"!B:B")="A")*((INDIRECT($A14&"!I:I")="T+4Q"))) -> 0 | AO14: =SUMPRODUCT((INDIRECT($A14&"!B:B")="B")*((INDIRECT($A14&"!I:I")="T+4Q"))) -> 0 | AP14: =SUMPRODUCT((INDIRECT($A14&"!B:B")="C")*((INDIRECT($A14&"!I:I")="T+4Q"))) -> 0 | AQ14: =SUMPRODUCT((INDIRECT($A14&"!B:B")="CA")*((INDIRECT($A14&"!I:I")="T+4Q"))) -> 0 | AR14: =SUMPRODUCT((INDIRECT($A14&"!B:B")="CB")*((INDIRECT($A14&"!I:I")="T+4Q"))) -> 0 | AS14: =SUMPRODUCT((INDIRECT($A14&"!B:B")="CC")*((INDIRECT($A14&"!I:I")="T+4Q"))) -> 0
A15: AN | B15: IPResource | C15: 分接口类型的IP地址 | D15: ManagedElement | E15: =COUNTIF(AN!$B:$B,"A") -> 0 | F15: =COUNTIF(AN!$B:$B,"B") -> 5 | G15: =COUNTIF(AN!$B:$B,"C") -> 0 | H15: =COUNTIF(AN!$B:$B,"CA") -> 0 | I15: =COUNTIF(AN!$B:$B,"CB") -> 0 | J15: =COUNTIF(AN!$B:$B,"CC") -> 0 | K15: =SUM($E15:$J15) -> 5 | L15: PNF/VNF | M15: =SUMPRODUCT((INDIRECT($A15&"!B:B")="CA")*((INDIRECT($A15&"!I:I")="NA"))) -> 0 | N15: =SUMPRODUCT((INDIRECT($A15&"!B:B")="CB")*((INDIRECT($A15&"!I:I")="NA"))) -> 0 | O15: =SUMPRODUCT((INDIRECT($A15&"!B:B")="CC")*((INDIRECT($A15&"!I:I")="NA"))) -> 0 | P15: =SUMPRODUCT((INDIRECT($A15&"!B:B")="A")*((INDIRECT($A15&"!I:I")="T"))) -> 0 | Q15: =SUMPRODUCT((INDIRECT($A15&"!B:B")="B")*((INDIRECT($A15&"!I:I")="T"))) -> 0 | R15: =SUMPRODUCT((INDIRECT($A15&"!B:B")="C")*((INDIRECT($A15&"!I:I")="T"))) -> 0 | S15: =SUMPRODUCT((INDIRECT($A15&"!B:B")="CA")*((INDIRECT($A15&"!I:I")="T"))) -> 0 | T15: =SUMPRODUCT((INDIRECT($A15&"!B:B")="CB")*((INDIRECT($A15&"!I:I")="T"))) -> 0 | U15: =SUMPRODUCT((INDIRECT($A15&"!B:B")="CC")*((INDIRECT($A15&"!I:I")="T"))) -> 0 | V15: =SUMPRODUCT((INDIRECT($A15&"!B:B")="A")*((INDIRECT($A15&"!I:I")="T+1Q"))) -> 0 | W15: =SUMPRODUCT((INDIRECT($A15&"!B:B")="B")*((INDIRECT($A15&"!I:I")="T+1Q"))) -> 0 | X15: =SUMPRODUCT((INDIRECT($A15&"!B:B")="C")*((INDIRECT($A15&"!I:I")="T+1Q"))) -> 0 | Y15: =SUMPRODUCT((INDIRECT($A15&"!B:B")="CA")*((INDIRECT($A15&"!I:I")="T+1Q"))) -> 0 | Z15: =SUMPRODUCT((INDIRECT($A15&"!B:B")="CB")*((INDIRECT($A15&"!I:I")="T+1Q"))) -> 0 | AA15: =SUMPRODUCT((INDIRECT($A15&"!B:B")="CC")*((INDIRECT($A15&"!I:I")="T+1Q"))) -> 0 | AB15: =SUMPRODUCT((INDIRECT($A15&"!B:B")="A")*((INDIRECT($A15&"!I:I")="T+2Q"))) -> 0 | AC15: =SUMPRODUCT((INDIRECT($A15&"!B:B")="B")*((INDIRECT($A15&"!I:I")="T+2Q"))) -> 0 | AD15: =SUMPRODUCT((INDIRECT($A15&"!B:B")="C")*((INDIRECT($A15&"!I:I")="T+2Q"))) -> 0 | AE15: =SUMPRODUCT((INDIRECT($A15&"!B:B")="CA")*((INDIRECT($A15&"!I:I")="T+2Q"))) -> 0 | AF15: =SUMPRODUCT((INDIRECT($A15&"!B:B")="CB")*((INDIRECT($A15&"!I:I")="T+2Q"))) -> 0 | AG15: =SUMPRODUCT((INDIRECT($A15&"!B:B")="CC")*((INDIRECT($A15&"!I:I")="T+2Q"))) -> 0 | AH15: =SUMPRODUCT((INDIRECT($A15&"!B:B")="A")*((INDIRECT($A15&"!I:I")="T+3Q"))) -> 0 | AI15: =SUMPRODUCT((INDIRECT($A15&"!B:B")="B")*((INDIRECT($A15&"!I:I")="T+3Q"))) -> 0 | AJ15: =SUMPRODUCT((INDIRECT($A15&"!B:B")="C")*((INDIRECT($A15&"!I:I")="T+3Q"))) -> 0 | AK15: =SUMPRODUCT((INDIRECT($A15&"!B:B")="CA")*((INDIRECT($A15&"!I:I")="T+3Q"))) -> 0 | AL15: =SUMPRODUCT((INDIRECT($A15&"!B:B")="CB")*((INDIRECT($A15&"!I:I")="T+3Q"))) -> 0 | AM15: =SUMPRODUCT((INDIRECT($A15&"!B:B")="CC")*((INDIRECT($A15&"!I:I")="T+3Q"))) -> 0 | AN15: =SUMPRODUCT((INDIRECT($A15&"!B:B")="A")*((INDIRECT($A15&"!I:I")="T+4Q"))) -> 0 | AO15: =SUMPRODUCT((INDIRECT($A15&"!B:B")="B")*((INDIRECT($A15&"!I:I")="T+4Q"))) -> 0 | AP15: =SUMPRODUCT((INDIRECT($A15&"!B:B")="C")*((INDIRECT($A15&"!I:I")="T+4Q"))) -> 0 | AQ15: =SUMPRODUCT((INDIRECT($A15&"!B:B")="CA")*((INDIRECT($A15&"!I:I")="T+4Q"))) -> 0 | AR15: =SUMPRODUCT((INDIRECT($A15&"!B:B")="CB")*((INDIRECT($A15&"!I:I")="T+4Q"))) -> 0 | AS15: =SUMPRODUCT((INDIRECT($A15&"!B:B")="CC")*((INDIRECT($A15&"!I:I")="T+4Q"))) -> 0
A16: 合计 | E16: =SUM(E2:E15) -> 3 | F16: =SUM(F2:F15) -> 25 | G16: =SUM(G2:G15) -> 0 | H16: =SUM(H2:H15) -> 0 | I16: =SUM(I2:I15) -> 80 | J16: =SUM(J2:J15) -> 10 | K16: =SUM(K2:K15) -> 118 | M16: =SUM(M1:M15) -> 0 | N16: =SUM(N1:N15) -> 0 | O16: =SUM(O1:O15) -> 0 | P16: =SUM(P1:P15) -> 0 | Q16: =SUM(Q1:Q15) -> 0 | R16: =SUM(R1:R15) -> 0 | S16: =SUM(S1:S15) -> 0 | T16: =SUM(T1:T15) -> 0 | ... AS16: =SUM(AS1:AS15) -> 0
A18: 总体说明 1、本规范同时适用于物理网元和虚拟网元 2、Index页签中适用范围为PNF，则该IOC仅适用于物理网元；若适用范围为PNF/VNF，则该IOC既适用于物理网元也适用于虚拟化网元。 3、各个对象的属性适用范围为VNF，则对于物理网元，上报NIL。适用范围为PNF，则对于虚拟网元，上报NIL。适用范围为空，则表示此属性物理网元和虚拟网元都适用。

Sheet AA
A1: 属性编码 | B1: 重要度 | C1: 英文名称 | D1: 中文名称 | E1: 定义 | F1: 数据类型 | G1: 单位 | H1: 备注 | I1: 支持时间
A2: UPFAA01 | B2: B | C2: Id | D2: 标识符 | E2: 网元标识，只在OMC范围内有效 | F2: 字符串 | H2: 继承自TOP
A3: UPFAA02 | B3: B | C3: UserLabel | D3: 用户友好名 | E3: 网元名称，根据运营商的网元命名规则设定。 | F3: 字符串 | H3: 继承自TOP
A4: UPFAA03 | B4: B | C4: VendorName | D4: 厂商名称 | E4: 厂商名称 | F4: 字符串
A5: UPFAA04 | B5: B | C5: ManagedBy | D5: 管理节点 | E5: 管理ManagedElement的ManagementNode对象类的DN值 | F5: 字符串
A6: UPFAA05 | B6: B | C6: ManagementIpAddress | D6: 网管接口IP地址列表 | E6: 网管接口IP地址列表 如支持IPV4V6，IPV4和IPV6都要呈现 | F6: 字符串列表
A7: UPFAA06 | B7: A | C7: SwVersion | D7: 软件版本 | E7: 网元的软件版本 | F7: 字符串
A8: UPFAA07 | B8: B | C8: PatchInfo | D8: 补丁信息 | E8: 补丁信息,用于表示当前网元加载的补丁名称列表。 | F8: 字符串列表
A9: UPFAA08 | B9: B | C9: AdministrativeState | D9: 管理状态 | E9: 管理的状态，取值范围为{Locked，Unlocked，ShuttingDown} | F9: 枚举
A10: UPFAA09 | B10: B | C10: OperationalState | D10: 运行状态 | E10: 运行的状态，取值范围为{Disabled, Enabled} | F10: 枚举
A11: UPFAA10 | B11: CB | C11: LocationName | D11: 位置名称 | E11: 如指明该设备所处的具体房间 | F11: 字符串 | H11: 适用于PNF
A12: UPFAA11 | B12: CB | C12: HardwarePlatform | D12: 硬件平台 | E12: 硬件平台 | F12: 字符串 | H12: 适用于PNF

Sheet AB
A1: 属性编码 | B1: 重要度 | C1: 英文名称 | D1: 中文名称 | E1: 定义 | F1: 数据类型 | G1: 单位 | H1: 备注 | I1: 支持时间
A2: UPFAB01 | B2: CB | C2: Id | D2: 标识符 | E2: 命名属性 | F2: 字符串 | H2: 适用于PNF； 继承自TOP
A3: UPFAB02 | B3: CB | C3: UserLabel | D3: 用户友好名 | E3: 用户友好名，由EMS厂商自己指定，做为其内部标识，并可被NMS修改。 | F3: 字符串 | H3: 适用于PNF； 继承自TOP
A4: UPFAB03 | B4: CB | C4: VendorUnitFamilyType | D4: 归属类型 | E4: 由供应商提供的便于记忆的资产单元的归属类型 | F4: 字符串 | H4: 适用于PNF； 继承自InventoryUnit
A5: UPFAB04 | B5: CB | C5: VendorUnitTypeNumber | D5: 资产单元类型版本号 | E5: 由供应商提供的可唯一识别资产单元类型及版本的号码 | F5: 字符串 | H5: 适用于PNF； 继承自InventoryUnit
A6: UPFAB05 | B6: CB | C6: VendorName | D6: 供应商名称 | E6: 供应商名称 | F6: 字符串 | H6: 适用于PNF； 继承自InventoryUnit
A7: UPFAB06 | B7: CB | C7: SerialNumber | D7: 资产序列号 | E7: 资产序列号 | F7: 字符串 | H7: 适用于PNF； 继承自InventoryUnit
A8: UPFAB07 | B8: CC | C8: VersionNumber | D8: 资产版本号 | E8: 与VendorUnitTypeNumber相关的版本信息 | F8: 字符串 | H8: 适用于PNF； 继承自InventoryUnit
A9: UPFAB08 | B9: CB | C9: DateOfManufacture | D9: 生产日期 | E9: 生产日期 | F9: 日期 | H9: 适用于PNF； 继承自InventoryUnit
A10: UPFAB09 | B10: CB | C10: DateOfLastService | D10: 最近服务日期 | E10: 最近服务的日期（最近一次恢复工作正常状态的时间） | F10: 日期 | H10: 适用于PNF； 继承自InventoryUnit
A11: UPFAB10 | B11: CC | C11: ManufacturerData | D11: 特殊信息 | E11: 设备商填写的特殊信息 | F11: 字符串 | H11: 适用于PNF； 继承自InventoryUnit
A12: UPFAB11 | B12: CB | C12: RackPosition | D12: 机架位置 | E12: 机架编号，通常有两种表示方法： （1） 行号-机架号：即该机架位于第几行的第几个。在这种情况下，机房内的机架先按行区分，机架号表示在行内的相对位置。 （2） 机架号：即机房内的机架统一编号，不用行来区分。 | F12: 字符串 | H12: 适用于PNF

Sheet AC
A1: 属性编码 | B1: 重要度 | C1: 英文名称 | D1: 中文名称 | E1: 定义 | F1: 数据类型 | G1: 单位 | H1: 备注 | I1: 支持时间
A2: UPFAC01 | B2: CB | C2: Id | D2: 标识符 | E2: 命名属性 | F2: 字符串 | H2: 适用于PNF； 继承自TOP
A3: UPFAC02 | B3: CB | C3: UserLabel | D3: 用户友好名 | E3: 用户友好名，由EMS厂商自己指定，做为其内部标识，并可被NMS修改。 | F3: 字符串 | H3: 适用于PNF； 继承自TOP
A4: UPFAC03 | B4: CB | C4: VendorUnitFamilyType | D4: 归属类型 | E4: 由供应商提供的便于记忆的资产单元的归属类型 | F4: 字符串 | H4: 适用于PNF； 继承自InventoryUnit
A5: UPFAC04 | B5: CB | C5: VendorUnitTypeNumber | D5: 资产单元类型版本号 | E5: 由供应商提供的可唯一识别资产单元类型及版本的号码 | F5: 字符串 | H5: 适用于PNF； 继承自InventoryUnit
A6: UPFAC05 | B6: CB | C6: VendorName | D6: 供应商名称 | E6: 供应商名称 | F6: 字符串 | H6: 适用于PNF； 继承自InventoryUnit
A7: UPFAC06 | B7: CB | C7: SerialNumber | D7: 资产序列号 | E7: 资产序列号 | F7: 字符串 | H7: 适用于PNF； 继承自InventoryUnit
A8: UPFAC07 | B8: CC | C8: VersionNumber | D8: 资产版本号 | E8: 与VendorUnitTypeNumber相关的版本信息 | F8: 字符串 | H8: 适用于PNF； 继承自InventoryUnit
A9: UPFAC08 | B9: CB | C9: DateOfManufacture | D9: 生产日期 | E9: 生产日期 | F9: 日期 | H9: 适用于PNF； 继承自InventoryUnit
A10: UPFAC09 | B10: CB | C10: DateOfLastService | D10: 最近服务日期 | E10: 最近服务的日期（最近一次恢复工作正常状态的时间） | F10: 日期 | H10: 适用于PNF； 继承自InventoryUnit
A11: UPFAC10 | B11: CC | C11: ManufacturerData | D11: 特殊信息 | E11: 设备商填写的特殊信息 | F11: 字符串 | H11: 适用于PNF； 继承自InventoryUnit
A12: UPFAC11 | B12: CB | C12: SlotsInformation | D12: 插槽信息 | E12: 框内所有插槽、描述及占用状态。List of Struct{槽位号（字符串），描述(字符串)，占用状态（枚举)}。其中其中描述信息由厂家自行决定，占用状态为枚举{Unused,Used} | F12: 结构列表 | H12: 适用于PNF
A13: UPFAC12 | B13: CB | C13: ShelfPosition | D13: 机框位置 | E13: 1) 如果机框位于的机架也可以通过OMC进行管理，则“机框位置”的形式应为机框在机架内的相对位置 2）如果机框位于第三方机架内，即机架不可以通过OMC管理，机框位置的形式应为“机架号-机框在机架内的相对位置” | F13: 字符串 | H13: 适用于PNF

Sheet AD
A1: 属性编码 | B1: 重要度 | C1: 英文名称 | D1: 中文名称 | E1: 定义 | F1: 数据类型 | G1: 单位 | H1: 备注 | I1: 支持时间
A2: UPFAD01 | B2: CB | C2: Id | D2: 标识符 | E2: 命名属性 | F2: 字符串 | H2: 适用于PNF； 继承自TOP
A3: UPFAD02 | B3: CB | C3: UserLabel | D3: 用户友好名 | E3: 用户友好名，由EMS厂商自己指定，做为其内部标识，并可被NMS修改。 | F3: 字符串 | H3: 适用于PNF； 继承自TOP
A4: UPFAD03 | B4: CB | C4: VendorUnitFamilyType | D4: 归属类型 | E4: 由供应商提供的便于记忆的资产单元的归属类型 | F4: 字符串 | H4: 适用于PNF； 继承自InventoryUnit
A5: UPFAD04 | B5: CB | C5: VendorUnitTypeNumber | D5: 资产单元类型版本号 | E5: 由供应商提供的可唯一识别资产单元类型及版本的号码 | F5: 字符串 | H5: 适用于PNF； 继承自InventoryUnit
A6: UPFAD05 | B6: CB | C6: VendorName | D6: 供应商名称 | E6: 供应商名称 | F6: 字符串 | H6: 适用于PNF； 继承自InventoryUnit
A7: UPFAD06 | B7: CB | C7: SerialNumber | D7: 资产序列号 | E7: 资产序列号 | F7: 字符串 | H7: 适用于PNF； 继承自InventoryUnit
A8: UPFAD07 | B8: CC | C8: VersionNumber | D8: 资产版本号 | E8: 与VendorUnitTypeNumber相关的版本信息 | F8: 字符串 | H8: 适用于PNF； 继承自InventoryUnit
A9: UPFAD08 | B9: CB | C9: DateOfManufacture | D9: 生产日期 | E9: 生产日期 | F9: 日期 | H9: 适用于PNF； 继承自InventoryUnit
A10: UPFAD09 | B10: CB | C10: DateOfLastService | D10: 最近服务日期 | E10: 最近服务的日期（最近一次恢复工作正常状态的时间） | F10: 日期 | H10: 适用于PNF； 继承自InventoryUnit
A11: UPFAD10 | B11: CC | C11: ManufacturerData | D11: 特殊信息 | E11: 设备商填写的特殊信息 | F11: 字符串 | H11: 适用于PNF； 继承自InventoryUnit
A12: UPFAD11 | B12: CB | C12: PortsInformation | D12: 端口信息 | E12: 单板包含的所有端口、描述及占用状态。List of Struct{ 端口Id(字符串），描述(字符串)，占用状态（枚举）}。其中占用状态的取值为{Unused,Used}，描述信息由设备厂家自行决定。 | F12: 结构列表 | H12: 适用于PNF
A13: UPFAD12 | B13: CB | C13: PackPosition | D13: 板卡位置 | E13: 板卡在机框内的相对位置，通常用编号表示。 | F13: 字符串 | H13: 适用于PNF
A14: UPFAD13 | B14: CB | C14: SlotsOccupied | D14: 占用槽位 | E14: 应表示板卡占用的槽位号列表。（注：一些板卡较宽，可能会占用两个或以上槽位） | F14: 字符串列表 | H14: 适用于PNF

Sheet AE
A1: 属性编码 | B1: 重要度 | C1: 英文名称 | D1: 中文名称 | E1: 定义 | F1: 数据类型 | G1: 单位 | H1: 备注 | I1: 支持时间
A2: PGWAE01 | B2: CB | C2: Id | D2: 标识符 | E2: 命名属性 | F2: 字符串 | H2: 适用于PNF； 继承自TOP
A3: PGWAE02 | B3: CB | C3: UserLabel | D3: 用户友好名 | E3: 用户友好名，由EMS厂商自己指定，做为其内部标识，并可被NMS修改。 | F3: 字符串 | H3: 适用于PNF； 继承自TOP
A4: PGWAE03 | B4: CB | C4: VendorUnitFamilyType | D4: 归属类型 | E4: 由供应商提供的便于记忆的资产单元的归属类型 | F4: 字符串 | H4: 适用于PNF； 继承自InventoryUnit
A5: PGWAE04 | B5: CB | C5: VendorUnitTypeNumber | D5: 资产单元类型版本号 | E5: 由供应商提供的可唯一识别资产单元类型及版本的号码 | F5: 字符串 | H5: 适用于PNF； 继承自InventoryUnit
A6: PGWAE05 | B6: CB | C6: VendorName | D6: 供应商名称 | E6: 供应商名称 | F6: 字符串 | H6: 适用于PNF； 继承自InventoryUnit
A7: PGWAE06 | B7: CB | C7: SerialNumber | D7: 资产序列号 | E7: 资产序列号 | F7: 字符串 | H7: 适用于PNF； 继承自InventoryUnit
A8: PGWAE07 | B8: CC | C8: VersionNumber | D8: 资产版本号 | E8: 与VendorUnitTypeNumber相关的版本信息 | F8: 字符串 | H8: 适用于PNF； 继承自InventoryUnit
A9: PGWAE08 | B9: CB | C9: DateOfManufacture | D9: 生产日期 | E9: 生产日期 | F9: 日期 | H9: 适用于PNF； 继承自InventoryUnit
A10: PGWAE09 | B10: CB | C10: DateOfLastService | D10: 最近服务日期 | E10: 最近服务的日期（最近一次恢复工作正常状态的时间） | F10: 日期 | H10: 适用于PNF； 继承自InventoryUnit
A11: PGWAE10 | B11: CC | C11: ManufacturerData | D11: 特殊信息 | E11: 设备商填写的特殊信息 | F11: 字符串 | H11: 适用于PNF； 继承自InventoryUnit
A12: PGWAE11 | B12: CB | C12: HostPosition | D12: 主机位置 | E12: 主机在机房中的位置，当主机位于机架中时，为机架编号；否则主机应有自己独立的机房位置信息。 | F12: 字符串 | H12: 适用于PNF
A13: PGWAE12 | B13: CB | C13: NumberOfCpu | D13: CPU数量 | E13: 主机配置的CPU数量 | F13: 整数 | H13: 适用于PNF
A14: PGWAE13 | B14: CB | C14: MemSize | D14: 内存容量 | E14: 主机配置的内存容量 | F14: 实数 | G14: Gbyte | H14: 适用于PNF； 1Gbyte=10^9Byte
A15: PGWAE14 | B15: CB | C15: HardDiskSize | D15: 硬盘容量 | E15: 主机配置的硬盘容量 | F15: 实数 | G15: Gbyte | H15: 适用于PNF； 1Gbyte=10^9Byte

Sheet AF
A1: 属性编码 | B1: 重要度 | C1: 英文名称 | D1: 中文名称 | E1: 定义 | F1: 数据类型 | G1: 单位 | H1: 备注 | I1: 支持时间
A2: UPFAF01 | B2: CB | C2: Id | D2: 标识符 | E2: 命名属性 | F2: 字符串 | H2: 适用于PNF； 继承自TOP
A3: UPFAF02 | B3: CB | C3: UserLabel | D3: 用户友好名 | E3: 用户友好名，由EMS厂商自己指定，做为其内部标识，并可被NMS修改。 | F3: 字符串 | H3: 适用于PNF； 继承自TOP
A4: UPFAF03 | B4: CB | C4: VendorUnitFamilyType | D4: 归属类型 | E4: 由供应商提供的便于记忆的资产单元的归属类型 | F4: 字符串 | H4: 适用于PNF； 继承自InventoryUnit
A5: UPFAF04 | B5: CB | C5: VendorUnitTypeNumber | D5: 资产单元类型版本号 | E5: 由供应商提供的可唯一识别资产单元类型及版本的号码 | F5: 字符串 | H5: 适用于PNF； 继承自InventoryUnit
A6: UPFAF05 | B6: CB | C6: VendorName | D6: 供应商名称 | E6: 供应商名称 | F6: 字符串 | H6: 适用于PNF； 继承自InventoryUnit
A7: UPFAF06 | B7: CB | C7: SerialNumber | D7: 资产序列号 | E7: 资产序列号 | F7: 字符串 | H7: 适用于PNF； 继承自InventoryUnit
A8: UPFAF07 | B8: CC | C8: VersionNumber | D8: 资产版本号 | E8: 与VendorUnitTypeNumber相关的版本信息 | F8: 字符串 | H8: 适用于PNF； 继承自InventoryUnit
A9: UPFAF08 | B9: CB | C9: DateOfManufacture | D9: 生产日期 | E9: 生产日期 | F9: 日期 | H9: 适用于PNF； 继承自InventoryUnit
A10: UPFAF09 | B10: CB | C10: DateOfLastService | D10: 最近服务日期 | E10: 最近服务的日期（最近一次恢复工作正常状态的时间） | F10: 日期 | H10: 适用于PNF； 继承自InventoryUnit
A11: UPFAF10 | B11: CC | C11: ManufacturerData | D11: 特殊信息 | E11: 设备商填写的特殊信息 | F11: 字符串 | H11: 适用于PNF； 继承自InventoryUnit
A12: UPFAF11 | B12: CB | C12: AccessoryPosition | D12: 附件位置 | E12: 附件所在机架的编号 | F12: 字符串 | H12: 适用于PNF；
A13: UPFAF12 | B13: CB | C13: AccessoryType | D13: 附属设备类型 | E13: 自定义，例如：内部交换机，路由器，磁盘阵列等,仅适用于ManagedElement内部的附属设备。 | F13: 字符串 | H13: 适用于PNF；
A14: UPFAF13 | B14: CB | C14: AddtionalInformation | D14: 描述信息 | E14: 设备自身特有的属性描述 | F14: 字符串 | H14: 适用于PNF；

Sheet AG
A1: 属性编码 | B1: 重要度 | C1: 英文名称 | D1: 中文名称 | E1: 定义 | F1: 数据类型 | G1: 单位 | H1: 备注 | I1: 支持时间
A2: UPFAG01 | B2: B | C2: Id | D2: 标识符 | E2: 命名属性 | F2: 字符串 | H2: 继承自TOP
A3: UPFAG02 | B3: B | C3: UserLabel | D3: 用户友好名 | E3: 对象名称 | F3: 字符串 | H3: 继承自TOP
A4: UPFAG03 | B4: B | C4: AdministrativeState | D4: 管理状态 | E4: 管理的状态，枚举型 {Locked, Unlocked, ShuttingDown} | F4: 枚举 | H4: 继承自ManagedFunction
A5: UPFAG04 | B5: B | C5: OperationalState | D5: 运行状态 | E5: 运行的状态，枚举型{Disabled,Enabled} | F5: 枚举 | H5: 继承自ManagedFunction
A6: UPFAG05 | B6: CB | C6: VnfInstanceId | D6: 虚拟化实例标识 | E6: 虚拟网元的InstanceId | F6: 字符串 | H6: 适用于VNF
A7: UPFAG06 | B7: A | C7: MaxQosFlows | D7: 最大QoS流数 | E7: 当前软硬件配置条件下(如licence限制）,UPF最大支持的并发QoS流数。 | F7: 整数 | G7: 个
A8: UPFAG07 | B8: A | C8: MaxThroughput | D8: 最大数据吞吐率 | E8: UPF最大每秒能处理的数据量，包括双向流量。 | F8: 实数 | G8: Gbps | H8: 在计算吞吐率实际利用率时，以右侧N6+N9c(UPF之间N9的右侧接口名称)接口的内层IP报文长度进行流量计算。

Sheet AH
A1: 属性编码 | B1: 重要度 | C1: 英文名称 | D1: 中文名称 | E1: 定义 | F1: 数据类型 | G1: 单位 | H1: 备注 | I1: 支持时间
A2: UPFAH01 | B2: B | C2: Id | D2: 标识符 | E2: 命名属性 | F2: 字符串 | G2: 无 | H2: 继承自TOP。注，全局EpRpDynN9Upf对象要缺省实例化。全局EpRpDynN9Upf对象即远端IP子网地址为0.0.0.0，“本端IP地址列表”包括该UpfFunction所有N9接口使用的IP地址，这样的对象简记为EpRpDynN9Upf_Global。
