Workbook

Sheet 修订历史
A1: 版本 | B1: 日期 | C1: 修订内容 | D1: 修订人
A2: V0.1.0 | B2: 43440 | C2: 创建第一稿 | D2: 李健、胡亚希
A3: V0.2.0 | B3: 43455 | C3: 修订index的统计公式 | D3: 李健
A4: V0.3.0 | B4: 43482 | C4: 无修订，与PM同步 | D4: 胡亚希
A5: V0.4.0 | B5: 43516 | C5: 1. HA页，修订UDM.AmfUecmRegSucc，UDM.SmfUecmRegSucc的触发点描述； 2. HC页，修订Ausf.UeAuthReq的触发点描述； 3. HD页，增加ME.MeanMeLoad取值说明。 | D5: 李健、胡亚希
A6: V1.0.0 | B6: 43732 | C6: 1、HB01-HB03，修改英文名称。“UDR.5GSubIn”改为“UDR.5gSupi”；“UDR.5GActSubIn”改为“UDR.5gSub”；“UDR.5GActSubIn”改为“UDR.5gActSub” 2. HA页，UDM.SdmGetReq和UDM.SdmGetSucc的重要度由B改为A;UDM.AmfUecmRegReq、UDM.AmfUecmRegSucc、UDM.SmfUecmRegReq、UDM.SmfUecmRegSucc重要度改为B。 | D6: 李健、胡亚希、李端
A7: V1.1.0 | B7: 43821 | C7: 无内容更新，版本随NRM同步升级。 | D7: 李健
A8: V1.2.0 | B8: 44188 | C8: 1、HA：增加UDMHA19~UDMHA31 2、HB：刷新UDMHB01~UDMHB03定义描述 3、HC：增加UDMHC03~UDMHC04 | D8: 刘振旺
A9: V1.2.1 | B9: 44249 | C9: 1. HD页，“系统平均负荷”，“单位”统一取消“%”为“-”。 | D9: 刘振旺
A10: V1.2.2 | B10: 44770 | C10: 同步NRM版本号更新 | D10: 张渊、洪晓、梁旭驰

Sheet 应答统计
A1: UDM-PM(V1.2.1)应答情况汇总表
A2: 设备厂家名称 | E2: XX公司
A3: 应答日期(T) | E3: XXXX年XX月XX日
A4: 本应答文档适用的设备版本（及补丁） | E4: VersionXX(patchXX)
A5: 对OMC的版本（及补丁）要求 | E5: OMC版本需升级到VXXXX (或/并 加载补丁YYYY）
A7: 内容 | C7: 规范定义数量 | D7: 不适用数量 | E7: 当前支持数量 | F7: 当前+1Q支持数量 | G7: 当前+2Q支持数量 | H7: 当前+3Q支持数量 | I7: 当前+4Q支持数量 | J7: 当前支持率 | K7: 综合支持率 | L7: 最终支持率
A8: 网络资源模型IOC属性 | B8: A类 | C8: =Index!D6 -> 7 | D8: NA | E8: =Index!N6 -> 0 | F8: =Index!T6 -> 0 | G8: =Index!Z6 -> 0 | H8: =Index!AF6 -> 0 | I8: =Index!AL6 -> 0 | J8: =(E8+E11)/(C8+C11-D11) -> 0 | K8: =((E8+E11)+0.8*(F8+F11)+0.6*(G8+G11)+0.4*(H8+H11)+0.2*(I8+I11))/(C8+C11-D11) -> 0 | L8: =((E8+E11)+(F8+F11)+(G8+G11)+(H8+H11)+(I8+I11))/(C8+C11-D11) -> 0
B9: B类 | C9: =Index!E6 -> 32 | D9: NA | E9: =Index!O6 -> 0 | F9: =Index!U6 -> 0 | G9: =Index!AA6 -> 0 | H9: =Index!AG6 -> 0 | I9: =Index!AM6 -> 0 | J9: =(E9+E12)/(C9+C12-D12) -> 0 | K9: =((E9+E12)+0.8*(F9+F12)+0.6*(G9+G12)+0.4*(H9+H12)+0.2*(I9+I12))/(C9+C12-D12) -> 0 | L9: =((E9+E12)+(F9+F12)+(G9+G12)+(H9+H12)+(I9+I12))/(C9+C12-D12) -> 0
B10: C类 | C10: =Index!F6 -> 0 | D10: NA | E10: =Index!P6 -> 0 | F10: =Index!V6 -> 0 | G10: =Index!AB6 -> 0 | H10: =Index!AH6 -> 0 | I10: =Index!AN6 -> 0 | J10: =(E10+E13)/(C10+C13-D13) -> #DIV/0! | K10: =((E10+E13)+0.8*(F10+F13)+0.6*(G10+G13)+0.4*(H10+H13)+0.2*(I10+I13))/(C10+C13-D13) -> #DIV/0! | L10: =((E10+E13)+(F10+F13)+(G10+G13)+(H10+H13)+(I10+I13))/(C10+C13-D13) -> #DIV/0!
B11: CA类 | C11: =Index!G6 -> 0 | D11: =Index!K6 -> 0 | E11: =Index!Q6 -> 0 | F11: =Index!W6 -> 0 | G11: =Index!AC6 -> 0 | H11: =Index!AI6 -> 0 | I11: =Index!AO6 -> 0 | J11: NA
B12: CB类 | C12: =Index!H6 -> 0 | D12: =Index!L6 -> 0 | E12: =Index!R6 -> 0 | F12: =Index!X6 -> 0 | G12: =Index!AD6 -> 0 | H12: =Index!AJ6 -> 0 | I12: =Index!AP6 -> 0
B13: CC类 | C13: =Index!I6 -> 0 | D13: =Index!M6 -> 0 | E13: =Index!S6 -> 0 | F13: =Index!Y6 -> 0 | G13: =Index!AE6 -> 0 | H13: =Index!AK6 -> 0 | I13: =Index!AQ6 -> 0
A17: 应答说明：
A18: 一、本页须填写蓝色字体部分，即公司名、应答日期、本应答适用的版本（及补丁）名、对OMC的版本（及补丁）要求。AA开始的各页仅须应答“支持时间”一列。其中， “T”：指当前(T)已经支持，所谓当前即应答日期。 “T+1Q”：指当前(T)不支持，但（当前时间+91天）之前可以支持。 “T+2Q”：指当前(T)不支持，但（当前时间+182天）之前可以支持 “T+3Q”：指当前(T)不支持，但（当前时间+273天）之前可以支持 “T+4Q”：指当前(T)不支持，但（当前时间+364天）之前可以支持 “NS”: 若计划支持时间晚于T+4Q，或没有支持计划，必须应答“NS” “NA”：对应于CA、CB、CC类条件属性,条件成立时答上述支持时间，条件不成立时答“NA”，指示不适用。
A19: 二、“Index”页以及“应答统计”页的统计结果均为公式自动生成，请勿直接改动。
A20: 三、PM中的对象属性是否支持的应答，以北向接口的PM文件为准。当且仅当同时满足以下3项要求时才可以应答为具体的支持时间(T/T+xQ): 1、PM文件遵循《移动通信网网络管理技术规范 OMC北向接口 统一网络资源模型文件格式》的要求；_x000D_ 2、对象的属性名、数据类型与相应网元的北向接口信息模型规范的约定完全一致；_x000D_ 3、可以从PM文件中取到属性值。
A21: 四、注意将文件名中的“Company”、“Version”改为你公司名称以及应答适用的网元版本。
A22: 五、若应答文档需要打印，请打印“Index”和“应答统计”页，并打印当前不支持的统计项的相关页，请勿打印全部规范，请勿打印“修订历史”和“附录”页。
A23: 本应答模板的更新日期：2022-01-19

Sheet Index
A1: 索引 | B1: 性能测量参数表名 | C1: 备注 | D1: A类测量数 | E1: B类测量数 | F1: C类测量数 | G1: CA类测量数 | H1: CB类测量数 | I1: CC类测量数 | J1: 小计 | K1: CA类不适用数 | L1: CB类不适用数 | M1: CC类不适用数 | N1: 当前A类支持数 | O1: 当前B类支持数 | P1: 当前C类支持数 | Q1: 当前CA类支持数 | R1: 当前CB类支持数 | S1: 当前CC类支持数 | T1: (当前+1Q)A类支持数 | U1: (当前+1Q)B类支持数 | V1: (当前+1Q)C类支持数 | W1: (当前+1Q)CA类支持数 | X1: (当前+1Q)CB类支持数 | Y1: (当前+1Q)CC类支持数 | Z1: (当前+2Q)A类支持数 | AA1: (当前+2Q)B类支持数 | AB1: (当前+2Q)C类支持数 | AC1: (当前+2Q)CA类支持数 | AD1: (当前+2Q)CB类支持数 | AE1: (当前+2Q)CC类支持数 | AF1: (当前+3Q)A类支持数 | AG1: (当前+3Q)B类支持数 | AH1: (当前+3Q)C类支持数 | AI1: (当前+3Q)CA类支持数 | AJ1: (当前+3Q)CB类支持数 | AK1: (当前+3Q)CC类支持数 | AL1: (当前+4Q)A类支持数 | AM1: (当前+4Q)B类支持数 | AN1: (当前+4Q)C类支持数 | AO1: (当前+4Q)CA类支持数 | AP1: (当前+4Q)CB类支持数 | AQ1: (当前+4Q)CC类支持数
A2: HA | B2: UDM业务测量 | D2: =COUNTIF(HA!B:B,"A") -> 2 | E2: =COUNTIF(HA!B:B,"B") -> 29 | F2: =COUNTIF(HA!B:B,"C") -> 0 | G2: =COUNTIF(HA!B:B,"CA") -> 0 | H2: =COUNTIF(HA!B:B,"CB") -> 0 | I2: =COUNTIF(HA!B:B,"CB") -> 0 | J2: =SUM($D2:$I2) -> 31 | K2: =SUMPRODUCT((HA!$B:$B="CA")*(HA!$O:$O="NA")) -> 0 | L2: =SUMPRODUCT((HA!$B:$B="CB")*(HA!$O:$O="NA")) -> 0 | M2: =SUMPRODUCT((HA!$B:$B="CC")*(HA!$O:$O="NA")) -> 0 | N2: =SUMPRODUCT((HA!$B:$B="A")*(HA!$O:$O="T")) -> 0 | O2: =SUMPRODUCT((HA!$B:$B="B")*(HA!$O:$O="T")) -> 0 | P2: =SUMPRODUCT((HA!$B:$B="C")*(HA!$O:$O="T")) -> 0 | Q2: =SUMPRODUCT((HA!$B:$B="CA")*(HA!$O:$O="T")) -> 0 | R2: =SUMPRODUCT((HA!$B:$B="CB")*(HA!$O:$O="T")) -> 0 | S2: =SUMPRODUCT((HA!$B:$B="CC")*(HA!$O:$O="T")) -> 0 | T2: =SUMPRODUCT((HA!$B:$B="A")*(HA!$O:$O="T+1Q")) -> 0 | U2: =SUMPRODUCT((HA!$B:$B="B")*(HA!$O:$O="T+1Q")) -> 0 | V2: =SUMPRODUCT((HA!$B:$B="C")*(HA!$O:$O="T+1Q")) -> 0 | W2: =SUMPRODUCT((HA!$B:$B="CA")*(HA!$O:$O="T+1Q")) -> 0 | X2: =SUMPRODUCT((HA!$B:$B="CB")*(HA!$O:$O="T+1Q")) -> 0 | Y2: =SUMPRODUCT((HA!$B:$B="CC")*(HA!$O:$O="T+1Q")) -> 0 | Z2: =SUMPRODUCT((HA!$B:$B="A")*(HA!$O:$O="T+2Q")) -> 0 | AA2: =SUMPRODUCT((HA!$B:$B="B")*(HA!$O:$O="T+2Q")) -> 0 | AB2: =SUMPRODUCT((HA!$B:$B="C")*(HA!$O:$O="T+2Q")) -> 0 | AC2: =SUMPRODUCT((HA!$B:$B="CA")*(HA!$O:$O="T+2Q")) -> 0 | AD2: =SUMPRODUCT((HA!$B:$B="CB")*(HA!$O:$O="T+2Q")) -> 0 | AE2: =SUMPRODUCT((HA!$B:$B="CC")*(HA!$O:$O="T+2Q")) -> 0 | AF2: =SUMPRODUCT((HA!$B:$B="A")*(HA!$O:$O="T+3Q")) -> 0 | AG2: =SUMPRODUCT((HA!$B:$B="B")*(HA!$O:$O="T+3Q")) -> 0 | AH2: =SUMPRODUCT((HA!$B:$B="C")*(HA!$O:$O="T+3Q")) -> 0 | AI2: =SUMPRODUCT((HA!$B:$B="CA")*(HA!$O:$O="T+3Q")) -> 0 | AJ2: =SUMPRODUCT((HA!$B:$B="CB")*(HA!$O:$O="T+3Q")) -> 0 | AK2: =SUMPRODUCT((HA!$B:$B="CC")*(HA!$O:$O="T+3Q")) -> 0 | AL2: =SUMPRODUCT((HA!$B:$B="A")*(HA!$O:$O="T+4Q")) -> 0 | AM2: =SUMPRODUCT((HA!$B:$B="B")*(HA!$O:$O="T+4Q")) -> 0 | AN2: =SUMPRODUCT((HA!$B:$B="C")*(HA!$O:$O="T+4Q")) -> 0 | AO2: =SUMPRODUCT((HA!$B:$B="CA")*(HA!$O:$O="T+4Q")) -> 0 | AP2: =SUMPRODUCT((HA!$B:$B="CB")*(HA!$O:$O="T+4Q")) -> 0 | AQ2: =SUMPRODUCT((HA!$B:$B="CC")*(HA!$O:$O="T+4Q")) -> 0
A3: HB | B3: UDR测量 | D3: =COUNTIF(HB!B:B,"A") -> 3 | E3: =COUNTIF(HB!B:B,"B") -> 0 | F3: =COUNTIF(HB!B:B,"C") -> 0 | G3: =COUNTIF(HB!B:B,"CA") -> 0 | H3: =COUNTIF(HB!B:B,"CB") -> 0 | I3: =COUNTIF(HB!B:B,"CC") -> 0 | J3: =SUM($D3:$I3) -> 3 | K3: =SUMPRODUCT((HB!$B:$B="CA")*(HB!$O:$O="NA")) -> 0 | L3: =SUMPRODUCT((HB!$B:$B="CB")*(HB!$O:$O="NA")) -> 0 | M3: =SUMPRODUCT((HB!$B:$B="CC")*(HB!$O:$O="NA")) -> 0 | N3: =SUMPRODUCT((HB!$B:$B="A")*(HB!$O:$O="T")) -> 0 | O3: =SUMPRODUCT((HB!$B:$B="B")*(HB!$O:$O="T")) -> 0 | P3: =SUMPRODUCT((HB!$B:$B="C")*(HB!$O:$O="T")) -> 0 | Q3: =SUMPRODUCT((HB!$B:$B="CA")*(HB!$O:$O="T")) -> 0 | R3: =SUMPRODUCT((HB!$B:$B="CB")*(HB!$O:$O="T")) -> 0 | S3: =SUMPRODUCT((HB!$B:$B="CC")*(HB!$O:$O="T")) -> 0 | T3: =SUMPRODUCT((HB!$B:$B="A")*(HB!$O:$O="T+1Q")) -> 0 | U3: =SUMPRODUCT((HB!$B:$B="B")*(HB!$O:$O="T+1Q")) -> 0 | V3: =SUMPRODUCT((HB!$B:$B="C")*(HB!$O:$O="T+1Q")) -> 0 | W3: =SUMPRODUCT((HB!$B:$B="CA")*(HB!$O:$O="T+1Q")) -> 0 | X3: =SUMPRODUCT((HB!$B:$B="CB")*(HB!$O:$O="T+1Q")) -> 0 | Y3: =SUMPRODUCT((HB!$B:$B="CC")*(HB!$O:$O="T+1Q")) -> 0 | Z3: =SUMPRODUCT((HB!$B:$B="A")*(HB!$O:$O="T+2Q")) -> 0 | AA3: =SUMPRODUCT((HB!$B:$B="B")*(HB!$O:$O="T+2Q")) -> 0 | AB3: =SUMPRODUCT((HB!$B:$B="C")*(HB!$O:$O="T+2Q")) -> 0 | AC3: =SUMPRODUCT((HB!$B:$B="CA")*(HB!$O:$O="T+2Q")) -> 0 | AD3: =SUMPRODUCT((HB!$B:$B="CB")*(HB!$O:$O="T+2Q")) -> 0 | AE3: =SUMPRODUCT((HB!$B:$B="CC")*(HB!$O:$O="T+2Q")) -> 0 | AF3: =SUMPRODUCT((HB!$B:$B="A")*(HB!$O:$O="T+3Q")) -> 0 | AG3: =SUMPRODUCT((HB!$B:$B="B")*(HB!$O:$O="T+3Q")) -> 0 | AH3: =SUMPRODUCT((HB!$B:$B="C")*(HB!$O:$O="T+3Q")) -> 0 | AI3: =SUMPRODUCT((HB!$B:$B="CA")*(HB!$O:$O="T+3Q")) -> 0 | AJ3: =SUMPRODUCT((HB!$B:$B="CB")*(HB!$O:$O="T+3Q")) -> 0 | AK3: =SUMPRODUCT((HB!$B:$B="CC")*(HB!$O:$O="T+3Q")) -> 0 | AL3: =SUMPRODUCT((HB!$B:$B="A")*(HB!$O:$O="T+4Q")) -> 0 | AM3: =SUMPRODUCT((HB!$B:$B="B")*(HB!$O:$O="T+4Q")) -> 0 | AN3: =SUMPRODUCT((HB!$B:$B="C")*(HB!$O:$O="T+4Q")) -> 0 | AO3: =SUMPRODUCT((HB!$B:$B="CA")*(HB!$O:$O="T+4Q")) -> 0 | AP3: =SUMPRODUCT((HB!$B:$B="CB")*(HB!$O:$O="T+4Q")) -> 0 | AQ3: =SUMPRODUCT((HB!$B:$B="CC")*(HB!$O:$O="T+4Q")) -> 0
A4: HC | B4: AUSF测量 | D4: =COUNTIF(HC!B:B,"A") -> 2 | E4: =COUNTIF(HC!B:B,"B") -> 2 | F4: =COUNTIF(HC!B:B,"C") -> 0 | G4: =COUNTIF(HC!B:B,"CA") -> 0 | H4: =COUNTIF(HC!B:B,"CB") -> 0 | I4: =COUNTIF(HC!B:B,"CC") -> 0 | J4: =SUM($D4:$I4) -> 4 | K4: =SUMPRODUCT((HC!$B:$B="CA")*(HC!$O:$O="NA")) -> 0 | L4: =SUMPRODUCT((HC!$B:$B="CB")*(HC!$O:$O="NA")) -> 0 | M4: =SUMPRODUCT((HC!$B:$B="CC")*(HC!$O:$O="NA")) -> 0 | N4: =SUMPRODUCT((HC!$B:$B="A")*(HC!$O:$O="T")) -> 0 | O4: =SUMPRODUCT((HC!$B:$B="B")*(HC!$O:$O="T")) -> 0 | P4: =SUMPRODUCT((HC!$B:$B="C")*(HC!$O:$O="T")) -> 0 | Q4: =SUMPRODUCT((HC!$B:$B="CA")*(HC!$O:$O="T")) -> 0 | R4: =SUMPRODUCT((HC!$B:$B="CB")*(HC!$O:$O="T")) -> 0 | S4: =SUMPRODUCT((HC!$B:$B="CC")*(HC!$O:$O="T")) -> 0 | T4: =SUMPRODUCT((HC!$B:$B="A")*(HC!$O:$O="T+1Q")) -> 0 | U4: =SUMPRODUCT((HC!$B:$B="B")*(HC!$O:$O="T+1Q")) -> 0 | V4: =SUMPRODUCT((HC!$B:$B="C")*(HC!$O:$O="T+1Q")) -> 0 | W4: =SUMPRODUCT((HC!$B:$B="CA")*(HC!$O:$O="T+1Q")) -> 0 | X4: =SUMPRODUCT((HC!$B:$B="CB")*(HC!$O:$O="T+1Q")) -> 0 | Y4: =SUMPRODUCT((HC!$B:$B="CC")*(HC!$O:$O="T+1Q")) -> 0 | Z4: =SUMPRODUCT((HC!$B:$B="A")*(HC!$O:$O="T+2Q")) -> 0 | AA4: =SUMPRODUCT((HC!$B:$B="B")*(HC!$O:$O="T+2Q")) -> 0 | AB4: =SUMPRODUCT((HC!$B:$B="C")*(HC!$O:$O="T+2Q")) -> 0 | AC4: =SUMPRODUCT((HC!$B:$B="CA")*(HC!$O:$O="T+2Q")) -> 0 | AD4: =SUMPRODUCT((HC!$B:$B="CB")*(HC!$O:$O="T+2Q")) -> 0 | AE4: =SUMPRODUCT((HC!$B:$B="CC")*(HC!$O:$O="T+2Q")) -> 0 | AF4: =SUMPRODUCT((HC!$B:$B="A")*(HC!$O:$O="T+3Q")) -> 0 | AG4: =SUMPRODUCT((HC!$B:$B="B")*(HC!$O:$O="T+3Q")) -> 0 | AH4: =SUMPRODUCT((HC!$B:$B="C")*(HC!$O:$O="T+3Q")) -> 0 | AI4: =SUMPRODUCT((HC!$B:$B="CA")*(HC!$O:$O="T+3Q")) -> 0 | AJ4: =SUMPRODUCT((HC!$B:$B="CB")*(HC!$O:$O="T+3Q")) -> 0 | AK4: =SUMPRODUCT((HC!$B:$B="CC")*(HC!$O:$O="T+3Q")) -> 0 | AL4: =SUMPRODUCT((HC!$B:$B="A")*(HC!$O:$O="T+4Q")) -> 0 | AM4: =SUMPRODUCT((HC!$B:$B="B")*(HC!$O:$O="T+4Q")) -> 0 | AN4: =SUMPRODUCT((HC!$B:$B="C")*(HC!$O:$O="T+4Q")) -> 0 | AO4: =SUMPRODUCT((HC!$B:$B="CA")*(HC!$O:$O="T+4Q")) -> 0 | AP4: =SUMPRODUCT((HC!$B:$B="CB")*(HC!$O:$O="T+4Q")) -> 0 | AQ4: =SUMPRODUCT((HC!$B:$B="CC")*(HC!$O:$O="T+4Q")) -> 0
A5: HD | B5: 网元资源性能测量 | D5: =COUNTIF(HD!B:B,"A") -> 0 | E5: =COUNTIF(HD!B:B,"B") -> 1 | F5: =COUNTIF(HD!B:B,"C") -> 0 | G5: =COUNTIF(HD!B:B,"CA") -> 0 | H5: =COUNTIF(HD!B:B,"CB") -> 0 | I5: =COUNTIF(HD!B:B,"CC") -> 0 | J5: =SUM($D5:$I5) -> 1 | K5: =SUMPRODUCT((HD!$B:$B="CA")*(HD!$O:$O="NA")) -> 0 | L5: =SUMPRODUCT((HD!$B:$B="CB")*(HD!$O:$O="NA")) -> 0 | M5: =SUMPRODUCT((HD!$B:$B="CC")*(HD!$O:$O="NA")) -> 0 | N5: =SUMPRODUCT((HD!$B:$B="A")*(HD!$O:$O="T")) -> 0 | O5: =SUMPRODUCT((HD!$B:$B="B")*(HD!$O:$O="T")) -> 0 | P5: =SUMPRODUCT((HD!$B:$B="C")*(HD!$O:$O="T")) -> 0 | Q5: =SUMPRODUCT((HD!$B:$B="CA")*(HD!$O:$O="T")) -> 0 | R5: =SUMPRODUCT((HD!$B:$B="CB")*(HD!$O:$O="T")) -> 0 | S5: =SUMPRODUCT((HD!$B:$B="CC")*(HD!$O:$O="T")) -> 0 | T5: =SUMPRODUCT((HD!$B:$B="A")*(HD!$O:$O="T+1Q")) -> 0 | U5: =SUMPRODUCT((HD!$B:$B="B")*(HD!$O:$O="T+1Q")) -> 0 | V5: =SUMPRODUCT((HD!$B:$B="C")*(HD!$O:$O="T+1Q")) -> 0 | W5: =SUMPRODUCT((HD!$B:$B="CA")*(HD!$O:$O="T+1Q")) -> 0 | X5: =SUMPRODUCT((HD!$B:$B="CB")*(HD!$O:$O="T+1Q")) -> 0 | Y5: =SUMPRODUCT((HD!$B:$B="CC")*(HD!$O:$O="T+1Q")) -> 0 | Z5: =SUMPRODUCT((HD!$B:$B="A")*(HD!$O:$O="T+2Q")) -> 0 | AA5: =SUMPRODUCT((HD!$B:$B="B")*(HD!$O:$O="T+2Q")) -> 0 | AB5: =SUMPRODUCT((HD!$B:$B="C")*(HD!$O:$O="T+2Q")) -> 0 | AC5: =SUMPRODUCT((HD!$B:$B="CA")*(HD!$O:$O="T+2Q")) -> 0 | AD5: =SUMPRODUCT((HD!$B:$B="CB")*(HD!$O:$O="T+2Q")) -> 0 | AE5: =SUMPRODUCT((HD!$B:$B="CC")*(HD!$O:$O="T+2Q")) -> 0 | AF5: =SUMPRODUCT((HD!$B:$B="A")*(HD!$O:$O="T+3Q")) -> 0 | AG5: =SUMPRODUCT((HD!$B:$B="B")*(HD!$O:$O="T+3Q")) -> 0 | AH5: =SUMPRODUCT((HD!$B:$B="C")*(HD!$O:$O="T+3Q")) -> 0 | AI5: =SUMPRODUCT((HD!$B:$B="CA")*(HD!$O:$O="T+3Q")) -> 0 | AJ5: =SUMPRODUCT((HD!$B:$B="CB")*(HD!$O:$O="T+3Q")) -> 0 | AK5: =SUMPRODUCT((HD!$B:$B="CC")*(HD!$O:$O="T+3Q")) -> 0 | AL5: =SUMPRODUCT((HD!$B:$B="A")*(HD!$O:$O="T+4Q")) -> 0 | AM5: =SUMPRODUCT((HD!$B:$B="B")*(HD!$O:$O="T+4Q")) -> 0 | AN5: =SUMPRODUCT((HD!$B:$B="C")*(HD!$O:$O="T+4Q")) -> 0 | AO5: =SUMPRODUCT((HD!$B:$B="CA")*(HD!$O:$O="T+4Q")) -> 0 | AP5: =SUMPRODUCT((HD!$B:$B="CB")*(HD!$O:$O="T+4Q")) -> 0 | AQ5: =SUMPRODUCT((HD!$B:$B="CC")*(HD!$O:$O="T+4Q")) -> 0
A6: 合计 | D6: =SUM(D2:D5) -> 7 | E6: =SUM(E2:E5) -> 32 | F6: =SUM(F2:F5) -> 0 | G6: =SUM(G2:G5) -> 0 | H6: =SUM(H2:H5) -> 0 | I6: =SUM(I2:I5) -> 0 | J6: =SUM(J2:J5) -> 39 | K6: =SUM(K2:K5) -> 0 | ... AQ6: =SUM(AQ2:AQ5) -> 0
A10: 测量族 | B10: 测量族说明
A11: ME | B11: 设备资源性能相关性能测量
A12: UDM | B12: UDM注册、去注册、用户数据等相关测量
A13: UDR | B13: UDR用户统计等相关测量
A14: AUSF | B14: AUSF鉴权等相关测量

Sheet HA
A1: 统计编码 | B1: 重要度 | C1: 英文名称 | D1: 中文名称 | E1: 定义 | F1: 触发点 | G1: 采集方式 | H1: 数据类型 | I1: 单位 | J1: 空间粒度 | K1: 时间粒度 | L1: 上报周期 | M1: 测试要求 | N1: 备注 | O1: 支持时间
A2: UDMHA01 | B2: B | C2: UDM.AmfUecmRegReq | D2: AMF发起的UECM注册请求次数 | E2: 统计UDM收到的AMF发起的UECM注册请求次数 | F2: UDM UECM服务收到AMF发送的针对“Amf3GppAccessRegistration”资源URI的PUT操作。 （3GPP TS 29.503） | G2: CC | H2: 整数 | I2: 个 | J2: UdmFunction | K2: 15分钟 | L2: 15分钟
A3: UDMHA02 | B3: B | C3: UDM.AmfUecmRegSucc | D3: AMF发起的UECM注册成功次数 | E3: 统计UDM返回的成功的AMF注册响应次数 | F3: UDM返回响应消息时，HTTP status code为2XX时，均视为成功 | G3: CC | H3: 整数 | I3: 个 | J3: UdmFunction | K3: 15分钟 | L3: 15分钟
A4: UDMHA03 | B4: B | C4: UDM.AmfUecmRegUpdateReq | D4: 更新注册参数请求次数 | E4: 更新注册参数请求次数 | F4: UDM UECM服务收到AMF发送的针对“registrations/amf-3gpp-access”资源URI的PATCH操作 | G4: CC | H4: 整数 | I4: 个 | J4: UdmFunction | K4: 15分钟 | L4: 15分钟
A5: UDMHA04 | B5: B | C5: UDM.AmfUecmRegUpdateSucc | D5: 更新注册参数成功次数 | E5: 更新注册参数成功次数 | F5: UDM UECM服务返回“204 No Content”消息，指示成功响应更新请求。 | G5: CC | H5: 整数 | I5: 个 | J5: UdmFunction | K5: 15分钟 | L5: 15分钟
A6: UDMHA05 | B6: B | C6: UDM.AmfUecmDeregReq | D6: AMF发起的UECM去注册请求次数 | E6: 统计AMF发起的UECM去注册请求次数 | F6: UDM UECM服务收到的AMF发送HTTP PATCH请求消息，请求针对UDM的“Amf3GppAccessRegistration”资源URI发起“PATCH”标准操作。 （3GPP TS 29.503） | G6: CC | H6: 整数 | I6: 个 | J6: UdmFunction | K6: 15分钟 | L6: 15分钟
A7: UDMHA06 | B7: B | C7: UDM.AmfUecmDeregSucc | D7: AMF发起的UECM去注册成功次数 | E7: 统计AMF发起的UECM去注册成功次数 | F7: 针对AMF发送HTTP PATCH请求消息，请求针对UDM的“Amf3GppAccessRegistration”资源URI发起“PATCH”标准操作，UDM返回的204 No Content消息（3GPP TS 29.503） | G7: CC | H7: 整数 | I7: 个 | J7: UdmFunction | K7: 15分钟 | L7: 15分钟
A8: UDMHA07 | B8: B | C8: UDM.SmfUecmRegReq | D8: SMF发起的UECM注册请求次数 | E8: 统计SMF发起的用户上下文注册请求次数 | F8: UDM UECM服务收到SMF发送的针对“IndividualSmfRegistration”资源URI的PUT操作。 （3GPP TS 29.503） | G8: CC | H8: 整数 | I8: 次 | J8: UdmFunction | K8: 15分钟 | L8: 15分钟
A9: UDMHA08 | B9: B | C9: UDM.SmfUecmRegSucc | D9: SMF发起的UECM注册成功次数 | E9: 统计UDM返回的成功的用户上下文注册响应次数 | F9: UDM返回响应消息时，HTTP status code为2XX时，均视为成功 | G9: CC | H9: 整数 | I9: 次 | J9: UdmFunction | K9: 15分钟 | L9: 15分钟
A10: UDMHA09 | B10: B | C10: UDM.SmfUecmDeregReq | D10: SMF发起的UECM去注册请求次数 | E10: 统计SMF发起的用户上下文去注册请求次数 | F10: UDM UECM服务收到SMF发送的针对“IndividualSmfRegistration”资源URI的DELETE操作。 （3GPP TS 29.503） | G10: CC | H10: 整数 | I10: 次 | J10: UdmFunction | K10: 15分钟 | L10: 15分钟
A11: UDMHA10 | B11: B | C11: UDM.SmfUecmDeregSucc | D11: SMF发起的UECM去注册成功次数 | E11: 统计UDM返回的成功的用户上下文去注册响应次数 | F11: UDM返回204 No Content消息（3GPP TS 29.503） | G11: CC | H11: 整数 | I11: 次 | J11: UdmFunction | K11: 15分钟 | L11: 15分钟
A12: UDMHA11 | B12: A | C12: UDM.SdmGetReq | D12: 获取用户数据请求次数 | E12: 统计UDM收到的获取用户数据请求次数 | F12: UDM SDM服务收到Http GET时统计 | G12: CC | H12: 整数 | I12: 次 | J12: UdmFunction | K12: 15分钟 | L12: 15分钟
A13: UDMHA12 | B13: A | C13: UDM.SdmGetSucc | D13: 获取用户数据成功次数 | E13: 统计UDM成功返回用户数据次数 | F13: UDM SDM服务返回200 OK以及相关用户数据。 | G13: CC | H13: 整数 | I13: 次 | J13: UdmFunction | K13: 15分钟 | L13: 15分钟
... A32: UDMHA31 | B32: B | C32: UDM.SmfUecmRegDnnNotAllowed | D32: SMF发起的UECM注册返回DNN不允许消息总数 | E32: SMF发起的UECM注册返回时，UDM返回DNN不允许消息总数 | F32: SMF发起的UECM注册返回时，UDM返回的响应消息中携带“DNN_NOT_ALLOWED”时的消息总数。 | G32: CC | H32: 整数 | I32: 次 | J32: UdmFunction | K32: 15分钟 | L32: 15分钟

Sheet HB
A1: 统计编码 | B1: 重要度 | C1: 英文名称 | D1: 中文名称 | E1: 定义 | F1: 触发点 | G1: 采集方式 | H1: 数据类型 | I1: 单位 | J1: 空间粒度 | K1: 时间粒度 | L1: 上报周期 | M1: 测试要求 | N1: 备注 | O1: 支持时间
A2: UDMHB01 | B2: A | C2: UDR.5gSupi | D2: 5G网络SUPI数 | E2: 统计UDR存储的SUPI数最新值 | F2: 无 | G2: GAUGE | H2: 整数 | I2: 个 | J2: UdrFunction | K2: 15分钟 | L2: 15分钟 | M2: 否
A3: UDMHB02 | B3: A | C3: UDR.5gSub | D3: 5G用户数 | E3: 统计UDR存储的5G MSISDN数最新值 | F3: 无 | G3: GAUGE | H3: 整数 | I3: 个 | J3: UdrFunction | K3: 15分钟 | L3: 15分钟 | M3: 否
A4: UDMHB03 | B4: A | C4: UDR.5gActSub | D4: 5G活动用户数 | E4: 统计UDR存储的有5G位置信息的MSISDN用户数最新值 | F4: 无 | G4: GAUGE | H4: 整数 | I4: 个 | J4: UdrFunction | K4: 15分钟 | L4: 15分钟 | M4: 否

Sheet HC
A1: 统计编码 | B1: 重要度 | C1: 英文名称 | D1: 中文名称 | E1: 定义 | F1: 触发点 | G1: 采集方式 | H1: 数据类型 | I1: 单位 | J1: 空间粒度 | K1: 时间粒度 | L1: 上报周期 | M1: 测试要求 | N1: 备注 | O1: 支持时间
A2: UDMHC01 | B2: A | C2: Ausf.UeAuthReq | D2: 鉴权请求次数 | E2: AUSF收到的鉴权请求次数 | F2: AUSF收到AMF发送的针对“ue-authentications”资源URI的POST操作。 （3GPP TS 29.509） | G2: CC_x000D_ | H2: 整数 | I2: 个 | J2: AusfFunction | K2: 15分钟 | L2: 15分钟
A3: UDMHC02 | B3: A | C3: Ausf.UeAuthAnsSucc | D3: 鉴权成功次数 | E3: AUSF返回鉴权成功响应次数 | F3: UDM返回响应消息时，HTTP status code为2XX时，均视为成功 | G3: CC_x000D_ | H3: 整数 | I3: 个 | J3: AusfFunction | K3: 15分钟 | L3: 15分钟
A4: UDMHC03 | B4: B | C4: Ausf.UeAuthAnsUserNotFound | D4: 鉴权返回用户不存在消息总数 | E4: AUSF返回用户不存在消息总数 | F4: AUSF返回的响应消息中携带的返回码为“USER_NOT_FOUND” | G4: CC_x000D_ | H4: 整数 | I4: 个 | J4: AusfFunction | K4: 15分钟 | L4: 15分钟
A5: UDMHC04 | B5: B | C5: Ausf.UeAuthAnsContextNotFound | D5: 返回上下文不存在消息总数 | E5: AUSF返回上下文不存在消息总数 | F5: AUSF返回的响应消息中携带的返回码为“CONTEXT_NOT_FOUND” | G5: CC_x000D_ | H5: 整数 | I5: 个 | J5: AusfFunction | K5: 15分钟 | L5: 15分钟

Sheet HD
A1: 统计编码 | B1: 重要度 | C1: 英文名称 | D1: 中文名称 | E1: 定义 | F1: 触发点 | G1: 采集方式 | H1: 数据类型 | I1: 单位 | J1: 空间粒度 | K1: 时间粒度 | L1: 上报周期 | M1: 测试要求 | N1: 备注 | O1: 支持时间
A2: UDMHD01 | B2: B | C2: ME.MeanMeLoad | D2: 系统平均负荷 | E2: 指测量周期中，网元的虚拟机资源负荷的抽样平均值。网元的虚拟机资源负荷可取对网元影响最大的模块的负荷，或取不同模块的负荷的加权平均值，不同厂商设备的计算方法各不相同。 | F2: 在测量周期内，对网元的虚拟机资源平均负荷进行采样，取上述采样值的算术平均； | G2: SI | H2: 实数 | I2: - | J2: ManagedElement | K2: 15分钟 | L2: 15分钟 | M2: 否 | N2: 以80.25%负荷为例，约定北向接口上报数据应为0.8025，不上报80.25。

Sheet 附录
A1: 参与规范编写人员名单
A2: 姓名 | B2: 公司 | C2: 手机 | D2: 邮箱
A3: 崔璀璀 | B3: 爱立信 | C3: 13910834683 | D3: tracy.c.cui@ericsson.com
A4: 何刚 | B4: 爱立信 | C4: 13910785072 | D4: grant.he@ericsson.com
A5: 蒋炜 | B5: 爱立信 | C5: 13601368683 | D5: will.jiang@ericsson.com
A6: 李云刚 | B6: 爱立信 | C6: 13501109642 | D6: yungang.li@ericsson.com
A7: 刘强 | B7: 爱立信 | C7: 13636426617 | D7: qiang.liu@ericsson.com
A8: 时森 | B8: 爱立信 | C8: 13910084851 | D8: sen.shi@ericsson.com
A9: 杨利 | B9: 爱立信 | C9: 13911554821 | D9: li.g.yang@ericsson.com
A10: 张一帆 | B10: 爱立信 | C10: 13910532301 | D10: grace.f.zhang@ericsson.com
A11: 常轶钊 | B11: 华为 | C11: 15191850585 | D11: changyizha@huawei.com
A12: 陈恒 | B12: 华为 | C12: 18918325595 | D12: andrew.chen@huawei.com
A13: 高胜展 | B13: 华为 | C13: 18500522566 | D13: gaoshnegzhan@huawei.com
A14: 姜传奎 | B14: 华为 | C14: 18616850658 | D14: jiangchuankui@huawei.com
... A28: 杨洋 | B28: 中兴 | C28: 15195995119 | D28: yangyang115@zte.com.cn
