Workbook

Sheet 修订历史
A1: 版本 | B1: 日期 | C1: 修订内容 | D1: 修订人
A2: V0.1.0 | B2: 43401 | C2: 创建第一稿
A3: V0.2.0 | B3: 43427 | C3: 1. 删除N40接口性能测量。 2. 参照上次会议纪要，删除既分切片又分DNN的会话性能测量。即要么按切片统计，要么按DNN统计。 3. 增加最大PDU会话数和QoS流数。 4. 地址池统计中删除分DNN的统计。 5. 删除HE（Nsmf所包含的Nsmf_PDUSession等service被其它NF调用的次数）。 6. 删除HH页（N11接口性能测量） | D3: 李健、胡亚希
A4: V0.3.0 | B4: 43479 | C4: 1. 补充Index页的统计公式 2. HA：PDU会话建立流程平均时长 触发点有疑问？？？待议 3. HE：删除中文名称中的句号 4. HF：删除SMF.UecmRegFail.NoPsSub、SMF.UecmRegFail.AccessNotAllowed、SMF.UecmRegFail.RatNotAllowed，增加SMF.UecmRegFail.UserNotFound | D4: 胡亚希
A5: V0.4.0 | B5: 43516 | C5: 1. HA：修订SMFHA07触发点的定义描述，AMF-->SMF 2. HF: 修订“UE上下文注册失败次数”的触发点 3. HC，补充ME.MeanMeLoad的取值说明。 | D5: 李健、胡亚希
B6: 43668 | C6: 1、修改SMFHA03 PDU会话建立失败次数 触发点，增加“SMF通过响应Nsmf_PDUSession_CreateSMContext Response拒绝会话建立并携带拒绝原因值”； 2、修改SMFHA05 触发点描述； 3、修改SMFHA06 定义和触发点，定义改为“SMF发起的PDU会话修改请求被拒绝的次数”，触发点相应修改为来自AMF、NG-RAN和UE相应的拒绝响应。 4、修改SMFHF02、SMFHF03和SMFHF04触发点中引用的3GPP规范号； 5、删除SMFHF05和SMFHF06
A7: V1.0.0 | B7: 43731 | C7: HA、HB和HD：中文名称中“分网络切片”改为“分切片” | D7: 李健、胡亚希、李端
A8: V1.1.0 | B8: 43821 | C8: 无内容更新，版本随NRM同步升级。 | D8: 李健
A9: V1.1.1 | B9: 44187 | C9: HA:SMFHA07“PDU会话建立流程平均时长”指标单位定义由“整数”改为“实数” | D9: 刘振旺
A10: V1.1.2 | B10: 44249 | C10: HC页，“系统平均负荷”，“单位”统一取消“%”为“-”。 | D10: 刘振旺
B11: 44270 | C11: HA页，“初始注册平均时长”，添加备注“无此业务流程时，上报空值""”。
B12: 44286 | C12: HA页，SMFHA03,新增“PDU会话建立失败次数”用户原因指标：27,28,29,33,46，68,82。
B13: 44286 | C13: HA页，新增SMFHA08，“EPS Fallback请求数”和“EPS Fallback回落成功次数”相关指标。
B14: 44298 | C14: HA页，删除SMF.AttSmfModifyPduSession.Epsfb.TA和SMF.SuccSmfModifyBearerResponse.Epsfb.TA，原因：SMF不负责移动性关联，区分TA一般是负责移动性管理的AMF统计，而且通过I-SMF，锚点SMF可能被关联到全国的所有的TA，数量巨大而且是可变的，难以一一统计；
B15: 44301 | C15: HA页， 1.在新增分特定失败原因值82的PDU会话建立失败次数的统计定义中，删除会话更新字眼； 2.在分特定失败原因值的PDU会话建立失败次数的统计中，增加#26（Insufficient resources）的统计； 3.删除分DNN粒度统计#27-未知DNN的统计,因为这部分失败次数如果按DNN粒度进行统计可能触发大量未知DNN； 4.新增EPS Fallbck成功数的定义中明确MBR消息针对IMS APN。
B16: 44323 | C16: 区分SMF角色为SMF、I-SMF/V-SMF、A-SMF/H-SMF: 1.创建HG页，新增A-SMF/H-SMF相关会话管理过程性能测量指标； 2.创建HH页，新增A-SMF/H-SMF相关会话数测量指标； 3.创建HI页，新增I-SMF/V-SMF相关会话管理过程性能测量指标； 4.创建HJ页，新增I-SMF/V-SMF相关会话数测量指标； 5.Index页，更新相关表名和指标测量数；
B17: 44557 | C17: 1.HA页，彻底删除 SMF.FailCreatePduSession._Dnn.27，SMF.AttSmfModifyPduSession.Epsfb.TA，SMF.SuccSmfModifyBearerResponse.Epsfb.TA；
A18: V1.2.0 | B18: 44609 | C18: 1.HG页，HH页，HI页，HJ页是SMF作为I-SMF/V-SMF、A-SMF/H-SMF时的相关统计，将重要程度有对应的A、B、C改成CA、CB、CC。 2.Index，备注中增加相关说明。 | D18: 张渊、洪晓、梁旭驰
B19: 44609 | C19: 1.创建HK页，新增SMF通过UPF转接方式和AAA服务器进行相关流程测量指标。 2.Index页，更新相关表名和指标测量数。
B20: 44618 | C20: HG页，“A-SMF/H-SMF分切片的PDU会话建立失败次数” 、“A-SMF/H-SMF分DNN的PDU会话建立失败次数”、“分切片的A-SMF/H-SMF发起的PDU会话修改失败次数”和“分DNN的A-SMF/H-SMF发起的PDU会话修改失败次数” 定义中删除“并按拒绝原因分类统计”描述。
B21: 44618 | C21: 新增HL页，N40接口测量数据3个指标。
B22: 44618 | C22: 新增HM页，增加内置BSF的PCF查询请求和查询成功次数2个指标。 2022年2月份，新增指标比较多，所以版本号大跨度修改为1.2.0
A23: V1.2.1 | B23: 44768 | C23: HA页，删除‘分DNN的PDU会话建立失败次数’的重复定义行 | D23: 张渊、洪晓、梁旭驰

Sheet 应答统计
A1: SMF-PM(V1.2.1)应答情况汇总表
A2: 设备厂家名称 | E2: XX公司
A3: 应答日期(T) | E3: XXXX年XX月XX日
A4: 本应答文档适用的设备版本（及补丁） | E4: VersionXX(patchXX)
A5: 对OMC的版本（及补丁）要求 | E5: OMC版本需升级到VXXXX (或/并 加载补丁YYYY）
A7: 内容 | C7: 规范定义数量 | D7: 不适用数量 | E7: 当前支持数量 | F7: 当前+1Q支持数量 | G7: 当前+2Q支持数量 | H7: 当前+3Q支持数量 | I7: 当前+4Q支持数量 | J7: 当前支持率 | K7: 综合支持率 | L7: 最终支持率
A8: 网络资源模型IOC属性 | B8: A类 | C8: =Index!D15 -> 12 | D8: NA | E8: =Index!S15 -> 0 | F8: =Index!Y15 -> 0 | G8: =Index!AE15 -> 0 | H8: =Index!AK15 -> 0 | I8: =Index!AQ15 -> 0 | J8: =(E8+E11)/(C8+C11-D11) -> 0 | K8: =((E8+E11)+0.8*(F8+F11)+0.6*(G8+G11)+0.4*(H8+H11)+0.2*(I8+I11))/(C8+C11-D11) -> 0 | L8: =((E8+E11)+(F8+F11)+(G8+G11)+(H8+H11)+(I8+I11))/(C8+C11-D11) -> 0
B9: B类 | C9: =Index!E15 -> 48 | D9: NA | E9: =Index!T15 -> 0 | F9: =Index!Z15 -> 0 | G9: =Index!AF15 -> 0 | H9: =Index!AL15 -> 0 | I9: =Index!AR15 -> 0 | J9: =(E9+E12)/(C9+C12-D12) -> 0 | K9: =((E9+E12)+0.8*(F9+F12)+0.6*(G9+G12)+0.4*(H9+H12)+0.2*(I9+I12))/(C9+C12-D12) -> 0 | L9: =((E9+E12)+(F9+F12)+(G9+G12)+(H9+H12)+(I9+I12))/(C9+C12-D12) -> 0
B10: C类 | C10: =Index!F15 -> 20 | D10: NA | E10: =Index!U15 -> 0 | F10: =Index!AA15 -> 0 | G10: =Index!AG15 -> 0 | H10: =Index!AM15 -> 0 | I10: =Index!AS15 -> 0 | J10: =(E10+E13)/(C10+C13-D13) -> 0 | K10: =((E10+E13)+0.8*(F10+F13)+0.1*(G10+G13)+0.4*(H10+H13)+0.2*(I10+I13))/(C10+C13-D13) -> 0 | L10: =((E10+E13)+(F10+F13)+(G10+G13)+(H10+H13)+(I10+I13))/(C10+C13-D13) -> 0
B11: CA类 | C11: =Index!G15 -> 18 | D11: =Index!P15 -> 0 | E11: =Index!V15 -> 0 | F11: =Index!AB15 -> 0 | G11: =Index!AH15 -> 0 | H11: =Index!AN15 -> 0 | I11: =Index!AT15 -> 0 | J11: NA
B12: CB类 | C12: =Index!H15 -> 36 | D12: =Index!Q15 -> 0 | E12: =Index!W15 -> 0 | F12: =Index!AC15 -> 0 | G12: =Index!AI15 -> 0 | H12: =Index!AO15 -> 0 | I12: =Index!AU15 -> 0
B13: CC类 | C13: =Index!I15 -> 6 | D13: =Index!R15 -> 0 | E13: =Index!X15 -> 0 | F13: =Index!AD15 -> 0 | G13: =Index!AJ15 -> 0 | H13: =Index!AP15 -> 0 | I13: =Index!AV15 -> 0
A17: 应答说明：
A18: 一、本页须填写蓝色字体部分，即公司名、应答日期、本应答适用的版本（及补丁）名、对OMC的版本（及补丁）要求。AA开始的各页仅须应答“支持时间”一列。其中， “T”：指当前(T)已经支持，所谓当前即应答日期。 “T+1Q”：指当前(T)不支持，但（当前时间+91天）之前可以支持。 “T+2Q”：指当前(T)不支持，但（当前时间+182天）之前可以支持 “T+3Q”：指当前(T)不支持，但（当前时间+273天）之前可以支持 “T+4Q”：指当前(T)不支持，但（当前时间+364天）之前可以支持 “NS”: 若计划支持时间晚于T+4Q，或没有支持计划，必须应答“NS” “NA”：对应于CA、CB、CC类条件属性,条件成立时答上述支持时间，条件不成立时答“NA”，指示不适用。
A19: 二、“Index”页以及“应答统计”页的统计结果均为公式自动生成，请勿直接改动。
A20: 三、NRM中的对象属性是否支持的应答，以北向接口的NRM文件为准。当且仅当同时满足以下3项要求时才可以应答为具体的支持时间(T/T+xQ): 1、NRM文件遵循《移动通信网网络管理技术规范 OMC北向接口 统一网络资源模型文件格式》的要求； 2、对象的属性名、数据类型与相应网元的北向接口信息模型规范的约定完全一致； 3、可以从NRM文件中取到属性值。
A21: 四、注意将文件名中的“Company”、“Version”改为你公司名称以及应答适用的网元版本。
A22: 五、若应答文档需要打印，请打印“Index”和“应答统计”页，并打印当前不支持的统计项的相关页，请勿打印全部规范，请勿打印“修订历史”和“附录”页。
A23: 本应答模板的更新日期：2022-09-23

Sheet Index
A1: 索引 | B1: 性能测量数据表名 | C1: 备注 | D1: A类测量数 | E1: B类测量数 | F1: C类测量数 | G1: CA类测量数 | H1: CB类测量数 | I1: CC类测量数 | J1: 小计 | K1: A类测试数 | L1: B类测试数 | M1: CA类测试数 | N1: CB类测试数 | O1: 测试数 | P1: CA类 不适用数 | Q1: CB类 不适用数 | R1: CC类 不适用数 | S1: 当前A类 支持数 | T1: 当前B类 支持数 | U1: 当前C类 支持数 | V1: 当前CA类 支持数 | W1: 当前CB类 支持数 | X1: 当前CC类 支持数 | Y1: (当前+1Q) A类支持数 | Z1: (当前+1Q) B类支持数 | AA1: (当前+1Q) C类支持数 | AB1: (当前+1Q) CA类支持数 | AC1: (当前+1Q) CB类支持数 | AD1: (当前+1Q) CC类支持数 | AE1: (当前+2Q) A类支持数 | AF1: (当前+2Q) B类支持数 | AG1: (当前+2Q) C类支持数 | AH1: (当前+2Q) CA类支持数 | AI1: (当前+2Q) CB类支持数 | AJ1: (当前+2Q) CC类支持数 | AK1: (当前+3Q) A类支持数 | AL1: (当前+3Q) B类支持数 | AM1: (当前+3Q) C类支持数 | AN1: (当前+3Q) CA类支持数 | AO1: (当前+3Q) CB类支持数 | AP1: (当前+3Q) CC类支持数 | AQ1: (当前+4Q) A类支持数 | AR1: (当前+4Q) B类支持数 | AS1: (当前+4Q) C类支持数 | AT1: (当前+4Q) CA类支持数 | AU1: (当前+4Q) CB类支持数
A2: HA | B2: SMF会话管理过程性能测量 | C2: 会话建立、修改、删除等流程统计。N11接口SMF | D2: =COUNTIF(HA!$B:$B,"A") -> 6 | E2: =COUNTIF(HA!$B:$B,"B") -> 36 | F2: =COUNTIF(HA!$B:$B,"C") -> 2 | G2: =COUNTIF(HA!$B:$B,"CA") -> 0 | H2: =COUNTIF(HA!$B:$B,"CB") -> 0 | I2: =COUNTIF(HA!$B:$B,"CC") -> 0 | J2: =SUM(D2:I2) -> 44 | P2: =SUMPRODUCT((INDIRECT($A2&"!B:B")="CA")*((INDIRECT($A2&"!O:O")="NA"))) -> 0 | Q2: =SUMPRODUCT((INDIRECT($A2&"!B:B")="CB")*((INDIRECT($A2&"!O:O")="NA"))) -> 0 | R2: =SUMPRODUCT((INDIRECT($A2&"!B:B")="CC")*((INDIRECT($A2&"!O:O")="NA"))) -> 0 | S2: =SUMPRODUCT((INDIRECT($A2&"!B:B")="A")*((INDIRECT($A2&"!O:O")="T"))) -> 0 | T2: =SUMPRODUCT((INDIRECT($A2&"!B:B")="B")*((INDIRECT($A2&"!O:O")="T"))) -> 0 | U2: =SUMPRODUCT((INDIRECT($A2&"!B:B")="C")*((INDIRECT($A2&"!O:O")="T"))) -> 0 | V2: =SUMPRODUCT((INDIRECT($A2&"!B:B")="CA")*((INDIRECT($A2&"!O:O")="T"))) -> 0 | W2: =SUMPRODUCT((INDIRECT($A2&"!B:B")="CB")*((INDIRECT($A2&"!O:O")="T"))) -> 0 | X2: =SUMPRODUCT((INDIRECT($A2&"!B:B")="CC")*((INDIRECT($A2&"!O:O")="T"))) -> 0 | Y2: =SUMPRODUCT((INDIRECT($A2&"!B:B")="A")*((INDIRECT($A2&"!O:O")="T+1Q"))) -> 0 | Z2: =SUMPRODUCT((INDIRECT($A2&"!B:B")="B")*((INDIRECT($A2&"!O:O")="T+1Q"))) -> 0 | AA2: =SUMPRODUCT((INDIRECT($A2&"!B:B")="C")*((INDIRECT($A2&"!O:O")="T+1Q"))) -> 0 | AB2: =SUMPRODUCT((INDIRECT($A2&"!B:B")="CA")*((INDIRECT($A2&"!O:O")="T+1Q"))) -> 0 | AC2: =SUMPRODUCT((INDIRECT($A2&"!B:B")="CB")*((INDIRECT($A2&"!O:O")="T+1Q"))) -> 0 | AD2: =SUMPRODUCT((INDIRECT($A2&"!B:B")="A")*((INDIRECT($A2&"!O:O")="T+2Q"))) -> 0 | AE2: =SUMPRODUCT((INDIRECT($A2&"!B:B")="A")*((INDIRECT($A2&"!O:O")="T+2Q"))) -> 0 | AF2: =SUMPRODUCT((INDIRECT($A2&"!B:B")="B")*((INDIRECT($A2&"!O:O")="T+2Q"))) -> 0 | AG2: =SUMPRODUCT((INDIRECT($A2&"!B:B")="C")*((INDIRECT($A2&"!O:O")="T+2Q"))) -> 0 | AH2: =SUMPRODUCT((INDIRECT($A2&"!B:B")="CA")*((INDIRECT($A2&"!O:O")="T+2Q"))) -> 0 | AI2: =SUMPRODUCT((INDIRECT($A2&"!B:B")="CB")*((INDIRECT($A2&"!O:O")="T+2Q"))) -> 0 | AJ2: =SUMPRODUCT((INDIRECT($A2&"!B:B")="CC")*((INDIRECT($A2&"!O:O")="T+2Q"))) -> 0 | AK2: =SUMPRODUCT((INDIRECT($A2&"!B:B")="A")*((INDIRECT($A2&"!O:O")="T+3Q"))) -> 0 | AL2: =SUMPRODUCT((INDIRECT($A2&"!B:B")="B")*((INDIRECT($A2&"!O:O")="T+3Q"))) -> 0 | AM2: =SUMPRODUCT((INDIRECT($A2&"!B:B")="C")*((INDIRECT($A2&"!O:O")="T+3Q"))) -> 0 | AN2: =SUMPRODUCT((INDIRECT($A2&"!B:B")="CA")*((INDIRECT($A2&"!O:O")="T+3Q"))) -> 0 | AO2: =SUMPRODUCT((INDIRECT($A2&"!B:B")="CB")*((INDIRECT($A2&"!O:O")="T+3Q"))) -> 0 | AP2: =SUMPRODUCT((INDIRECT($A2&"!B:B")="CC")*((INDIRECT($A2&"!O:O")="T+3Q"))) -> 0 | AQ2: =SUMPRODUCT((INDIRECT($A2&"!B:B")="A")*((INDIRECT($A2&"!O:O")="T+4Q"))) -> 0 | AR2: =SUMPRODUCT((INDIRECT($A2&"!B:B")="B")*((INDIRECT($A2&"!O:O")="T+4Q"))) -> 0 | AS2: =SUMPRODUCT((INDIRECT($A2&"!B:B")="C")*((INDIRECT($A2&"!O:O")="T+4Q"))) -> 0 | AT2: =SUMPRODUCT((INDIRECT($A2&"!B:B")="CA")*((INDIRECT($A2&"!O:O")="T+4Q"))) -> 0 | AU2: =SUMPRODUCT((INDIRECT($A2&"!B:B")="CB")*((INDIRECT($A2&"!O:O")="T+4Q"))) -> 0
A3: HB | B3: SMF会话数测量 | C3: N11接口SMF | D3: =COUNTIF(HB!$B:$B,"A") -> 4 | E3: =COUNTIF(HB!$B:$B,"B") -> 4 | F3: =COUNTIF(HB!$B:$B,"C") -> 4 | G3: =COUNTIF(HB!$B:$B,"CA") -> 0 | H3: =COUNTIF(HB!$B:$B,"CB") -> 0 | I3: =COUNTIF(HB!$B:$B,"CC") -> 0 | J3: =SUM(D3:I3) -> 12 | P3: =SUMPRODUCT((INDIRECT($A3&"!B:B")="CA")*((INDIRECT($A3&"!O:O")="NA"))) -> 0 | Q3: =SUMPRODUCT((INDIRECT($A3&"!B:B")="CB")*((INDIRECT($A3&"!O:O")="NA"))) -> 0 | R3: =SUMPRODUCT((INDIRECT($A3&"!B:B")="CC")*((INDIRECT($A3&"!O:O")="NA"))) -> 0 | S3: =SUMPRODUCT((INDIRECT($A3&"!B:B")="A")*((INDIRECT($A3&"!O:O")="T"))) -> 0 | T3: =SUMPRODUCT((INDIRECT($A3&"!B:B")="B")*((INDIRECT($A3&"!O:O")="T"))) -> 0 | U3: =SUMPRODUCT((INDIRECT($A3&"!B:B")="C")*((INDIRECT($A3&"!O:O")="T"))) -> 0 | V3: =SUMPRODUCT((INDIRECT($A3&"!B:B")="CA")*((INDIRECT($A3&"!O:O")="T"))) -> 0 | W3: =SUMPRODUCT((INDIRECT($A3&"!B:B")="CB")*((INDIRECT($A3&"!O:O")="T"))) -> 0 | X3: =SUMPRODUCT((INDIRECT($A3&"!B:B")="CC")*((INDIRECT($A3&"!O:O")="T"))) -> 0 | Y3: =SUMPRODUCT((INDIRECT($A3&"!B:B")="A")*((INDIRECT($A3&"!O:O")="T+1Q"))) -> 0 | Z3: =SUMPRODUCT((INDIRECT($A3&"!B:B")="B")*((INDIRECT($A3&"!O:O")="T+1Q"))) -> 0 | AA3: =SUMPRODUCT((INDIRECT($A3&"!B:B")="C")*((INDIRECT($A3&"!O:O")="T+1Q"))) -> 0 | AB3: =SUMPRODUCT((INDIRECT($A3&"!B:B")="CA")*((INDIRECT($A3&"!O:O")="T+1Q"))) -> 0 | AC3: =SUMPRODUCT((INDIRECT($A3&"!B:B")="CB")*((INDIRECT($A3&"!O:O")="T+1Q"))) -> 0 | AD3: =SUMPRODUCT((INDIRECT($A3&"!B:B")="CC")*((INDIRECT($A3&"!O:O")="T+1Q"))) -> 0 | AE3: =SUMPRODUCT((INDIRECT($A3&"!B:B")="A")*((INDIRECT($A3&"!O:O")="T+2Q"))) -> 0 | AF3: =SUMPRODUCT((INDIRECT($A3&"!B:B")="B")*((INDIRECT($A3&"!O:O")="T+2Q"))) -> 0 | AG3: =SUMPRODUCT((INDIRECT($A3&"!B:B")="C")*((INDIRECT($A3&"!O:O")="T+2Q"))) -> 0 | AH3: =SUMPRODUCT((INDIRECT($A3&"!B:B")="CA")*((INDIRECT($A3&"!O:O")="T+2Q"))) -> 0 | AI3: =SUMPRODUCT((INDIRECT($A3&"!B:B")="CB")*((INDIRECT($A3&"!O:O")="T+2Q"))) -> 0 | AJ3: =SUMPRODUCT((INDIRECT($A3&"!B:B")="CC")*((INDIRECT($A3&"!O:O")="T+2Q"))) -> 0 | AK3: =SUMPRODUCT((INDIRECT($A3&"!B:B")="A")*((INDIRECT($A3&"!O:O")="T+3Q"))) -> 0 | AL3: =SUMPRODUCT((INDIRECT($A3&"!B:B")="B")*((INDIRECT($A3&"!O:O")="T+3Q"))) -> 0 | AM3: =SUMPRODUCT((INDIRECT($A3&"!B:B")="C")*((INDIRECT($A3&"!O:O")="T+3Q"))) -> 0 | AN3: =SUMPRODUCT((INDIRECT($A3&"!B:B")="CA")*((INDIRECT($A3&"!O:O")="T+3Q"))) -> 0 | AO3: =SUMPRODUCT((INDIRECT($A3&"!B:B")="CB")*((INDIRECT($A3&"!O:O")="T+3Q"))) -> 0 | AP3: =SUMPRODUCT((INDIRECT($A3&"!B:B")="CC")*((INDIRECT($A3&"!O:O")="T+3Q"))) -> 0 | AQ3: =SUMPRODUCT((INDIRECT($A3&"!B:B")="A")*((INDIRECT($A3&"!O:O")="T+4Q"))) -> 0 | AR3: =SUMPRODUCT((INDIRECT($A3&"!B:B")="B")*((INDIRECT($A3&"!O:O")="T+4Q"))) -> 0 | AS3: =SUMPRODUCT((INDIRECT($A3&"!B:B")="C")*((INDIRECT($A3&"!O:O")="T+4Q"))) -> 0 | AT3: =SUMPRODUCT((INDIRECT($A3&"!B:B")="CA")*((INDIRECT($A3&"!O:O")="T+4Q"))) -> 0 | AU3: =SUMPRODUCT((INDIRECT($A3&"!B:B")="CB")*((INDIRECT($A3&"!O:O")="T+4Q"))) -> 0
A4: HC | B4: 网元资源性能测量 | D4: =COUNTIF(HC!$B:$B,"A") -> 0 | E4: =COUNTIF(HC!$B:$B,"B") -> 1 | F4: =COUNTIF(HC!$B:$B,"C") -> 0 | G4: =COUNTIF(HC!$B:$B,"CA") -> 0 | H4: =COUNTIF(HC!$B:$B,"CB") -> 0 | I4: =COUNTIF(HC!$B:$B,"CC") -> 0 | J4: =SUM(D4:I4) -> 1 | P4: =SUMPRODUCT((INDIRECT($A4&"!B:B")="CA")*((INDIRECT($A4&"!O:O")="NA"))) -> 0 | Q4: =SUMPRODUCT((INDIRECT($A4&"!B:B")="CB")*((INDIRECT($A4&"!O:O")="NA"))) -> 0 | R4: =SUMPRODUCT((INDIRECT($A4&"!B:B")="CC")*((INDIRECT($A4&"!O:O")="NA"))) -> 0 | S4: =SUMPRODUCT((INDIRECT($A4&"!B:B")="A")*((INDIRECT($A4&"!O:O")="T"))) -> 0 | T4: =SUMPRODUCT((INDIRECT($A4&"!B:B")="B")*((INDIRECT($A4&"!O:O")="T"))) -> 0 | U4: =SUMPRODUCT((INDIRECT($A4&"!B:B")="C")*((INDIRECT($A4&"!O:O")="T"))) -> 0 | V4: =SUMPRODUCT((INDIRECT($A4&"!B:B")="CA")*((INDIRECT($A4&"!O:O")="T"))) -> 0 | W4: =SUMPRODUCT((INDIRECT($A4&"!B:B")="CB")*((INDIRECT($A4&"!O:O")="T"))) -> 0 | X4: =SUMPRODUCT((INDIRECT($A4&"!B:B")="CC")*((INDIRECT($A4&"!O:O")="T"))) -> 0 | Y4: =SUMPRODUCT((INDIRECT($A4&"!B:B")="A")*((INDIRECT($A4&"!O:O")="T+1Q"))) -> 0 | Z4: =SUMPRODUCT((INDIRECT($A4&"!B:B")="B")*((INDIRECT($A4&"!O:O")="T+1Q"))) -> 0 | AA4: =SUMPRODUCT((INDIRECT($A4&"!B:B")="C")*((INDIRECT($A4&"!O:O")="T+1Q"))) -> 0 | AB4: =SUMPRODUCT((INDIRECT($A4&"!B:B")="CA")*((INDIRECT($A4&"!O:O")="T+1Q"))) -> 0 | AC4: =SUMPRODUCT((INDIRECT($A4&"!B:B")="CB")*((INDIRECT($A4&"!O:O")="T+1Q"))) -> 0 | AD4: =SUMPRODUCT((INDIRECT($A4&"!B:B")="CC")*((INDIRECT($A4&"!O:O")="T+1Q"))) -> 0 | AE4: =SUMPRODUCT((INDIRECT($A4&"!B:B")="A")*((INDIRECT($A4&"!O:O")="T+2Q"))) -> 0 | AF4: =SUMPRODUCT((INDIRECT($A4&"!B:B")="B")*((INDIRECT($A4&"!O:O")="T+2Q"))) -> 0 | AG4: =SUMPRODUCT((INDIRECT($A4&"!B:B")="C")*((INDIRECT($A4&"!O:O")="T+2Q"))) -> 0 | AH4: =SUMPRODUCT((INDIRECT($A4&"!B:B")="CA")*((INDIRECT($A4&"!O:O")="T+2Q"))) -> 0 | AI4: =SUMPRODUCT((INDIRECT($A4&"!B:B")="CB")*((INDIRECT($A4&"!O:O")="T+2Q"))) -> 0 | AJ4: =SUMPRODUCT((INDIRECT($A4&"!B:B")="CC")*((INDIRECT($A4&"!O:O")="T+2Q"))) -> 0 | AK4: =SUMPRODUCT((INDIRECT($A4&"!B:B")="A")*((INDIRECT($A4&"!O:O")="T+3Q"))) -> 0 | AL4: =SUMPRODUCT((INDIRECT($A4&"!B:B")="B")*((INDIRECT($A4&"!O:O")="T+3Q"))) -> 0 | AM4: =SUMPRODUCT((INDIRECT($A4&"!B:B")="C")*((INDIRECT($A4&"!O:O")="T+3Q"))) -> 0 | AN4: =SUMPRODUCT((INDIRECT($A4&"!B:B")="CA")*((INDIRECT($A4&"!O:O")="T+3Q"))) -> 0 | AO4: =SUMPRODUCT((INDIRECT($A4&"!B:B")="CB")*((INDIRECT($A4&"!O:O")="T+3Q"))) -> 0 | AP4: =SUMPRODUCT((INDIRECT($A4&"!B:B")="CC")*((INDIRECT($A4&"!O:O")="T+3Q"))) -> 0 | AQ4: =SUMPRODUCT((INDIRECT($A4&"!B:B")="A")*((INDIRECT($A4&"!O:O")="T+4Q"))) -> 0 | AR4: =SUMPRODUCT((INDIRECT($A4&"!B:B")="B")*((INDIRECT($A4&"!O:O")="T+4Q"))) -> 0 | AS4: =SUMPRODUCT((INDIRECT($A4&"!B:B")="C")*((INDIRECT($A4&"!O:O")="T+4Q"))) -> 0 | AT4: =SUMPRODUCT((INDIRECT($A4&"!B:B")="CA")*((INDIRECT($A4&"!O:O")="T+4Q"))) -> 0 | AU4: =SUMPRODUCT((INDIRECT($A4&"!B:B")="CB")*((INDIRECT($A4&"!O:O")="T+4Q"))) -> 0
A5: HD | B5: 地址池使用率统计 | D5: =COUNTIF(HD!$B:$B,"A") -> 0 | E5: =COUNTIF(HD!$B:$B,"B") -> 2 | F5: =COUNTIF(HD!$B:$B,"C") -> 2 | G5: =COUNTIF(HD!$B:$B,"CA") -> 0 | H5: =COUNTIF(HD!$B:$B,"CB") -> 0 | I5: =COUNTIF(HD!$B:$B,"CC") -> 0 | J5: =SUM(D5:I5) -> 4 | P5: =SUMPRODUCT((INDIRECT($A5&"!B:B")="CA")*((INDIRECT($A5&"!O:O")="NA"))) -> 0 | Q5: =SUMPRODUCT((INDIRECT($A5&"!B:B")="CB")*((INDIRECT($A5&"!O:O")="NA"))) -> 0 | R5: =SUMPRODUCT((INDIRECT($A5&"!B:B")="CC")*((INDIRECT($A5&"!O:O")="NA"))) -> 0 | S5: =SUMPRODUCT((INDIRECT($A5&"!B:B")="A")*((INDIRECT($A5&"!O:O")="T"))) -> 0 | T5: =SUMPRODUCT((INDIRECT($A5&"!B:B")="B")*((INDIRECT($A5&"!O:O")="T"))) -> 0 | U5: =SUMPRODUCT((INDIRECT($A5&"!B:B")="C")*((INDIRECT($A5&"!O:O")="T"))) -> 0 | V5: =SUMPRODUCT((INDIRECT($A5&"!B:B")="CA")*((INDIRECT($A5&"!O:O")="T"))) -> 0 | W5: =SUMPRODUCT((INDIRECT($A5&"!B:B")="CB")*((INDIRECT($A5&"!O:O")="T"))) -> 0 | X5: =SUMPRODUCT((INDIRECT($A5&"!B:B")="CC")*((INDIRECT($A5&"!O:O")="T"))) -> 0 | Y5: =SUMPRODUCT((INDIRECT($A5&"!B:B")="A")*((INDIRECT($A5&"!O:O")="T+1Q"))) -> 0 | Z5: =SUMPRODUCT((INDIRECT($A5&"!B:B")="B")*((INDIRECT($A5&"!O:O")="T+1Q"))) -> 0 | AA5: =SUMPRODUCT((INDIRECT($A5&"!B:B")="C")*((INDIRECT($A5&"!O:O")="T+1Q"))) -> 0 | AB5: =SUMPRODUCT((INDIRECT($A5&"!B:B")="CA")*((INDIRECT($A5&"!O:O")="T+1Q"))) -> 0 | AC5: =SUMPRODUCT((INDIRECT($A5&"!B:B")="CB")*((INDIRECT($A5&"!O:O")="T+1Q"))) -> 0 | AD5: =SUMPRODUCT((INDIRECT($A5&"!B:B")="CC")*((INDIRECT($A5&"!O:O")="T+1Q"))) -> 0 | AE5: =SUMPRODUCT((INDIRECT($A5&"!B:B")="A")*((INDIRECT($A5&"!O:O")="T+2Q"))) -> 0 | AF5: =SUMPRODUCT((INDIRECT($A5&"!B:B")="B")*((INDIRECT($A5&"!O:O")="T+2Q"))) -> 0 | AG5: =SUMPRODUCT((INDIRECT($A5&"!B:B")="C")*((INDIRECT($A5&"!O:O")="T+2Q"))) -> 0 | AH5: =SUMPRODUCT((INDIRECT($A5&"!B:B")="CA")*((INDIRECT($A5&"!O:O")="T+2Q"))) -> 0 | AI5: =SUMPRODUCT((INDIRECT($A5&"!B:B")="CB")*((INDIRECT($A5&"!O:O")="T+2Q"))) -> 0 | AJ5: =SUMPRODUCT((INDIRECT($A5&"!B:B")="CC")*((INDIRECT($A5&"!O:O")="T+2Q"))) -> 0 | AK5: =SUMPRODUCT((INDIRECT($A5&"!B:B")="A")*((INDIRECT($A5&"!O:O")="T+3Q"))) -> 0 | AL5: =SUMPRODUCT((INDIRECT($A5&"!B:B")="B")*((INDIRECT($A5&"!O:O")="T+3Q"))) -> 0 | AM5: =SUMPRODUCT((INDIRECT($A5&"!B:B")="C")*((INDIRECT($A5&"!O:O")="T+3Q"))) -> 0 | AN5: =SUMPRODUCT((INDIRECT($A5&"!B:B")="CA")*((INDIRECT($A5&"!O:O")="T+3Q"))) -> 0 | AO5: =SUMPRODUCT((INDIRECT($A5&"!B:B")="CB")*((INDIRECT($A5&"!O:O")="T+3Q"))) -> 0 | AP5: =SUMPRODUCT((INDIRECT($A5&"!B:B")="CC")*((INDIRECT($A5&"!O:O")="T+3Q"))) -> 0 | AQ5: =SUMPRODUCT((INDIRECT($A5&"!B:B")="A")*((INDIRECT($A5&"!O:O")="T+4Q"))) -> 0 | AR5: =SUMPRODUCT((INDIRECT($A5&"!B:B")="B")*((INDIRECT($A5&"!O:O")="T+4Q"))) -> 0 | AS5: =SUMPRODUCT((INDIRECT($A5&"!B:B")="C")*((INDIRECT($A5&"!O:O")="T+4Q"))) -> 0 | AT5: =SUMPRODUCT((INDIRECT($A5&"!B:B")="CA")*((INDIRECT($A5&"!O:O")="T+4Q"))) -> 0 | AU5: =SUMPRODUCT((INDIRECT($A5&"!B:B")="CB")*((INDIRECT($A5&"!O:O")="T+4Q"))) -> 0
A6: HE | B6: N7接口测量数据 | C6: SMF和PCF接口 | D6: =COUNTIF(HE!$B:$B,"A") -> 0 | E6: =COUNTIF(HE!$B:$B,"B") -> 0 | F6: =COUNTIF(HE!$B:$B,"C") -> 6 | G6: =COUNTIF(HE!$B:$B,"CA") -> 0 | H6: =COUNTIF(HE!$B:$B,"CB") -> 0 | I6: =COUNTIF(HE!$B:$B,"CC") -> 0 | J6: =SUM(D6:I6) -> 6 | P6: =SUMPRODUCT((INDIRECT($A6&"!B:B")="CA")*((INDIRECT($A6&"!O:O")="NA"))) -> 0 | Q6: =SUMPRODUCT((INDIRECT($A6&"!B:B")="CB")*((INDIRECT($A6&"!O:O")="NA"))) -> 0 | R6: =SUMPRODUCT((INDIRECT($A6&"!B:B")="CC")*((INDIRECT($A6&"!O:O")="NA"))) -> 0 | S6: =SUMPRODUCT((INDIRECT($A6&"!B:B")="A")*((INDIRECT($A6&"!O:O")="T"))) -> 0 | T6: =SUMPRODUCT((INDIRECT($A6&"!B:B")="B")*((INDIRECT($A6&"!O:O")="T"))) -> 0 | U6: =SUMPRODUCT((INDIRECT($A6&"!B:B")="C")*((INDIRECT($A6&"!O:O")="T"))) -> 0 | V6: =SUMPRODUCT((INDIRECT($A6&"!B:B")="CA")*((INDIRECT($A6&"!O:O")="T"))) -> 0 | W6: =SUMPRODUCT((INDIRECT($A6&"!B:B")="CB")*((INDIRECT($A6&"!O:O")="T"))) -> 0 | X6: =SUMPRODUCT((INDIRECT($A6&"!B:B")="CC")*((INDIRECT($A6&"!O:O")="T"))) -> 0 | Y6: =SUMPRODUCT((INDIRECT($A6&"!B:B")="A")*((INDIRECT($A6&"!O:O")="T+1Q"))) -> 0 | Z6: =SUMPRODUCT((INDIRECT($A6&"!B:B")="B")*((INDIRECT($A6&"!O:O")="T+1Q"))) -> 0 | AA6: =SUMPRODUCT((INDIRECT($A6&"!B:B")="C")*((INDIRECT($A6&"!O:O")="T+1Q"))) -> 0 | AB6: =SUMPRODUCT((INDIRECT($A6&"!B:B")="CA")*((INDIRECT($A6&"!O:O")="T+1Q"))) -> 0 | AC6: =SUMPRODUCT((INDIRECT($A6&"!B:B")="CB")*((INDIRECT($A6&"!O:O")="T+1Q"))) -> 0 | AD6: =SUMPRODUCT((INDIRECT($A6&"!B:B")="CC")*((INDIRECT($A6&"!O:O")="T+1Q"))) -> 0 | AE6: =SUMPRODUCT((INDIRECT($A6&"!B:B")="A")*((INDIRECT($A6&"!O:O")="T+2Q"))) -> 0 | AF6: =SUMPRODUCT((INDIRECT($A6&"!B:B")="B")*((INDIRECT($A6&"!O:O")="T+2Q"))) -> 0 | AG6: =SUMPRODUCT((INDIRECT($A6&"!B:B")="C")*((INDIRECT($A6&"!O:O")="T+2Q"))) -> 0 | AH6: =SUMPRODUCT((INDIRECT($A6&"!B:B")="CA")*((INDIRECT($A6&"!O:O")="T+2Q"))) -> 0 | AI6: =SUMPRODUCT((INDIRECT($A6&"!B:B")="CB")*((INDIRECT($A6&"!O:O")="T+2Q"))) -> 0 | AJ6: =SUMPRODUCT((INDIRECT($A6&"!B:B")="CC")*((INDIRECT($A6&"!O:O")="T+2Q"))) -> 0 | AK6: =SUMPRODUCT((INDIRECT($A6&"!B:B")="A")*((INDIRECT($A6&"!O:O")="T+3Q"))) -> 0 | AL6: =SUMPRODUCT((INDIRECT($A6&"!B:B")="B")*((INDIRECT($A6&"!O:O")="T+3Q"))) -> 0 | AM6: =SUMPRODUCT((INDIRECT($A6&"!B:B")="C")*((INDIRECT($A6&"!O:O")="T+3Q"))) -> 0 | AN6: =SUMPRODUCT((INDIRECT($A6&"!B:B")="CA")*((INDIRECT($A6&"!O:O")="T+3Q"))) -> 0 | AO6: =SUMPRODUCT((INDIRECT($A6&"!B:B")="CB")*((INDIRECT($A6&"!O:O")="T+3Q"))) -> 0 | AP6: =SUMPRODUCT((INDIRECT($A6&"!B:B")="CC")*((INDIRECT($A6&"!O:O")="T+3Q"))) -> 0 | AQ6: =SUMPRODUCT((INDIRECT($A6&"!B:B")="A")*((INDIRECT($A6&"!O:O")="T+4Q"))) -> 0 | AR6: =SUMPRODUCT((INDIRECT($A6&"!B:B")="B")*((INDIRECT($A6&"!O:O")="T+4Q"))) -> 0 | AS6: =SUMPRODUCT((INDIRECT($A6&"!B:B")="C")*((INDIRECT($A6&"!O:O")="T+4Q"))) -> 0 | AT6: =SUMPRODUCT((INDIRECT($A6&"!B:B")="CA")*((INDIRECT($A6&"!O:O")="T+4Q"))) -> 0 | AU6: =SUMPRODUCT((INDIRECT($A6&"!B:B")="CB")*((INDIRECT($A6&"!O:O")="T+4Q"))) -> 0
A7: HF | B7: N10接口测量数据 | C7: SMF和UDM接口 | D7: =COUNTIF(HF!$B:$B,"A") -> 0 | E7: =COUNTIF(HF!$B:$B,"B") -> 4 | F7: =COUNTIF(HF!$B:$B,"C") -> 6 | G7: =COUNTIF(HF!$B:$B,"CA") -> 0 | H7: =COUNTIF(HF!$B:$B,"CB") -> 0 | I7: =COUNTIF(HF!$B:$B,"CC") -> 0 | J7: =SUM(D7:I7) -> 10 | P7: =SUMPRODUCT((INDIRECT($A7&"!B:B")="CA")*((INDIRECT($A7&"!O:O")="NA"))) -> 0 | Q7: =SUMPRODUCT((INDIRECT($A7&"!B:B")="CB")*((INDIRECT($A7&"!O:O")="NA"))) -> 0 | R7: =SUMPRODUCT((INDIRECT($A7&"!B:B")="CC")*((INDIRECT($A7&"!O:O")="NA"))) -> 0 | S7: =SUMPRODUCT((INDIRECT($A7&"!B:B")="A")*((INDIRECT($A7&"!O:O")="T"))) -> 0 | T7: =SUMPRODUCT((INDIRECT($A7&"!B:B")="B")*((INDIRECT($A7&"!O:O")="T"))) -> 0 | U7: =SUMPRODUCT((INDIRECT($A7&"!B:B")="C")*((INDIRECT($A7&"!O:O")="T"))) -> 0 | V7: =SUMPRODUCT((INDIRECT($A7&"!B:B")="CA")*((INDIRECT($A7&"!O:O")="T"))) -> 0 | W7: =SUMPRODUCT((INDIRECT($A7&"!B:B")="CB")*((INDIRECT($A7&"!O:O")="T"))) -> 0 | X7: =SUMPRODUCT((INDIRECT($A7&"!B:B")="CC")*((INDIRECT($A7&"!O:O")="T"))) -> 0 | Y7: =SUMPRODUCT((INDIRECT($A7&"!B:B")="A")*((INDIRECT($A7&"!O:O")="T+1Q"))) -> 0 | Z7: =SUMPRODUCT((INDIRECT($A7&"!B:B")="B")*((INDIRECT($A7&"!O:O")="T+1Q"))) -> 0 | AA7: =SUMPRODUCT((INDIRECT($A7&"!B:B")="C")*((INDIRECT($A7&"!O:O")="T+1Q"))) -> 0 | AB7: =SUMPRODUCT((INDIRECT($A7&"!B:B")="CA")*((INDIRECT($A7&"!O:O")="T+1Q"))) -> 0 | AC7: =SUMPRODUCT((INDIRECT($A7&"!B:B")="CB")*((INDIRECT($A7&"!O:O")="T+1Q"))) -> 0 | AD7: =SUMPRODUCT((INDIRECT($A7&"!B:B")="CC")*((INDIRECT($A7&"!O:O")="T+1Q"))) -> 0 | AE7: =SUMPRODUCT((INDIRECT($A7&"!B:B")="A")*((INDIRECT($A7&"!O:O")="T+2Q"))) -> 0 | AF7: =SUMPRODUCT((INDIRECT($A7&"!B:B")="B")*((INDIRECT($A7&"!O:O")="T+2Q"))) -> 0 | AG7: =SUMPRODUCT((INDIRECT($A7&"!B:B")="C")*((INDIRECT($A7&"!O:O")="T+2Q"))) -> 0 | AH7: =SUMPRODUCT((INDIRECT($A7&"!B:B")="CA")*((INDIRECT($A7&"!O:O")="T+2Q"))) -> 0 | AI7: =SUMPRODUCT((INDIRECT($A7&"!B:B")="CB")*((INDIRECT($A7&"!O:O")="T+2Q"))) -> 0 | AJ7: =SUMPRODUCT((INDIRECT($A7&"!B:B")="CC")*((INDIRECT($A7&"!O:O")="T+2Q"))) -> 0 | AK7: =SUMPRODUCT((INDIRECT($A7&"!B:B")="A")*((INDIRECT($A7&"!O:O")="T+3Q"))) -> 0 | AL7: =SUMPRODUCT((INDIRECT($A7&"!B:B")="B")*((INDIRECT($A7&"!O:O")="T+3Q"))) -> 0 | AM7: =SUMPRODUCT((INDIRECT($A7&"!B:B")="C")*((INDIRECT($A7&"!O:O")="T+3Q"))) -> 0 | AN7: =SUMPRODUCT((INDIRECT($A7&"!B:B")="CA")*((INDIRECT($A7&"!O:O")="T+3Q"))) -> 0 | AO7: =SUMPRODUCT((INDIRECT($A7&"!B:B")="CB")*((INDIRECT($A7&"!O:O")="T+3Q"))) -> 0 | AP7: =SUMPRODUCT((INDIRECT($A7&"!B:B")="CC")*((INDIRECT($A7&"!O:O")="T+3Q"))) -> 0 | AQ7: =SUMPRODUCT((INDIRECT($A7&"!B:B")="A")*((INDIRECT($A7&"!O:O")="T+4Q"))) -> 0 | AR7: =SUMPRODUCT((INDIRECT($A7&"!B:B")="B")*((INDIRECT($A7&"!O:O")="T+4Q"))) -> 0 | AS7: =SUMPRODUCT((INDIRECT($A7&"!B:B")="C")*((INDIRECT($A7&"!O:O")="T+4Q"))) -> 0 | AT7: =SUMPRODUCT((INDIRECT($A7&"!B:B")="CA")*((INDIRECT($A7&"!O:O")="T+4Q"))) -> 0 | AU7: =SUMPRODUCT((INDIRECT($A7&"!B:B")="CB")*((INDIRECT($A7&"!O:O")="T+4Q"))) -> 0
A8: HG | B8: A-SMF/H-SMF会话管理过程性能测量 | C8: 适用于N16a接口和N16接口SMF | D8: =COUNTIF(HG!$B:$B,"A") -> 0 | E8: =COUNTIF(HG!$B:$B,"B") -> 0 | F8: =COUNTIF(HG!$B:$B,"C") -> 0 | G8: =COUNTIF(HG!$B:$B,"CA") -> 4 | H8: =COUNTIF(HG!$B:$B,"CB") -> 15 | I8: =COUNTIF(HG!$B:$B,"CC") -> 2 | J8: =SUM(D8:I8) -> 21 | P8: =SUMPRODUCT((INDIRECT($A8&"!B:B")="CA")*((INDIRECT($A8&"!O:O")="NA"))) -> 0 | Q8: =SUMPRODUCT((INDIRECT($A8&"!B:B")="CB")*((INDIRECT($A8&"!O:O")="NA"))) -> 0 | R8: =SUMPRODUCT((INDIRECT($A8&"!B:B")="CC")*((INDIRECT($A8&"!O:O")="NA"))) -> 0 | S8: =SUMPRODUCT((INDIRECT($A8&"!B:B")="A")*((INDIRECT($A8&"!O:O")="T"))) -> 0 | T8: =SUMPRODUCT((INDIRECT($A8&"!B:B")="B")*((INDIRECT($A8&"!O:O")="T"))) -> 0 | U8: =SUMPRODUCT((INDIRECT($A8&"!B:B")="C")*((INDIRECT($A8&"!O:O")="T"))) -> 0 | V8: =SUMPRODUCT((INDIRECT($A8&"!B:B")="CA")*((INDIRECT($A8&"!O:O")="T"))) -> 0 | W8: =SUMPRODUCT((INDIRECT($A8&"!B:B")="CB")*((INDIRECT($A8&"!O:O")="T"))) -> 0 | X8: =SUMPRODUCT((INDIRECT($A8&"!B:B")="CC")*((INDIRECT($A8&"!O:O")="T"))) -> 0 | Y8: =SUMPRODUCT((INDIRECT($A8&"!B:B")="A")*((INDIRECT($A8&"!O:O")="T+1Q"))) -> 0 | Z8: =SUMPRODUCT((INDIRECT($A8&"!B:B")="B")*((INDIRECT($A8&"!O:O")="T+1Q"))) -> 0 | AA8: =SUMPRODUCT((INDIRECT($A8&"!B:B")="C")*((INDIRECT($A8&"!O:O")="T+1Q"))) -> 0 | AB8: =SUMPRODUCT((INDIRECT($A8&"!B:B")="CA")*((INDIRECT($A8&"!O:O")="T+1Q"))) -> 0 | AC8: =SUMPRODUCT((INDIRECT($A8&"!B:B")="CB")*((INDIRECT($A8&"!O:O")="T+1Q"))) -> 0 | AD8: =SUMPRODUCT((INDIRECT($A8&"!B:B")="CC")*((INDIRECT($A8&"!O:O")="T+1Q"))) -> 0 | AE8: =SUMPRODUCT((INDIRECT($A8&"!B:B")="A")*((INDIRECT($A8&"!O:O")="T+2Q"))) -> 0 | AF8: =SUMPRODUCT((INDIRECT($A8&"!B:B")="B")*((INDIRECT($A8&"!O:O")="T+2Q"))) -> 0 | AG8: =SUMPRODUCT((INDIRECT($A8&"!B:B")="C")*((INDIRECT($A8&"!O:O")="T+2Q"))) -> 0 | AH8: =SUMPRODUCT((INDIRECT($A8&"!B:B")="CA")*((INDIRECT($A8&"!O:O")="T+2Q"))) -> 0 | AI8: =SUMPRODUCT((INDIRECT($A8&"!B:B")="CB")*((INDIRECT($A8&"!O:O")="T+2Q"))) -> 0 | AJ8: =SUMPRODUCT((INDIRECT($A8&"!B:B")="CC")*((INDIRECT($A8&"!O:O")="T+2Q"))) -> 0 | AK8: =SUMPRODUCT((INDIRECT($A8&"!B:B")="A")*((INDIRECT($A8&"!O:O")="T+3Q"))) -> 0 | AL8: =SUMPRODUCT((INDIRECT($A8&"!B:B")="B")*((INDIRECT($A8&"!O:O")="T+3Q"))) -> 0 | AM8: =SUMPRODUCT((INDIRECT($A8&"!B:B")="C")*((INDIRECT($A8&"!O:O")="T+3Q"))) -> 0 | AN8: =SUMPRODUCT((INDIRECT($A8&"!B:B")="CA")*((INDIRECT($A8&"!O:O")="T+3Q"))) -> 0 | AO8: =SUMPRODUCT((INDIRECT($A8&"!B:B")="CB")*((INDIRECT($A8&"!O:O")="T+3Q"))) -> 0 | AP8: =SUMPRODUCT((INDIRECT($A8&"!B:B")="CC")*((INDIRECT($A8&"!O:O")="T+3Q"))) -> 0 | AQ8: =SUMPRODUCT((INDIRECT($A8&"!B:B")="A")*((INDIRECT($A8&"!O:O")="T+4Q"))) -> 0 | AR8: =SUMPRODUCT((INDIRECT($A8&"!B:B")="B")*((INDIRECT($A8&"!O:O")="T+4Q"))) -> 0 | AS8: =SUMPRODUCT((INDIRECT($A8&"!B:B")="C")*((INDIRECT($A8&"!O:O")="T+4Q"))) -> 0 | AT8: =SUMPRODUCT((INDIRECT($A8&"!B:B")="CA")*((INDIRECT($A8&"!O:O")="T+4Q"))) -> 0 | AU8: =SUMPRODUCT((INDIRECT($A8&"!B:B")="CB")*((INDIRECT($A8&"!O:O")="T+4Q"))) -> 0
A9: HH | B9: A-SMF/H-SMF会话数测量 | C9: 适用于N16a接口和N16接口SMF | D9: =COUNTIF(HH!$B:$B,"A") -> 0 | E9: =COUNTIF(HH!$B:$B,"B") -> 0 | F9: =COUNTIF(HH!$B:$B,"C") -> 0 | G9: =COUNTIF(HH!$B:$B,"CA") -> 4 | H9: =COUNTIF(HH!$B:$B,"CB") -> 4 | I9: =COUNTIF(HH!$B:$B,"CC") -> 4 | J9: =SUM(D9:I9) -> 12 | P9: =SUMPRODUCT((INDIRECT($A9&"!B:B")="CA")*((INDIRECT($A9&"!O:O")="NA"))) -> 0 | Q9: =SUMPRODUCT((INDIRECT($A9&"!B:B")="CB")*((INDIRECT($A9&"!O:O")="NA"))) -> 0 | R9: =SUMPRODUCT((INDIRECT($A9&"!B:B")="CC")*((INDIRECT($A9&"!O:O")="NA"))) -> 0 | S9: =SUMPRODUCT((INDIRECT($A9&"!B:B")="A")*((INDIRECT($A9&"!O:O")="T"))) -> 0 | T9: =SUMPRODUCT((INDIRECT($A9&"!B:B")="B")*((INDIRECT($A9&"!O:O")="T"))) -> 0 | U9: =SUMPRODUCT((INDIRECT($A9&"!B:B")="C")*((INDIRECT($A9&"!O:O")="T"))) -> 0 | V9: =SUMPRODUCT((INDIRECT($A9&"!B:B")="CA")*((INDIRECT($A9&"!O:O")="T"))) -> 0 | W9: =SUMPRODUCT((INDIRECT($A9&"!B:B")="CB")*((INDIRECT($A9&"!O:O")="T"))) -> 0 | X9: =SUMPRODUCT((INDIRECT($A9&"!B:B")="CC")*((INDIRECT($A9&"!O:O")="T"))) -> 0 | Y9: =SUMPRODUCT((INDIRECT($A9&"!B:B")="A")*((INDIRECT($A9&"!O:O")="T+1Q"))) -> 0 | Z9: =SUMPRODUCT((INDIRECT($A9&"!B:B")="B")*((INDIRECT($A9&"!O:O")="T+1Q"))) -> 0 | AA9: =SUMPRODUCT((INDIRECT($A9&"!B:B")="C")*((INDIRECT($A9&"!O:O")="T+1Q"))) -> 0 | AB9: =SUMPRODUCT((INDIRECT($A9&"!B:B")="CA")*((INDIRECT($A9&"!O:O")="T+1Q"))) -> 0 | AC9: =SUMPRODUCT((INDIRECT($A9&"!B:B")="CB")*((INDIRECT($A9&"!O:O")="T+1Q"))) -> 0 | AD9: =SUMPRODUCT((INDIRECT($A9&"!B:B")="CC")*((INDIRECT($A9&"!O:O")="T+1Q"))) -> 0 | AE9: =SUMPRODUCT((INDIRECT($A9&"!B:B")="A")*((INDIRECT($A9&"!O:O")="T+2Q"))) -> 0 | AF9: =SUMPRODUCT((INDIRECT($A9&"!B:B")="B")*((INDIRECT($A9&"!O:O")="T+2Q"))) -> 0 | AG9: =SUMPRODUCT((INDIRECT($A9&"!B:B")="C")*((INDIRECT($A9&"!O:O")="T+2Q"))) -> 0 | AH9: =SUMPRODUCT((INDIRECT($A9&"!B:B")="CA")*((INDIRECT($A9&"!O:O")="T+2Q"))) -> 0 | AI9: =SUMPRODUCT((INDIRECT($A9&"!B:B")="CB")*((INDIRECT($A9&"!O:O")="T+2Q"))) -> 0 | AJ9: =SUMPRODUCT((INDIRECT($A9&"!B:B")="CC")*((INDIRECT($A9&"!O:O")="T+2Q"))) -> 0 | AK9: =SUMPRODUCT((INDIRECT($A9&"!B:B")="A")*((INDIRECT($A9&"!O:O")="T+3Q"))) -> 0 | AL9: =SUMPRODUCT((INDIRECT($A9&"!B:B")="B")*((INDIRECT($A9&"!O:O")="T+3Q"))) -> 0 | AM9: =SUMPRODUCT((INDIRECT($A9&"!B:B")="C")*((INDIRECT($A9&"!O:O")="T+3Q"))) -> 0 | AN9: =SUMPRODUCT((INDIRECT($A9&"!B:B")="CA")*((INDIRECT($A9&"!O:O")="T+3Q"))) -> 0 | AO9: =SUMPRODUCT((INDIRECT($A9&"!B:B")="CB")*((INDIRECT($A9&"!O:O")="T+3Q"))) -> 0 | AP9: =SUMPRODUCT((INDIRECT($A9&"!B:B")="CC")*((INDIRECT($A9&"!O:O")="T+3Q"))) -> 0 | AQ9: =SUMPRODUCT((INDIRECT($A9&"!B:B")="A")*((INDIRECT($A9&"!O:O")="T+4Q"))) -> 0 | AR9: =SUMPRODUCT((INDIRECT($A9&"!B:B")="B")*((INDIRECT($A9&"!O:O")="T+4Q"))) -> 0 | AS9: =SUMPRODUCT((INDIRECT($A9&"!B:B")="C")*((INDIRECT($A9&"!O:O")="T+4Q"))) -> 0 | AT9: =SUMPRODUCT((INDIRECT($A9&"!B:B")="CA")*((INDIRECT($A9&"!O:O")="T+4Q"))) -> 0 | AU9: =SUMPRODUCT((INDIRECT($A9&"!B:B")="CB")*((INDIRECT($A9&"!O:O")="T+4Q"))) -> 0
A10: HI | B10: V-SMF/I-SMF会话管理过程性能测量 | C10: 适用于V-SMF或I-SMF | D10: =COUNTIF(HI!$B:$B,"A") -> 0 | E10: =COUNTIF(HI!$B:$B,"B") -> 0 | F10: =COUNTIF(HI!$B:$B,"C") -> 0 | G10: =COUNTIF(HI!$B:$B,"CA") -> 4 | H10: =COUNTIF(HI!$B:$B,"CB") -> 9 | I10: =COUNTIF(HI!$B:$B,"CC") -> 0 | J10: =SUM(D10:I10) -> 13 | P10: =SUMPRODUCT((INDIRECT($A10&"!B:B")="CA")*((INDIRECT($A10&"!O:O")="NA"))) -> 0 | Q10: =SUMPRODUCT((INDIRECT($A10&"!B:B")="CB")*((INDIRECT($A10&"!O:O")="NA"))) -> 0 | R10: =SUMPRODUCT((INDIRECT($A10&"!B:B")="CC")*((INDIRECT($A10&"!O:O")="NA"))) -> 0 | S10: =SUMPRODUCT((INDIRECT($A10&"!B:B")="A")*((INDIRECT($A10&"!O:O")="T"))) -> 0 | T10: =SUMPRODUCT((INDIRECT($A10&"!B:B")="B")*((INDIRECT($A10&"!O:O")="T"))) -> 0 | U10: =SUMPRODUCT((INDIRECT($A10&"!B:B")="C")*((INDIRECT($A10&"!O:O")="T"))) -> 0 | V10: =SUMPRODUCT((INDIRECT($A10&"!B:B")="CA")*((INDIRECT($A10&"!O:O")="T"))) -> 0 | W10: =SUMPRODUCT((INDIRECT($A10&"!B:B")="CB")*((INDIRECT($A10&"!O:O")="T"))) -> 0 | X10: =SUMPRODUCT((INDIRECT($A10&"!B:B")="CC")*((INDIRECT($A10&"!O:O")="T"))) -> 0 | Y10: =SUMPRODUCT((INDIRECT($A10&"!B:B")="A")*((INDIRECT($A10&"!O:O")="T+1Q"))) -> 0 | Z10: =SUMPRODUCT((INDIRECT($A10&"!B:B")="B")*((INDIRECT($A10&"!O:O")="T+1Q"))) -> 0 | AA10: =SUMPRODUCT((INDIRECT($A10&"!B:B")="C")*((INDIRECT($A10&"!O:O")="T+1Q"))) -> 0 | AB10: =SUMPRODUCT((INDIRECT($A10&"!B:B")="CA")*((INDIRECT($A10&"!O:O")="T+1Q"))) -> 0 | AC10: =SUMPRODUCT((INDIRECT($A10&"!B:B")="CB")*((INDIRECT($A10&"!O:O")="T+1Q"))) -> 0 | AD10: =SUMPRODUCT((INDIRECT($A10&"!B:B")="CC")*((INDIRECT($A10&"!O:O")="T+1Q"))) -> 0 | AE10: =SUMPRODUCT((INDIRECT($A10&"!B:B")="A")*((INDIRECT($A10&"!O:O")="T+2Q"))) -> 0 | AF10: =SUMPRODUCT((INDIRECT($A10&"!B:B")="B")*((INDIRECT($A10&"!O:O")="T+2Q"))) -> 0 | AG10: =SUMPRODUCT((INDIRECT($A10&"!B:B")="C")*((INDIRECT($A10&"!O:O")="T+2Q"))) -> 0 | AH10: =SUMPRODUCT((INDIRECT($A10&"!B:B")="CA")*((INDIRECT($A10&"!O:O")="T+2Q"))) -> 0 | AI10: =SUMPRODUCT((INDIRECT($A10&"!B:B")="CB")*((INDIRECT($A10&"!O:O")="T+2Q"))) -> 0 | AJ10: =SUMPRODUCT((INDIRECT($A10&"!B:B")="CC")*((INDIRECT($A10&"!O:O")="T+2Q"))) -> 0 | AK10: =SUMPRODUCT((INDIRECT($A10&"!B:B")="A")*((INDIRECT($A10&"!O:O")="T+3Q"))) -> 0 | AL10: =SUMPRODUCT((INDIRECT($A10&"!B:B")="B")*((INDIRECT($A10&"!O:O")="T+3Q"))) -> 0 | AM10: =SUMPRODUCT((INDIRECT($A10&"!B:B")="C")*((INDIRECT($A10&"!O:O")="T+3Q"))) -> 0 | AN10: =SUMPRODUCT((INDIRECT($A10&"!B:B")="CA")*((INDIRECT($A10&"!O:O")="T+3Q"))) -> 0 | AO10: =SUMPRODUCT((INDIRECT($A10&"!B:B")="CB")*((INDIRECT($A10&"!O:O")="T+3Q"))) -> 0 | AP10: =SUMPRODUCT((INDIRECT($A10&"!B:B")="CC")*((INDIRECT($A10&"!O:O")="T+3Q"))) -> 0 | AQ10: =SUMPRODUCT((INDIRECT($A10&"!B:B")="A")*((INDIRECT($A10&"!O:O")="T+4Q"))) -> 0 | AR10: =SUMPRODUCT((INDIRECT($A10&"!B:B")="B")*((INDIRECT($A10&"!O:O")="T+4Q"))) -> 0 | AS10: =SUMPRODUCT((INDIRECT($A10&"!B:B")="C")*((INDIRECT($A10&"!O:O")="T+4Q"))) -> 0 | AT10: =SUMPRODUCT((INDIRECT($A10&"!B:B")="CA")*((INDIRECT($A10&"!O:O")="T+4Q"))) -> 0 | AU10: =SUMPRODUCT((INDIRECT($A10&"!B:B")="CB")*((INDIRECT($A10&"!O:O")="T+4Q"))) -> 0
A11: HJ | B11: V-SMF/I-SMF会话数测量 | C11: 适用于V-SMF或I-SMF | D11: =COUNTIF(HJ!$B:$B,"A") -> 0 | E11: =COUNTIF(HJ!$B:$B,"B") -> 0 | F11: =COUNTIF(HJ!$B:$B,"C") -> 0 | G11: =COUNTIF(HJ!$B:$B,"CA") -> 4 | H11: =COUNTIF(HJ!$B:$B,"CB") -> 4 | I11: =COUNTIF(HJ!$B:$B,"CC") -> 0 | J11: =SUM(D11:I11) -> 8 | P11: =SUMPRODUCT((INDIRECT($A11&"!B:B")="CA")*((INDIRECT($A11&"!O:O")="NA"))) -> 0 | Q11: =SUMPRODUCT((INDIRECT($A11&"!B:B")="CB")*((INDIRECT($A11&"!O:O")="NA"))) -> 0 | R11: =SUMPRODUCT((INDIRECT($A11&"!B:B")="CC")*((INDIRECT($A11&"!O:O")="NA"))) -> 0 | S11: =SUMPRODUCT((INDIRECT($A11&"!B:B")="A")*((INDIRECT($A11&"!O:O")="T"))) -> 0 | T11: =SUMPRODUCT((INDIRECT($A11&"!B:B")="B")*((INDIRECT($A11&"!O:O")="T"))) -> 0 | U11: =SUMPRODUCT((INDIRECT($A11&"!B:B")="C")*((INDIRECT($A11&"!O:O")="T"))) -> 0 | V11: =SUMPRODUCT((INDIRECT($A11&"!B:B")="CA")*((INDIRECT($A11&"!O:O")="T"))) -> 0 | W11: =SUMPRODUCT((INDIRECT($A11&"!B:B")="CB")*((INDIRECT($A11&"!O:O")="T"))) -> 0 | X11: =SUMPRODUCT((INDIRECT($A11&"!B:B")="CC")*((INDIRECT($A11&"!O:O")="T"))) -> 0 | Y11: =SUMPRODUCT((INDIRECT($A11&"!B:B")="A")*((INDIRECT($A11&"!O:O")="T+1Q"))) -> 0 | Z11: =SUMPRODUCT((INDIRECT($A11&"!B:B")="B")*((INDIRECT($A11&"!O:O")="T+1Q"))) -> 0 | AA11: =SUMPRODUCT((INDIRECT($A11&"!B:B")="C")*((INDIRECT($A11&"!O:O")="T+1Q"))) -> 0 | AB11: =SUMPRODUCT((INDIRECT($A11&"!B:B")="CA")*((INDIRECT($A11&"!O:O")="T+1Q"))) -> 0 | AC11: =SUMPRODUCT((INDIRECT($A11&"!B:B")="CB")*((INDIRECT($A11&"!O:O")="T+1Q"))) -> 0 | AD11: =SUMPRODUCT((INDIRECT($A11&"!B:B")="CC")*((INDIRECT($A11&"!O:O")="T+1Q"))) -> 0 | AE11: =SUMPRODUCT((INDIRECT($A11&"!B:B")="A")*((INDIRECT($A11&"!O:O")="T+2Q"))) -> 0 | AF11: =SUMPRODUCT((INDIRECT($A11&"!B:B")="B")*((INDIRECT($A11&"!O:O")="T+2Q"))) -> 0 | AG11: =SUMPRODUCT((INDIRECT($A11&"!B:B")="C")*((INDIRECT($A11&"!O:O")="T+2Q"))) -> 0 | AH11: =SUMPRODUCT((INDIRECT($A11&"!B:B")="CA")*((INDIRECT($A11&"!O:O")="T+2Q"))) -> 0 | AI11: =SUMPRODUCT((INDIRECT($A11&"!B:B")="CB")*((INDIRECT($A11&"!O:O")="T+2Q"))) -> 0 | AJ11: =SUMPRODUCT((INDIRECT($A11&"!B:B")="CC")*((INDIRECT($A11&"!O:O")="T+2Q"))) -> 0 | AK11: =SUMPRODUCT((INDIRECT($A11&"!B:B")="A")*((INDIRECT($A11&"!O:O")="T+3Q"))) -> 0 | AL11: =SUMPRODUCT((INDIRECT($A11&"!B:B")="B")*((INDIRECT($A11&"!O:O")="T+3Q"))) -> 0 | AM11: =SUMPRODUCT((INDIRECT($A11&"!B:B")="C")*((INDIRECT($A11&"!O:O")="T+3Q"))) -> 0 | AN11: =SUMPRODUCT((INDIRECT($A11&"!B:B")="CA")*((INDIRECT($A11&"!O:O")="T+3Q"))) -> 0 | AO11: =SUMPRODUCT((INDIRECT($A11&"!B:B")="CB")*((INDIRECT($A11&"!O:O")="T+3Q"))) -> 0 | AP11: =SUMPRODUCT((INDIRECT($A11&"!B:B")="CC")*((INDIRECT($A11&"!O:O")="T+3Q"))) -> 0 | AQ11: =SUMPRODUCT((INDIRECT($A11&"!B:B")="A")*((INDIRECT($A11&"!O:O")="T+4Q"))) -> 0 | AR11: =SUMPRODUCT((INDIRECT($A11&"!B:B")="B")*((INDIRECT($A11&"!O:O")="T+4Q"))) -> 0 | AS11: =SUMPRODUCT((INDIRECT($A11&"!B:B")="C")*((INDIRECT($A11&"!O:O")="T+4Q"))) -> 0 | AT11: =SUMPRODUCT((INDIRECT($A11&"!B:B")="CA")*((INDIRECT($A11&"!O:O")="T+4Q"))) -> 0 | AU11: =SUMPRODUCT((INDIRECT($A11&"!B:B")="CB")*((INDIRECT($A11&"!O:O")="T+4Q"))) -> 0
A12: HK | B12: UPF转接接口测量数据 | C12: 仅适用SMF经UPF转接后到AAA服务器接口 | D12: =COUNTIF(HK!$B:$B,"A") -> 0 | E12: =COUNTIF(HK!$B:$B,"B") -> 0 | F12: =COUNTIF(HK!$B:$B,"C") -> 0 | G12: =COUNTIF(HK!$B:$B,"CA") -> 0 | H12: =COUNTIF(HK!$B:$B,"CB") -> 4 | I12: =COUNTIF(HK!$B:$B,"CC") -> 0 | J12: =SUM(D12:I12) -> 4 | P12: =SUMPRODUCT((INDIRECT($A12&"!B:B")="CA")*((INDIRECT($A12&"!O:O")="NA"))) -> 0 | Q12: =SUMPRODUCT((INDIRECT($A12&"!B:B")="CB")*((INDIRECT($A12&"!O:O")="NA"))) -> 0 | R12: =SUMPRODUCT((INDIRECT($A12&"!B:B")="CC")*((INDIRECT($A12&"!O:O")="NA"))) -> 0 | S12: =SUMPRODUCT((INDIRECT($A12&"!B:B")="A")*((INDIRECT($A12&"!O:O")="T"))) -> 0 | T12: =SUMPRODUCT((INDIRECT($A12&"!B:B")="B")*((INDIRECT($A12&"!O:O")="T"))) -> 0 | U12: =SUMPRODUCT((INDIRECT($A12&"!B:B")="C")*((INDIRECT($A12&"!O:O")="T"))) -> 0 | V12: =SUMPRODUCT((INDIRECT($A12&"!B:B")="CA")*((INDIRECT($A12&"!O:O")="T"))) -> 0 | W12: =SUMPRODUCT((INDIRECT($A12&"!B:B")="CB")*((INDIRECT($A12&"!O:O")="T"))) -> 0 | X12: =SUMPRODUCT((INDIRECT($A12&"!B:B")="CC")*((INDIRECT($A12&"!O:O")="T"))) -> 0 | Y12: =SUMPRODUCT((INDIRECT($A12&"!B:B")="A")*((INDIRECT($A12&"!O:O")="T+1Q"))) -> 0 | Z12: =SUMPRODUCT((INDIRECT($A12&"!B:B")="B")*((INDIRECT($A12&"!O:O")="T+1Q"))) -> 0 | AA12: =SUMPRODUCT((INDIRECT($A12&"!B:B")="C")*((INDIRECT($A12&"!O:O")="T+1Q"))) -> 0 | AB12: =SUMPRODUCT((INDIRECT($A12&"!B:B")="CA")*((INDIRECT($A12&"!O:O")="T+1Q"))) -> 0 | AC12: =SUMPRODUCT((INDIRECT($A12&"!B:B")="CB")*((INDIRECT($A12&"!O:O")="T+1Q"))) -> 0 | AD12: =SUMPRODUCT((INDIRECT($A12&"!B:B")="CC")*((INDIRECT($A12&"!O:O")="T+1Q"))) -> 0 | AE12: =SUMPRODUCT((INDIRECT($A12&"!B:B")="A")*((INDIRECT($A12&"!O:O")="T+2Q"))) -> 0 | AF12: =SUMPRODUCT((INDIRECT($A12&"!B:B")="B")*((INDIRECT($A12&"!O:O")="T+2Q"))) -> 0 | AG12: =SUMPRODUCT((INDIRECT($A12&"!B:B")="C")*((INDIRECT($A12&"!O:O")="T+2Q"))) -> 0 | AH12: =SUMPRODUCT((INDIRECT($A12&"!B:B")="CA")*((INDIRECT($A12&"!O:O")="T+2Q"))) -> 0 | AI12: =SUMPRODUCT((INDIRECT($A12&"!B:B")="CB")*((INDIRECT($A12&"!O:O")="T+2Q"))) -> 0 | AJ12: =SUMPRODUCT((INDIRECT($A12&"!B:B")="CC")*((INDIRECT($A12&"!O:O")="T+2Q"))) -> 0 | AK12: =SUMPRODUCT((INDIRECT($A12&"!B:B")="A")*((INDIRECT($A12&"!O:O")="T+3Q"))) -> 0 | AL12: =SUMPRODUCT((INDIRECT($A12&"!B:B")="B")*((INDIRECT($A12&"!O:O")="T+3Q"))) -> 0 | AM12: =SUMPRODUCT((INDIRECT($A12&"!B:B")="C")*((INDIRECT($A12&"!O:O")="T+3Q"))) -> 0 | AN12: =SUMPRODUCT((INDIRECT($A12&"!B:B")="CA")*((INDIRECT($A12&"!O:O")="T+3Q"))) -> 0 | AO12: =SUMPRODUCT((INDIRECT($A12&"!B:B")="CB")*((INDIRECT($A12&"!O:O")="T+3Q"))) -> 0 | AP12: =SUMPRODUCT((INDIRECT($A12&"!B:B")="CC")*((INDIRECT($A12&"!O:O")="T+3Q"))) -> 0 | AQ12: =SUMPRODUCT((INDIRECT($A12&"!B:B")="A")*((INDIRECT($A12&"!O:O")="T+4Q"))) -> 0 | AR12: =SUMPRODUCT((INDIRECT($A12&"!B:B")="B")*((INDIRECT($A12&"!O:O")="T+4Q"))) -> 0 | AS12: =SUMPRODUCT((INDIRECT($A12&"!B:B")="C")*((INDIRECT($A12&"!O:O")="T+4Q"))) -> 0 | AT12: =SUMPRODUCT((INDIRECT($A12&"!B:B")="CA")*((INDIRECT($A12&"!O:O")="T+4Q"))) -> 0 | AU12: =SUMPRODUCT((INDIRECT($A12&"!B:B")="CB")*((INDIRECT($A12&"!O:O")="T+4Q"))) -> 0
A13: HL | B13: N40接口测量数据 | C13: SMF和CHF接口 | D13: =COUNTIF(HL!$B:$B,"A") -> 2 | E13: =COUNTIF(HL!$B:$B,"B") -> 1 | F13: =COUNTIF(HL!$B:$B,"C") -> 0 | G13: =COUNTIF(HL!$B:$B,"CA") -> 0 | H13: =COUNTIF(HL!$B:$B,"CB") -> 0 | I13: =COUNTIF(HL!$B:$B,"CC") -> 0 | J13: =SUM(D13:I13) -> 3 | P13: =SUMPRODUCT((INDIRECT($A13&"!B:B")="CA")*((INDIRECT($A13&"!O:O")="NA"))) -> 0 | Q13: =SUMPRODUCT((INDIRECT($A13&"!B:B")="CB")*((INDIRECT($A13&"!O:O")="NA"))) -> 0 | R13: =SUMPRODUCT((INDIRECT($A13&"!B:B")="CC")*((INDIRECT($A13&"!O:O")="NA"))) -> 0 | S13: =SUMPRODUCT((INDIRECT($A13&"!B:B")="A")*((INDIRECT($A13&"!O:O")="T"))) -> 0 | T13: =SUMPRODUCT((INDIRECT($A13&"!B:B")="B")*((INDIRECT($A13&"!O:O")="T"))) -> 0 | U13: =SUMPRODUCT((INDIRECT($A13&"!B:B")="C")*((INDIRECT($A13&"!O:O")="T"))) -> 0 | V13: =SUMPRODUCT((INDIRECT($A13&"!B:B")="CA")*((INDIRECT($A13&"!O:O")="T"))) -> 0 | W13: =SUMPRODUCT((INDIRECT($A13&"!B:B")="CB")*((INDIRECT($A13&"!O:O")="T"))) -> 0 | X13: =SUMPRODUCT((INDIRECT($A13&"!B:B")="CC")*((INDIRECT($A13&"!O:O")="T"))) -> 0 | Y13: =SUMPRODUCT((INDIRECT($A13&"!B:B")="A")*((INDIRECT($A13&"!O:O")="T+1Q"))) -> 0 | Z13: =SUMPRODUCT((INDIRECT($A13&"!B:B")="B")*((INDIRECT($A13&"!O:O")="T+1Q"))) -> 0 | AA13: =SUMPRODUCT((INDIRECT($A13&"!B:B")="C")*((INDIRECT($A13&"!O:O")="T+1Q"))) -> 0 | AB13: =SUMPRODUCT((INDIRECT($A13&"!B:B")="CA")*((INDIRECT($A13&"!O:O")="T+1Q"))) -> 0 | AC13: =SUMPRODUCT((INDIRECT($A13&"!B:B")="CB")*((INDIRECT($A13&"!O:O")="T+1Q"))) -> 0 | AD13: =SUMPRODUCT((INDIRECT($A13&"!B:B")="CC")*((INDIRECT($A13&"!O:O")="T+1Q"))) -> 0 | AE13: =SUMPRODUCT((INDIRECT($A13&"!B:B")="A")*((INDIRECT($A13&"!O:O")="T+2Q"))) -> 0 | AF13: =SUMPRODUCT((INDIRECT($A13&"!B:B")="B")*((INDIRECT($A13&"!O:O")="T+2Q"))) -> 0 | AG13: =SUMPRODUCT((INDIRECT($A13&"!B:B")="C")*((INDIRECT($A13&"!O:O")="T+2Q"))) -> 0 | AH13: =SUMPRODUCT((INDIRECT($A13&"!B:B")="CA")*((INDIRECT($A13&"!O:O")="T+2Q"))) -> 0 | AI13: =SUMPRODUCT((INDIRECT($A13&"!B:B")="CB")*((INDIRECT($A13&"!O:O")="T+2Q"))) -> 0 | AJ13: =SUMPRODUCT((INDIRECT($A13&"!B:B")="CC")*((INDIRECT($A13&"!O:O")="T+2Q"))) -> 0 | AK13: =SUMPRODUCT((INDIRECT($A13&"!B:B")="A")*((INDIRECT($A13&"!O:O")="T+3Q"))) -> 0 | AL13: =SUMPRODUCT((INDIRECT($A13&"!B:B")="B")*((INDIRECT($A13&"!O:O")="T+3Q"))) -> 0 | AM13: =SUMPRODUCT((INDIRECT($A13&"!B:B")="C")*((INDIRECT($A13&"!O:O")="T+3Q"))) -> 0 | AN13: =SUMPRODUCT((INDIRECT($A13&"!B:B")="CA")*((INDIRECT($A13&"!O:O")="T+3Q"))) -> 0 | AO13: =SUMPRODUCT((INDIRECT($A13&"!B:B")="CB")*((INDIRECT($A13&"!O:O")="T+3Q"))) -> 0 | AP13: =SUMPRODUCT((INDIRECT($A13&"!B:B")="CC")*((INDIRECT($A13&"!O:O")="T+3Q"))) -> 0 | AQ13: =SUMPRODUCT((INDIRECT($A13&"!B:B")="A")*((INDIRECT($A13&"!O:O")="T+4Q"))) -> 0 | AR13: =SUMPRODUCT((INDIRECT($A13&"!B:B")="B")*((INDIRECT($A13&"!O:O")="T+4Q"))) -> 0 | AS13: =SUMPRODUCT((INDIRECT($A13&"!B:B")="C")*((INDIRECT($A13&"!O:O")="T+4Q"))) -> 0 | AT13: =SUMPRODUCT((INDIRECT($A13&"!B:B")="CA")*((INDIRECT($A13&"!O:O")="T+4Q"))) -> 0 | AU13: =SUMPRODUCT((INDIRECT($A13&"!B:B")="CB")*((INDIRECT($A13&"!O:O")="T+4Q"))) -> 0
A14: HM | B14: BSF查询次数测量 | C14: SMF内置BSF测量统计，适用于启用内置BSF的SMF | D14: =COUNTIF(HM!$B:$B,"A") -> 0 | E14: =COUNTIF(HM!$B:$B,"B") -> 0 | F14: =COUNTIF(HM!$B:$B,"C") -> 0 | G14: =COUNTIF(HM!$B:$B,"CA") -> 2 | H14: =COUNTIF(HM!$B:$B,"CB") -> 0 | I14: =COUNTIF(HM!$B:$B,"CC") -> 0 | J14: =SUM(D14:I14) -> 2 | P14: =SUMPRODUCT((INDIRECT($A14&"!B:B")="CA")*((INDIRECT($A14&"!O:O")="NA"))) -> 0 | Q14: =SUMPRODUCT((INDIRECT($A14&"!B:B")="CB")*((INDIRECT($A14&"!O:O")="NA"))) -> 0 | R14: =SUMPRODUCT((INDIRECT($A14&"!B:B")="CC")*((INDIRECT($A14&"!O:O")="NA"))) -> 0 | S14: =SUMPRODUCT((INDIRECT($A14&"!B:B")="A")*((INDIRECT($A14&"!O:O")="T"))) -> 0 | T14: =SUMPRODUCT((INDIRECT($A14&"!B:B")="B")*((INDIRECT($A14&"!O:O")="T"))) -> 0 | U14: =SUMPRODUCT((INDIRECT($A14&"!B:B")="C")*((INDIRECT($A14&"!O:O")="T"))) -> 0 | V14: =SUMPRODUCT((INDIRECT($A14&"!B:B")="CA")*((INDIRECT($A14&"!O:O")="T"))) -> 0 | W14: =SUMPRODUCT((INDIRECT($A14&"!B:B")="CB")*((INDIRECT($A14&"!O:O")="T"))) -> 0 | X14: =SUMPRODUCT((INDIRECT($A14&"!B:B")="CC")*((INDIRECT($A14&"!O:O")="T"))) -> 0 | Y14: =SUMPRODUCT((INDIRECT($A14&"!B:B")="A")*((INDIRECT($A14&"!O:O")="T+1Q"))) -> 0 | Z14: =SUMPRODUCT((INDIRECT($A14&"!B:B")="B")*((INDIRECT($A14&"!O:O")="T+1Q"))) -> 0 | AA14: =SUMPRODUCT((INDIRECT($A14&"!B:B")="C")*((INDIRECT($A14&"!O:O")="T+1Q"))) -> 0 | AB14: =SUMPRODUCT((INDIRECT($A14&"!B:B")="CA")*((INDIRECT($A14&"!O:O")="T+1Q"))) -> 0 | AC14: =SUMPRODUCT((INDIRECT($A14&"!B:B")="CB")*((INDIRECT($A14&"!O:O")="T+1Q"))) -> 0 | AD14: =SUMPRODUCT((INDIRECT($A14&"!B:B")="CC")*((INDIRECT($A14&"!O:O")="T+1Q"))) -> 0 | AE14: =SUMPRODUCT((INDIRECT($A14&"!B:B")="A")*((INDIRECT($A14&"!O:O")="T+2Q"))) -> 0 | AF14: =SUMPRODUCT((INDIRECT($A14&"!B:B")="B")*((INDIRECT($A14&"!O:O")="T+2Q"))) -> 0 | AG14: =SUMPRODUCT((INDIRECT($A14&"!B:B")="C")*((INDIRECT($A14&"!O:O")="T+2Q"))) -> 0 | AH14: =SUMPRODUCT((INDIRECT($A14&"!B:B")="CA")*((INDIRECT($A14&"!O:O")="T+2Q"))) -> 0 | AI14: =SUMPRODUCT((INDIRECT($A14&"!B:B")="CB")*((INDIRECT($A14&"!O:O")="T+2Q"))) -> 0 | AJ14: =SUMPRODUCT((INDIRECT($A14&"!B:B")="CC")*((INDIRECT($A14&"!O:O")="T+2Q"))) -> 0 | AK14: =SUMPRODUCT((INDIRECT($A14&"!B:B")="A")*((INDIRECT($A14&"!O:O")="T+3Q"))) -> 0 | AL14: =SUMPRODUCT((INDIRECT($A14&"!B:B")="B")*((INDIRECT($A14&"!O:O")="T+3Q"))) -> 0 | AM14: =SUMPRODUCT((INDIRECT($A14&"!B:B")="C")*((INDIRECT($A14&"!O:O")="T+3Q"))) -> 0 | AN14: =SUMPRODUCT((INDIRECT($A14&"!B:B")="CA")*((INDIRECT($A14&"!O:O")="T+3Q"))) -> 0 | AO14: =SUMPRODUCT((INDIRECT($A14&"!B:B")="CB")*((INDIRECT($A14&"!O:O")="T+3Q"))) -> 0 | AP14: =SUMPRODUCT((INDIRECT($A14&"!B:B")="CC")*((INDIRECT($A14&"!O:O")="T+3Q"))) -> 0 | AQ14: =SUMPRODUCT((INDIRECT($A14&"!B:B")="A")*((INDIRECT($A14&"!O:O")="T+4Q"))) -> 0 | AR14: =SUMPRODUCT((INDIRECT($A14&"!B:B")="B")*((INDIRECT($A14&"!O:O")="T+4Q"))) -> 0 | AS14: =SUMPRODUCT((INDIRECT($A14&"!B:B")="C")*((INDIRECT($A14&"!O:O")="T+4Q"))) -> 0 | AT14: =SUMPRODUCT((INDIRECT($A14&"!B:B")="CA")*((INDIRECT($A14&"!O:O")="T+4Q"))) -> 0 | AU14: =SUMPRODUCT((INDIRECT($A14&"!B:B")="CB")*((INDIRECT($A14&"!O:O")="T+4Q"))) -> 0
A15: 合计 | D15: =SUM(D2:D14) -> 12 | E15: =SUM(E2:E14) -> 48 | F15: =SUM(F2:F14) -> 20 | G15: =SUM(G2:G14) -> 18 | H15: =SUM(H2:H14) -> 36 | I15: =SUM(I2:I14) -> 6 | J15: =SUM(J2:J14) -> 140 | K15: =SUM(K2:K14) -> 0 | ... AU15: =SUM(AU2:AU14) -> 0
A21: 测量族 | B21: 测量族说明
A22: SMF | B22: SMF会话管理等相关测量
A23: ME | B23: 设备资源性能相关性能测量

Sheet HA
A1: 统计编码 | B1: 重要度 | C1: 英文名称 | D1: 中文名称 | E1: 定义 | F1: 触发点 | G1: 采集方式 | H1: 数据类型 | I1: 单位 | J1: 空间粒度 | K1: 时间粒度 | L1: 上报周期 | M1: 测试要求 | N1: 备注 | O1: 支持时间
A2: SMFHA01 | B2: A | C2: SMF.AttCreatePduSession | D2: PDU会话建立请求次数 | E2: UE发起的PDU会话建立请求次数。 | F2: SMF的Nsmf_PDUSession_CreateSMContext service operation（3GPP TS 23.502）被AMF调用，通过该调用SMF收到UE发送的PDU SESSION ESTABLISHMENT REQUEST消息（3GPP 24.501），不计重发。 | G2: CC | H2: 整数 | I2: 个 | J2: SmfFunction | K2: 15分钟 | L2: 15分钟 | M2: 是
B3: B | C3: SMF.AttCreatePduSession._Ns | D3: 分切片的PDU会话建立请求次数 | E3: 按照S-NSSAI统计UE发起的PDU会话建立请求次数。 | G3: CC | H3: 整数 | I3: 个 | J3: SmfFunction | K3: 15分钟 | L3: 15分钟 | M3: 否
B4: B | C4: SMF.AttCreatePduSession._Dnn | D4: 分DNN的PDU会话建立请求次数 | E4: 按照DNN统计UE发起的PDU会话建立请求次数。 | G4: CC | H4: 整数 | I4: 个 | J4: SmfFunction | K4: 15分钟 | L4: 15分钟 | M4: 否
A5: SMFHA02 | B5: A | C5: SMF.SuccCreatePduSession | D5: PDU会话建立成功次数 | E5: UE发起的PDU会话建立成功次数。 | F5: SMF通过调用Namf_Communication_N1N2MessageTransfer service operation（3GPP TS 23.502），向UE发送PDU SESSION ESTABLISHMENT ACCEPT消息（3GPP 24.501）。 | G5: CC | H5: 整数 | I5: 个 | J5: SmfFunction | K5: 15分钟 | L5: 15分钟 | M5: 是
B6: B | C6: SMF.SuccCreatePduSession._Ns | D6: 分切片的PDU会话建立成功次数 | E6: 按照S-NSSAI统计UE发起的PDU会话建立成功次数。 | G6: CC | H6: 整数 | I6: 个 | J6: SmfFunction | K6: 15分钟 | L6: 15分钟 | M6: 否
B7: B | C7: SMF.SuccCreatePduSession._Dnn | D7: 分DNN的PDU会话建立成功次数 | E7: 按照DNN统计UE发起的PDU会话建立成功次数。 | G7: CC | H7: 整数 | I7: 个 | J7: SmfFunction | K7: 15分钟 | L7: 15分钟 | M7: 否
A8: SMFHA03 | B8: B | C8: SMF.FailCreatePduSession | D8: PDU会话建立失败次数 | E8: UE发起的PDU会话建立被SMF拒绝的次数，并按拒绝原因分类统计。 | F8: SMF通过Nsmf_PDUSession_CreateSMContext Response拒绝会话建立并携带拒绝原因值或SMF通过调用Namf_Communication_N1N2MessageTransfer service operation（3GPP TS 23.502），向UE发送PDU SESSION ESTABLISHMENT REJECT消息（3GPP 24.501），5GSM cause信元标识了具体的拒绝原因值。 | G8: CC | H8: 整数 | I8: 个 | J8: SmfFunction | K8: 15分钟 | L8: 15分钟 | M8: 否
B9: C | C9: SMF.FailCreatePduSession._Cause | D9: 分原因的PDU会话建立失败次数 | M9: 否
B10: B | C10: SMF.FailCreatePduSession.82 | D10: PDU会话建立失败次数_终端完整性保护速率过低 | E10: 在会话建立及更新过程中，终端支持的完整性保护速率小于5GC要求，SMF可以拒绝 | G10: CC | H10: 整数 | I10: 个 | J10: SmfFunction | K10: 15分钟 | L10: 15分钟 | M10: 否
B11: B | C11: SMF.FailCreatePduSession.28 | D11: PDU会话建立失败次数_PDU会话类型不支持 | E11: 由于终端设置错误，请求的PDU会话类型与网络支持的PDU类型不一致。 | G11: CC | H11: 整数 | I11: 个 | J11: SmfFunction | K11: 15分钟 | L11: 15分钟 | M11: 否
B12: B | C12: SMF.FailCreatePduSession.29 | D12: PDU会话建立失败次数_鉴权失败 | E12: 在PDU会话建立过程中因终端设置或终端未签约导致鉴权失败（一般为2B业务场景） | G12: CC | H12: 整数 | I12: 个 | J12: SmfFunction | K12: 15分钟 | L12: 15分钟 | M12: 否
B13: B | C13: SMF.FailCreatePduSession.68 | D13: PDU会话建立失败次数_SSC模式不支持 | E13: 终端设置原因，终端请求的SSC模式和用户签约的不一致。 | G13: CC | H13: 整数 | I13: 个 | J13: SmfFunction | K13: 15分钟 | L13: 15分钟 | M13: 否
B14: B | C14: SMF.FailCreatePduSession.27 | D14: PDU会话建立失败次数_终端使用未知DNN或者DNN缺失 | E14: DNN未知或DNN存在缺失导致的失败 | G14: CC | H14: 整数 | I14: 个 | J14: SmfFunction | K14: 15分钟 | L14: 15分钟 | M14: 否
B15: B | C15: SMF.FailCreatePduSession.33 | D15: PDU会话建立失败次数_终端请求的业务未签约 | E15: 请求服务没有签约（可能是DNN、PDU类型未签约导致） | G15: CC | H15: 整数 | I15: 个 | J15: SmfFunction | K15: 15分钟 | L15: 15分钟 | M15: 否
B16: B | C16: SMF.FailCreatePduSession.46 | D16: PDU会话建立失败次数_终端离开本地数据网服务区域 | E16: 超出LADN服务区 | G16: CC | H16: 整数 | I16: 个 | J16: SmfFunction | K16: 15分钟 | L16: 15分钟 | M16: 否
B17: B | C17: SMF.FailCreatePduSession.26 | D17: PDU会话建立失败次数_资源不足 | E17: 在会话建立过程中，SMF因资源限制/控制场景拒绝会话建立，NAS原因值为资源不足（#26:Insufficient resources） | G17: CC | H17: 整数 | I17: 个 | J17: SmfFunction | K17: 15分钟 | L17: 15分钟
B18: B | C18: SMF.FailCreatePduSession._Ns | D18: 分切片的PDU会话建立失败次数 | E18: 按照S-NSSAI统计UE发起的PDU会话建立被SMF拒绝的次数，并按拒绝原因分类统计。 | G18: CC | H18: 整数 | I18: 个 | J18: SmfFunction | K18: 15分钟 | L18: 15分钟 | M18: 否
B19: B | C19: SMF.FailCreatePduSession._Ns.82 | D19: 分网络切片的PDU会话建立失败次数_终端完整性保护速率过低 | E19: 在会话建立及更新过程中，终端支持的完整性保护速率小于5GC要求，SMF可以拒绝 | G19: CC | H19: 整数 | I19: 个 | J19: SmfFunction | K19: 15分钟 | L19: 15分钟 | M19: 否
B20: B | C20: SMF.FailCreatePduSession._Ns.28 | D20: 分网络切片的PDU会话建立失败次数_PDU会话类型不支持 | E20: 由于终端设置错误，请求的PDU会话类型与网络支持的PDU类型不一致。 | G20: CC | H20: 整数 | I20: 个 | J20: SmfFunction | K20: 15分钟 | L20: 15分钟 | M20: 否
B21: B | C21: SMF.FailCreatePduSession._Ns.29 | D21: 分网络切片的PDU会话建立失败次数_鉴权失败 | E21: 在PDU会话建立过程中因终端设置或终端未签约导致鉴权失败（一般为2B业务场景） | G21: CC | H21: 整数 | I21: 个 | J21: SmfFunction | K21: 15分钟 | L21: 15分钟 | M21: 否
B22: B | C22: SMF.FailCreatePduSession._Ns.68 | D22: 分网络切片的PDU会话建立失败次数_SSC模式不支持 | E22: 终端设置原因，终端请求的SSC模式和用户签约的不一致。 | G22: CC | H22: 整数 | I22: 个 | J22: SmfFunction | K22: 15分钟 | L22: 15分钟 | M22: 否
B23: B | C23: SMF.FailCreatePduSession._Ns.27 | D23: 分网络切片的PDU会话建立失败次数_终端使用未知DNN或者DNN缺失 | E23: DNN未知或DNN存在缺失导致的失败 | G23: CC | H23: 整数 | I23: 个 | J23: SmfFunction | K23: 15分钟 | L23: 15分钟 | M23: 否
B24: B | C24: SMF.FailCreatePduSession._Ns.33 | D24: 分网络切片的PDU会话建立失败次数_终端请求的业务未签约 | E24: 请求服务没有签约（可能是DNN、PDU类型未签约导致） | G24: CC | H24: 整数 | I24: 个 | J24: SmfFunction | K24: 15分钟 | L24: 15分钟 | M24: 否
B25: B | C25: SMF.FailCreatePduSession._Ns.46 | D25: 分网络切片的PDU会话建立失败次数_终端离开本地数据网服务区域 | E25: 超出LADN服务区 | G25: CC | H25: 整数 | I25: 个 | J25: SmfFunction | K25: 15分钟 | L25: 15分钟 | M25: 否
B26: B | C26: SMF.FailCreatePduSession._Dnn | D26: 分DNN的PDU会话建立失败次数 | E26: 按照DNN统计UE发起的PDU会话建立被SMF拒绝的次数，并按拒绝原因分类统计。 | G26: CC | H26: 整数 | I26: 个 | J26: SmfFunction | K26: 15分钟 | L26: 15分钟 | M26: 否
B27: B | C27: SMF.FailCreatePduSession._Dnn.82 | D27: 分DNN的PDU会话建立失败次数_终端完整性保护速率过低 | E27: 在会话建立及更新过程中，终端支持的完整性保护速率小于5GC要求，SMF可以拒绝 | G27: CC | H27: 整数 | I27: 个 | J27: SmfFunction | K27: 15分钟 | L27: 15分钟 | M27: 否
B28: B | C28: SMF.FailCreatePduSession._Dnn.28 | D28: 分DNN的PDU会话建立失败次数_PDU会话类型不支持 | E28: 由于终端设置错误，请求的PDU会话类型与网络支持的PDU类型不一致。 | G28: CC | H28: 整数 | I28: 个 | J28: SmfFunction | K28: 15分钟 | L28: 15分钟 | M28: 否
B29: B | C29: SMF.FailCreatePduSession._Dnn.29 | D29: 分DNN的PDU会话建立失败次数_鉴权失败 | E29: 在PDU会话建立过程中因终端设置或终端未签约导致鉴权失败（一般为2B业务场景） | G29: CC | H29: 整数 | I29: 个 | J29: SmfFunction | K29: 15分钟 | L29: 15分钟 | M29: 否
... B32: B | C32: SMF.FailCreatePduSession._Dnn.46 | D32: 分DNN的PDU会话建立失败次数_终端离开本地数据网服务区域 | E32: 超出LADN服务区 | G32: CC | H32: 整数 | I32: 个 | J32: SmfFunction | K32: 15分钟 | L32: 15分钟 | M32: 否
A33: SMFHA04 | B33: A | C33: SMF.AttSmfModifyPduSession | D33: SMF发起的PDU会话修改请求次数 | E33: SMF发起的PDU会话修改请求次数。 | F33: SMF通过调用Namf_Communication_N1N2MessageTransfer service operation（3GPP TS 23.502），向UE发送PDU SESSION MODIFICATION COMMAND消息（3GPP 24.501），不计重发。 | G33: CC | H33: 整数 | I33: 个 | J33: SmfFunction | K33: 15分钟 | L33: 15分钟 | M33: 是
B34: B | C34: SMF.AttSmfModifyPduSession._Ns | D34: 分切片的PDU会话修改请求次数 | E34: 按照S-NSSAI统计SMF发起的PDU会话修改请求次数。 | G34: CC | H34: 整数 | I34: 个 | J34: SmfFunction | K34: 15分钟 | L34: 15分钟 | M34: 否
B35: B | C35: SMF.AttSmfModifyPduSession._Dnn | D35: 分DNN的PDU会话修改请求次数 | E35: 按照DNN统计SMF发起的PDU会话修改请求次数。 | G35: CC | H35: 整数 | I35: 个 | J35: SmfFunction | K35: 15分钟 | L35: 15分钟 | M35: 否
A36: SMFHA05 | B36: A | C36: SMF.SuccSmfModifyPduSession | D36: SMF发起的PDU会话修改成功次数 | E36: SMF发起的PDU会话修改成功次数。 | F36: SMF调用Namf_Communication_N1N2MessageTransfer service operation向AMF请求修改PDU会话之后，SMF收到UE发送的PDU SESSION MODIFICATION COMPLETE消息（3GPP 24.501）（AMF调用Nsmf_PDUSession_UpdateSMContext service），不计重发。 | G36: CC | H36: 整数 | I36: 个 | J36: SmfFunction | K36: 15分钟 | L36: 15分钟 | M36: 是
B37: B | C37: SMF.SuccSmfModifyPduSession._Ns | D37: 分切片的SMF发起的PDU会话修改成功次数 | E37: 按照S-NSSAI统计SMF发起的PDU会话修改成功次数。 | G37: CC | H37: 整数 | I37: 个 | J37: SmfFunction | K37: 15分钟 | L37: 15分钟 | M37: 否
B38: B | C38: SMF.SuccSmfModifyPduSession._Dnn | D38: 分DNN的SMF发起的PDU会话修改成功次数 | E38: 按照DNN统计SMF发起的PDU会话修改成功次数。 | G38: CC | H38: 整数 | I38: 个 | J38: SmfFunction | K38: 15分钟 | L38: 15分钟 | M38: 否
A39: SMFHA06 | B39: B | C39: SMF.FailSmfModifyPduSession | D39: SMF发起的PDU会话修改失败次数 | E39: SMF发起的PDU会话修改请求被拒绝的次数，并按拒绝原因分类统计。 | F39: SMF调用Namf_Communication_N1N2MessageTransfer service operation向AMF请求修改PDU会话之后，SMF收到AMF响应的4xx/5xx消息（AMF拒绝）(SMF调用Namf_Communication_N1N2MessageTransfer service)、或者N2SmInfo中包含“PDU_RES_MOD_FAIL”IE（NG-RAN拒绝）（AMF首次调用Nsmf_PDUSession_UpdateSMContext service）、或者N1SmInfo中包含“PDU SESSION MODIFICATION REJECT”IE（UE拒绝）（AMF第二次调用Nsmf_PDUSession_UpdateSMContext service），或者SMF收到了AMF发来的N1N2Transfer Failure Notification（UE无响应）不计重发。 | G39: CC | H39: 整数 | I39: 个 | J39: SmfFunction | K39: 15分钟 | L39: 15分钟 | M39: 否
B40: C | C40: SMF.FailSmfModifyPduSession._Cause | D40: 分原因的SMF发起的PDU会话修改失败次数 | G40: CC | H40: 整数 | I40: 个 | J40: SmfFunction | K40: 15分钟 | L40: 15分钟 | M40: 否
B41: B | C41: SMF.FailSmfModifyPduSession._Ns | D41: 分切片的SMF发起的PDU会话修改失败次数 | E41: 按照S-NSSAI统计SMF发起的PDU会话修改请求被拒绝的次数，并按拒绝原因分类统计。 | G41: CC | H41: 整数 | I41: 个 | J41: SmfFunction | K41: 15分钟 | L41: 15分钟 | M41: 否
B42: B | C42: SMF.FailSmfModifyPduSession._Dnn | D42: 分DNN的SMF发起的PDU会话修改失败次数 | E42: 按照DNN统计SMF发起的PDU会话修改请求被拒绝的次数，并按拒绝原因分类统计。 | G42: CC | H42: 整数 | I42: 个 | J42: SmfFunction | K42: 15分钟 | L42: 15分钟 | M42: 否
...

Sheet HB
A1: 统计编码 | B1: 重要度 | C1: 英文名称 | D1: 中文名称 | E1: 定义 | F1: 触发点 | G1: 采集方式 | H1: 数据类型 | I1: 单位 | J1: 空间粒度 | K1: 时间粒度 | L1: 上报周期 | M1: 测试要求 | N1: 备注 | O1: 支持时间
A2: SMFHB01 | B2: A | C2: SMF.MeanPduSession | D2: 平均PDU会话数 | E2: 一个统计周期内SMF中的平均PDU会话数。 | F2: 无 | G2: SI | H2: 整数 | I2: 个 | J2: SmfFunction | K2: 15分钟 | L2: 15分钟 | M2: 否
B3: B | C3: SMF.MeanPduSession._Ns | D3: 分切片的平均PDU会话数 | E3: 一个统计周期内按照S-NSSAI统计SMF中的平均PDU会话数。
B4: C | C4: SMF.MeanPduSession._Dnn | D4: 分DNN的平均PDU会话数 | E4: 一个统计周期内按照DNN统计SMF中的平均PDU会话数。
A5: SMFHB02 | B5: A | C5: SMF.MaxPduSession | D5: 最大PDU会话数 | E5: 一个统计周期内SMF中的最大PDU会话数。 | F5: 无 | G5: SI | H5: 整数 | I5: 个 | J5: SmfFunction | K5: 15分钟 | L5: 15分钟 | M5: 否
B6: B | C6: SMF.MaxPduSession._Ns | D6: 分切片的最大PDU会话数 | E6: 一个统计周期内按照S-NSSAI统计SMF中的最大PDU会话数。
B7: C | C7: SMF.MaxPduSession._Dnn | D7: 分DNN的最大PDU会话数 | E7: 一个统计周期内按照DNN统计SMF中的最大PDU会话数。
A8: SMFHB03 | B8: A | C8: SMF.MeanQf | D8: 平均Qos流数 | E8: 一个统计周期内SMF中的平均Qos流数。 | F8: 无 | G8: SI | H8: 整数 | I8: 个 | J8: SmfFunction | K8: 15分钟 | L8: 15分钟 | M8: 否
B9: B | C9: SMF.MeanQf._Ns | D9: 分切片的平均Qos流数 | E9: 一个统计周期内按照S-NSSAI统计SMF中的平均QoS流数。
B10: C | C10: SMF.MeanQf._Dnn | D10: 分DNN的平均Qos流数 | E10: 一个统计周期内按照DNN统计SMF中的平均QoS流数。
A11: SMFHB04 | B11: A | C11: SMF.MaxQf | D11: 最大Qos流数 | E11: 一个统计周期内SMF中的最大Qos流数。 | F11: 无 | G11: SI | H11: 整数 | I11: 个 | J11: SmfFunction | K11: 15分钟 | L11: 15分钟 | M11: 否
B12: B | C12: SMF.MaxQf._Ns | D12: 分切片的最大Qos流数 | E12: 一个统计周期内按照S-NSSAI统计SMF中的最大QoS流数。
B13: C | C13: SMF.MaxQf._Dnn | D13: 分DNN的最大Qos流数 | E13: 一个统计周期内按照DNN统计SMF中的最大QoS流数。

Sheet HC
A1: 统计编码 | B1: 重要度 | C1: 英文名称 | D1: 中文名称 | E1: 定义 | F1: 触发点 | G1: 采集方式 | H1: 数据类型 | I1: 单位 | J1: 空间粒度 | K1: 时间粒度 | L1: 上报周期 | M1: 测试要求 | N1: 备注 | O1: 支持时间
A2: SMFHC01 | B2: B | C2: ME.MeanMeLoad | D2: 系统平均负荷 | E2: 指测量周期中，网元的虚拟机资源负荷的抽样平均值。网元的虚拟机资源负荷可取对网元影响最大的模块的负荷，或取不同模块的负荷的加权平均值，不同厂商设备的计算方法各不相同。 | F2: 在测量周期内，对网元的虚拟机资源平均负荷进行采样，取上述采样值的算术平均； | G2: SI | H2: 实数 | I2: - | J2: ManagedElement | K2: 15分钟 | L2: 15分钟 | M2: 否 | N2: 以80.25%负荷为例，约定北向接口上报数据应为0.8025，不上报80.25。

Sheet HD
A1: 统计编码 | B1: 重要度 | C1: 英文名称 | D1: 中文名称 | E1: 定义 | F1: 触发点 | G1: 采集方式 | H1: 数据类型 | I1: 单位 | J1: 空间粒度 | K1: 时间粒度 | L1: 上报周期 | M1: 测试要求 | N1: 备注 | O1: 支持时间
A2: SMFHD01 | B2: B | C2: SMF.MeanAllcAddr | D2: 平均分配的地址数 | E2: SMF为UE平均分配的地址数。 | F2: 无。 | G2: SI | H2: 整数 | I2: 个 | J2: AddrPool | K2: 15分钟 | L2: 15分钟 | M2: 否
B3: C | C3: SMF.MeanAllcAddr._Ns | D3: 分切片的平均分配的地址数 | E3: 按照S-NSSAI统计统计的SMF为UE平均分配的地址数。 | F3: 无。 | G3: SI | H3: 整数 | I3: 个 | J3: AddrPool | K3: 15分钟 | L3: 15分钟 | M3: 否
A4: SMFHD02 | B4: B | C4: SMF.MaxAllcAddr | D4: 最大分配的地址数 | E4: SMF为UE最大分配的地址数。 | F4: 无。 | G4: SI | H4: 整数 | I4: 个 | J4: AddrPool | K4: 15分钟 | L4: 15分钟 | M4: 否
B5: C | C5: SMF.MaxAllcAddr._Ns | D5: 分切片的最大分配的地址数 | E5: 按照S-NSSAI统计的SMF为UE最大分配的地址数。 | F5: 无。 | G5: SI | H5: 整数 | I5: 个 | J5: AddrPool | K5: 15分钟 | L5: 15分钟 | M5: 否

Sheet HE
A1: 统计编码 | B1: 重要度 | C1: 英文名称 | D1: 中文名称 | E1: 定义 | F1: 触发点 | G1: 采集方式 | H1: 数据类型 | I1: 单位 | J1: 空间粒度 | K1: 时间粒度 | L1: 上报周期 | M1: 测试要求 | N1: 备注 | O1: 支持时间
A2: SMFHE01 | B2: C | C2: SMF.SmPlcyCtrlCreateReq | D2: 创建SM策略请求的次数 | E2: SMF向PCF发起创建SM策略请求的次数。 | F2: SMF发送HTTP POST请求消息，请求针对PCF的“SM Policies”资源URI发起“POST”标准操作。 （3GPP TS 29.512） | G2: CC | H2: 整数 | I2: 次 | J2: EpRpDynN7Smf | K2: 15分钟 | L2: 15分钟 | M2: 否
A3: SMFHE02 | B3: C | C3: SMF.SmPlcyCtrlCreateSucc | D3: 创建SM策略成功次数 | E3: PCF向SMF返回创建SM策略成功的次数。 | F3: SMF发送HTTP POST请求消息，请求针对PCF的“SM Policies”资源URI发起“POST”标准操作，SMF收到PCF返回的201 Created消息（3GPP TS 29.512） | G3: CC | H3: 整数 | I3: 次 | J3: EpRpDynN7Smf | K3: 15分钟 | L3: 15分钟 | M3: 否
A4: SMFHE03 | B4: C | C4: SMF.SmPlcyCtrlUpdateReq | D4: 更新SM策略请求的次数 | E4: SMF向PCF发起更新SM策略请求的次数。 | F4: SMF发送HTTP POST请求消息，请求针对PCF的“Individual SM Policy”资源URI发起“modify”定制操作。 （3GPP TS 29.512） | G4: CC | H4: 整数 | I4: 次 | J4: EpRpDynN7Smf | K4: 15分钟 | L4: 15分钟 | M4: 否
A5: SMFHE04 | B5: C | C5: SMF.SmPlcyCtrlUpdateSucc | D5: 更新SM策略成功次数 | E5: PCF向SMF返回更新SM策略成功的次数。 | F5: SMF发送HTTP POST请求消息，请求针对PCF的“Individual SM Policy”资源URI发起“modify”定制操作，SMF收到PCF返回的200 OK消息。（3GPP TS 29.512） | G5: CC | H5: 整数 | I5: 次 | J5: EpRpDynN7Smf | K5: 15分钟 | L5: 15分钟 | M5: 否
A6: SMFHE05 | B6: C | C6: SMF.SmPlcyCtrlDeleteReq | D6: 删除策略请求的次数 | E6: SMF向PCF发起删除SM策略请求的次数。 | F6: SMF发送HTTP POST请求消息，请求针对PCF的“Individual SM Policy”资源URI发起“delete”定制操作。 （3GPP TS 29.512） | G6: CC | H6: 整数 | I6: 次 | J6: EpRpDynN7Smf | K6: 15分钟 | L6: 15分钟 | M6: 否
A7: SMFHE06 | B7: C | C7: SMF.SmPlcyCtrlDeleteSucc | D7: 删除SM策略成功次数 | E7: PCF向SMF返回删除SM策略成功的次数。 | F7: SMF发送HTTP POST请求消息，请求针对PCF的“Individual SM Policy”资源URI发起“delete”定制操作，SMF收到PCF返回的204 No Content消息。（3GPP TS 29.512） | G7: CC | H7: 整数 | I7: 次 | J7: EpRpDynN7Smf | K7: 15分钟 | L7: 15分钟 | M7: 否

Sheet HF
A1: 统计编码 | B1: 重要度 | C1: 英文名称 | D1: 中文名称 | E1: 定义 | F1: 触发点 | G1: 采集方式 | H1: 数据类型 | I1: 单位 | J1: 空间粒度 | K1: 时间粒度 | L1: 上报周期 | M1: 测试要求 | N1: 备注 | O1: 支持时间
A2: SMFHF01 | B2: C | C2: SMF.UecmRegReq | D2: UE上下文注册请求次数 | E2: SMF向UDM发起UE上下文注册请求的次数 | F2: SMF发送HTTP PUT请求消息，请求针对UDM的“IndividualSmfRegistration”资源URI发起“PUT”标准操作。 （3GPP TS 29.503） | G2: CC | H2: 整数 | I2: 次 | J2: EpRpDynN10Smf | K2: 15分钟 | L2: 15分钟 | M2: 否
A3: SMFHF02 | B3: C | C3: SMF.UecmRegSucc | D3: UE上下文注册成功次数 | E3: SMF收到UDM返回的UE上下文注册成功的次数 | F3: SMF发送HTTP PUT请求消息，请求针对UDM的“IndividualSmfRegistration”资源URI发起“PUT”标准操作，SMF收到UDM返回201 Created消息（3GPP TS 29.503） | G3: CC | H3: 整数 | I3: 次 | J3: EpRpDynN10Smf | K3: 15分钟 | L3: 15分钟 | M3: 否
