Workbook

Sheet 修订历史
A1: 版本 | B1: 日期 | C1: 修订内容 | D1: 修订人
A2: V0.1.0 | B2: 43401 | C2: 创建第一稿 | D2: 李健、胡亚希
A3: V0.2.0 | B3: 43426 | C3: 1. 删除了SctpAssoc对象。 2. AA （management）删除了VnfInstanceId，移动至AmfFunction下。 3. AmfFunction 删除属性NfInstanceId。理由，该UUID在注册时由NRF分配，在NRF中有效，没有必要报给运维人员。 4. AmfFunction 的属性MaxUserRegistered 改为MaxUser，Registered看上去像PM 5. AmfFunction 的属性MaxNgranNum改名为MaxGnbNum | D3: 李健、胡亚希
A4: V0.2.1 | B4: 43451 | C4: 1. 补充Index页的统计公式 2. AB页，补充服务列表枚举值
A5: V0.3.0 | B5: 43482 | C5: 完善附录1：AMF的包含和继承关系图 | D5: 胡亚希
A6: V0.4.0 | B6: 43516 | C6: 1.AB页，修订Fqdn、SbiServiceList定义 2.纠正sheet编号错误:AD-->AC,AE-->AD,AF-->AE，并同步修订Index页：AD-->AC,AE-->AD,AF-->AE 3.统一中文字体为宋体10号字。 | D6: 李健、胡亚希
A7: V1.0.0 | B7: 43731 | C7: AC:EpRpDynN8Amf增加EpRpDynN8Amf_Global对象需要缺省实现的说明； AD：EpRpDynN11Amf增加EpRpDynN11Amf_Global对象需要缺省实现的说明； AE：EpRpDynN12Amf增加EpRpDynN12Amf_Global对象需要缺省实现的说明。 | D7: 李健、胡亚希、李端
B8: 43732 | C8: Index页增加“包含关系上级类”一列。
A9: V1.1.0 | B9: 43821 | C9: 1. Index页将Subnetwork改为SubNetwork,以与3GPP保持一致。 2. 附录1中的UML图，原图使用Rational Rose制作，改为由开源软件UMLet制作。 | D9: 李健
A10: V1.1.1 | B10: 44161 | C10: 1.AB页，修订SnssaiList定义，S-NSSAI=S-NSSAI=移动国家码（Mcc）+移动网络码（Mnc）+ SST + SD改为S-NSSAI=SST-SD，以与3GPP保持一致。 | D10: 刘振旺
B11: 44172 | C11: 1.AC页、AD页和AE页，修订“远端IP子网列表”定义，增加Ipv6格式和样例。
B12: 44186 | C12: 1.AA页，修订“网管接口IP地址列表”定义，明确要求支持双栈时，IPV4和IPV6地址都要体现。
A13: V1.1.2 | B13: 44547 | C13: 无内容变更，版本号随PM同步 | D13: 刘振旺
A14: V1.1.5 | B14: 44769 | C14: 1.新增AF页，列举AMF网元所涉及到的业务接口和管理接口，以及这些接口所配置的IPV4/V6地址 2.index新增一行IPResource，对应AMF的管理接口和业务接口的信息 3.相对上次修订时间超过半年，修订版本号为V1.1.5 | D14: 张渊、洪晓、梁旭驰
B15: 44804 | C15: 修订LocIpV4AddrList，LocIpV6AddrList定义：删除掉分割符描述，按字符串列表缺省的方式展示，其它的字符串列表字段保持一致 | D15: 张渊、洪晓、梁旭驰
B16: 44812 | C16: index页的IPResource包含关系上级类统一修订为ManagedElement | D16: 张渊、洪晓、梁旭驰

Sheet 应答统计
A1: AMF-NRM(V1.1.5)应答情况汇总表
A2: 设备厂家名称 | E2: XX公司
A3: 应答日期(T) | E3: XXXX年XX月XX日
A4: 本应答文档适用的设备版本（及补丁） | E4: VersionXX(patchXX)
A5: 对OMC的版本（及补丁）要求 | E5: OMC版本需升级到VXXXX (或/并 加载补丁YYYY）
A7: 内容 | C7: 规范定义数量 | D7: 不适用数量 | E7: 当前支持数量 | F7: 当前+1Q支持数量 | G7: 当前+2Q支持数量 | H7: 当前+3Q支持数量 | I7: 当前+4Q支持数量 | J7: 当前支持率 | K7: 综合支持率 | L7: 最终支持率
A8: 网络资源模型IOC属性 | B8: A类 | C8: =Index!E8 -> 3 | D8: NA | E8: =Index!O8 -> 0 | F8: =Index!U8 -> 0 | G8: =Index!AA8 -> 0 | H8: =Index!AG8 -> 0 | I8: =Index!AM8 -> 0 | J8: =(E8+E11)/(C8+C11-D11) -> 0 | K8: =((E8+E11)+0.8*(F8+F11)+0.6*(G8+G11)+0.4*(H8+H11)+0.2*(I8+I11))/(C8+C11-D11) -> 0 | L8: =((E8+E11)+(F8+F11)+(G8+G11)+(H8+H11)+(I8+I11))/(C8+C11-D11) -> 0
B9: B类 | C9: =Index!F8 -> 35 | D9: NA | E9: =Index!P8 -> 0 | F9: =Index!V8 -> 0 | G9: =Index!AB8 -> 0 | H9: =Index!AH8 -> 0 | I9: =Index!AN8 -> 0 | J9: =(E9+E12)/(C9+C12-D12) -> 0 | K9: =((E9+E12)+0.8*(F9+F12)+0.6*(G9+G12)+0.4*(H9+H12)+0.2*(I9+I12))/(C9+C12-D12) -> 0 | L9: =((E9+E12)+(F9+F12)+(G9+G12)+(H9+H12)+(I9+I12))/(C9+C12-D12) -> 0
B10: C类 | C10: =Index!G8 -> 0 | D10: NA | E10: =Index!Q8 -> 0 | F10: =Index!W8 -> 0 | G10: =Index!AC8 -> 0 | H10: =Index!AI8 -> 0 | I10: =Index!AO8 -> 0 | J10: =(E10+E13)/(C10+C13-D13) -> #DIV/0! | K10: =((E10+E13)+0.8*(F10+F13)+0.6*(G10+G13)+0.4*(H10+H13)+0.2*(I10+I13))/(C10+C13-D13) -> #DIV/0! | L10: =((E10+E13)+(F10+F13)+(G10+G13)+(H10+H13)+(I10+I13))/(C10+C13-D13) -> #DIV/0!
B11: CA类 | C11: =Index!H8 -> 0 | D11: =Index!L8 -> 0 | E11: =Index!R8 -> 0 | F11: =Index!X8 -> 0 | G11: =Index!AD8 -> 0 | H11: =Index!AJ8 -> 0 | I11: =Index!AP8 -> 0
B12: CB类 | C12: =Index!I8 -> 0 | D12: =Index!M8 -> 0 | E12: =Index!S8 -> 0 | F12: =Index!Y8 -> 0 | G12: =Index!AE8 -> 0 | H12: =Index!AK8 -> 0 | I12: =Index!AQ8 -> 0
B13: CC类 | C13: =Index!J8 -> 0 | D13: =Index!N8 -> 0 | E13: =Index!T8 -> 0 | F13: =Index!Z8 -> 0 | G13: =Index!AF8 -> 0 | H13: =Index!AL8 -> 0 | I13: =Index!AR8 -> 0
A17: 应答说明：
A18: 一、本页须填写蓝色字体部分，即公司名、应答日期、本应答适用的版本（及补丁）名、对OMC的版本（及补丁）要求。AA开始的各页仅须应答“支持时间”一列。其中， “T”：指当前(T)已经支持，所谓当前即应答日期。 “T+1Q”：指当前(T)不支持，但（当前时间+91天）之前可以支持。 “T+2Q”：指当前(T)不支持，但（当前时间+182天）之前可以支持 “T+3Q”：指当前(T)不支持，但（当前时间+273天）之前可以支持 “T+4Q”：指当前(T)不支持，但（当前时间+364天）之前可以支持 “NS”: 若计划支持时间晚于T+4Q，或没有支持计划，必须应答“NS” “NA”：对应于CA、CB、CC类条件属性,条件成立时答上述支持时间，条件不成立时答“NA”，指示不适用。
A19: 二、“Index”页以及“应答统计”页的统计结果均为公式自动生成，请勿直接改动。
A20: 三、NRM中的对象属性是否支持的应答，以北向接口的NRM文件为准。当且仅当同时满足以下3项要求时才可以应答为具体的支持时间(T/T+xQ): 1、NRM文件遵循《移动通信网网络管理技术规范 OMC北向接口 统一网络资源模型文件格式》的要求；_x000D_ 2、对象的属性名、数据类型与相应网元的北向接口信息模型规范的约定完全一致；_x000D_ 3、可以从NRM文件中取到属性值。
A21: 四、注意将文件名中的“Company”、“Version”改为你公司名称以及应答适用的网元版本。
A22: 五、若应答文档需要打印，请打印“Index”和“应答统计”页，并打印当前不支持的统计项的相关页，请勿打印全部规范，请勿打印“修订历史”和“附录”页。
A23: 本应答模板的更新日期：2022-09-23

Sheet Index
A1: 索引 | B1: 管理对象类 | C1: 备注 | D1: 包含关系上级类 | E1: A类属性数 | F1: B类属性数 | G1: C类属性数 | H1: CA类属性数 | I1: CB类属性数 | J1: CC类属性数 | K1: 小计 | L1: CA类不适用数 | M1: CB类不适用数 | N1: CC类不适用数 | O1: 当前A类支持数 | P1: 当前B类支持数 | Q1: 当前C类支持数 | R1: 当前CA类支持数 | S1: 当前CB类支持数 | T1: 当前CC类支持数 | U1: (当前+1Q)A类支持数 | V1: (当前+1Q)B类支持数 | W1: (当前+1Q)C类支持数 | X1: (当前+1Q)CA类支持数 | Y1: (当前+1Q)CB类支持数 | Z1: (当前+1Q)CC类支持数 | AA1: (当前+2Q)A类支持数 | AB1: (当前+2Q)B类支持数 | AC1: (当前+2Q)C类支持数 | AD1: (当前+2Q)CA类支持数 | AE1: (当前+2Q)CB类支持数 | AF1: (当前+2Q)CC类支持数 | AG1: (当前+3Q)A类支持数 | AH1: (当前+3Q)B类支持数 | AI1: (当前+3Q)C类支持数 | AJ1: (当前+3Q)CA类支持数 | AK1: (当前+3Q)CB类支持数 | AL1: (当前+3Q)CC类支持数 | AM1: (当前+4Q)A类支持数 | AN1: (当前+4Q)B类支持数 | AO1: (当前+4Q)C类支持数 | AP1: (当前+4Q)CA类支持数 | AQ1: (当前+4Q)CB类支持数 | AR1: (当前+4Q)CC类支持数
A2: AA | B2: ManagedElement | C2: 网元 | D2: SubNetwork | E2: =COUNTIF(AA!B:B,"A") -> 1 | F2: =COUNTIF(AA!B:B,"B") -> 8 | G2: =COUNTIF(AA!B:B,"C") -> 0 | H2: =COUNTIF(AA!B:B,"CA") -> 0 | I2: =COUNTIF(AA!B:B,"CB") -> 0 | J2: =COUNTIF(AA!B:B,"CC") -> 0 | K2: =SUM(E2:J2) -> 9 | L2: =SUMPRODUCT((AA!$B:$B="CA")*(AA!$I:$I="NA")) -> 0 | M2: =SUMPRODUCT((AA!$B:$B="CB")*(AA!$I:$I="NA")) -> 0 | N2: =SUMPRODUCT((AA!$B:$B="CC")*(AA!$I:$I="NA")) -> 0 | O2: =SUMPRODUCT((AA!$B:$B="A")*(AA!$I:$I="T")) -> 0 | P2: =SUMPRODUCT((AA!$B:$B="B")*(AA!$I:$I="T")) -> 0 | Q2: =SUMPRODUCT((AA!$B:$B="C")*(AA!$I:$I="T")) -> 0 | R2: =SUMPRODUCT((AA!$B:$B="CA")*(AA!$I:$I="T")) -> 0 | S2: =SUMPRODUCT((AA!$B:$B="CB")*(AA!$I:$I="T")) -> 0 | T2: =SUMPRODUCT((AA!$B:$B="CC")*(AA!$I:$I="T")) -> 0 | U2: =SUMPRODUCT((AA!$B:$B="A")*(AA!$I:$I="T+1Q")) -> 0 | V2: =SUMPRODUCT((AA!$B:$B="B")*(AA!$I:$I="T+1Q")) -> 0 | W2: =SUMPRODUCT((AA!$B:$B="C")*(AA!$I:$I="T+1Q")) -> 0 | X2: =SUMPRODUCT((AA!$B:$B="CA")*(AA!$I:$I="T+1Q")) -> 0 | Y2: =SUMPRODUCT((AA!$B:$B="CB")*(AA!$I:$I="T+1Q")) -> 0 | Z2: =SUMPRODUCT((AA!$B:$B="CC")*(AA!$I:$I="T+1Q")) -> 0 | AA2: =SUMPRODUCT((AA!$B:$B="A")*(AA!$I:$I="T+2Q")) -> 0 | AB2: =SUMPRODUCT((AA!$B:$B="B")*(AA!$I:$I="T+2Q")) -> 0 | AC2: =SUMPRODUCT((AA!$B:$B="C")*(AA!$I:$I="T+2Q")) -> 0 | AD2: =SUMPRODUCT((AA!$B:$B="CA")*(AA!$I:$I="T+2Q")) -> 0 | AE2: =SUMPRODUCT((AA!$B:$B="CB")*(AA!$I:$I="T+2Q")) -> 0 | AF2: =SUMPRODUCT((AA!$B:$B="CC")*(AA!$I:$I="T+2Q")) -> 0 | AG2: =SUMPRODUCT((AA!$B:$B="A")*(AA!$I:$I="T+3Q")) -> 0 | AH2: =SUMPRODUCT((AA!$B:$B="B")*(AA!$I:$I="T+3Q")) -> 0 | AI2: =SUMPRODUCT((AA!$B:$B="C")*(AA!$I:$I="T+3Q")) -> 0 | AJ2: =SUMPRODUCT((AA!$B:$B="CA")*(AA!$I:$I="T+3Q")) -> 0 | AK2: =SUMPRODUCT((AA!$B:$B="CB")*(AA!$I:$I="T+3Q")) -> 0 | AL2: =SUMPRODUCT((AA!$B:$B="CC")*(AA!$I:$I="T+3Q")) -> 0 | AM2: =SUMPRODUCT((AA!$B:$B="A")*(AA!$I:$I="T+4Q")) -> 0 | AN2: =SUMPRODUCT((AA!$B:$B="B")*(AA!$I:$I="T+4Q")) -> 0 | AO2: =SUMPRODUCT((AA!$B:$B="C")*(AA!$I:$I="T+4Q")) -> 0 | AP2: =SUMPRODUCT((AA!$B:$B="CA")*(AA!$I:$I="T+4Q")) -> 0 | AQ2: =SUMPRODUCT((AA!$B:$B="CB")*(AA!$I:$I="T+4Q")) -> 0 | AR2: =SUMPRODUCT((AA!$B:$B="CC")*(AA!$I:$I="T+4Q")) -> 0
A3: AB | B3: AmfFunction | C3: 接入和移动性管理功能 | D3: ManagedElement | E3: =COUNTIF(AB!B:B,"A") -> 2 | F3: =COUNTIF(AB!B:B,"B") -> 10 | G3: =COUNTIF(AB!B:B,"C") -> 0 | H3: =COUNTIF(AB!B:B,"CA") -> 0 | I3: =COUNTIF(AB!B:B,"CB") -> 0 | J3: =COUNTIF(AB!B:B,"CC") -> 0 | K3: =SUM(E3:J3) -> 12 | L3: =SUMPRODUCT((AB!$B:$B="CA")*(AB!$I:$I="NA")) -> 0 | M3: =SUMPRODUCT((AB!$B:$B="CB")*(AB!$I:$I="NA")) -> 0 | N3: =SUMPRODUCT((AB!$B:$B="CC")*(AB!$I:$I="NA")) -> 0 | O3: =SUMPRODUCT((AB!$B:$B="A")*(AB!$I:$I="T")) -> 0 | P3: =SUMPRODUCT((AB!$B:$B="B")*(AB!$I:$I="T")) -> 0 | Q3: =SUMPRODUCT((AB!$B:$B="C")*(AB!$I:$I="T")) -> 0 | R3: =SUMPRODUCT((AB!$B:$B="CA")*(AB!$I:$I="T")) -> 0 | S3: =SUMPRODUCT((AB!$B:$B="CB")*(AB!$I:$I="T")) -> 0 | T3: =SUMPRODUCT((AB!$B:$B="CC")*(AB!$I:$I="T")) -> 0 | U3: =SUMPRODUCT((AB!$B:$B="A")*(AB!$I:$I="T+1Q")) -> 0 | V3: =SUMPRODUCT((AB!$B:$B="B")*(AB!$I:$I="T+1Q")) -> 0 | W3: =SUMPRODUCT((AB!$B:$B="C")*(AB!$I:$I="T+1Q")) -> 0 | X3: =SUMPRODUCT((AB!$B:$B="CA")*(AB!$I:$I="T+1Q")) -> 0 | Y3: =SUMPRODUCT((AB!$B:$B="CB")*(AB!$I:$I="T+1Q")) -> 0 | Z3: =SUMPRODUCT((AB!$B:$B="CC")*(AB!$I:$I="T+1Q")) -> 0 | AA3: =SUMPRODUCT((AB!$B:$B="A")*(AB!$I:$I="T+2Q")) -> 0 | AB3: =SUMPRODUCT((AB!$B:$B="B")*(AB!$I:$I="T+2Q")) -> 0 | AC3: =SUMPRODUCT((AB!$B:$B="C")*(AB!$I:$I="T+2Q")) -> 0 | AD3: =SUMPRODUCT((AB!$B:$B="CA")*(AB!$I:$I="T+2Q")) -> 0 | AE3: =SUMPRODUCT((AB!$B:$B="CB")*(AB!$I:$I="T+2Q")) -> 0 | AF3: =SUMPRODUCT((AB!$B:$B="CC")*(AB!$I:$I="T+2Q")) -> 0 | AG3: =SUMPRODUCT((AB!$B:$B="A")*(AB!$I:$I="T+3Q")) -> 0 | AH3: =SUMPRODUCT((AB!$B:$B="B")*(AB!$I:$I="T+3Q")) -> 0 | AI3: =SUMPRODUCT((AB!$B:$B="C")*(AB!$I:$I="T+3Q")) -> 0 | AJ3: =SUMPRODUCT((AB!$B:$B="CA")*(AB!$I:$I="T+3Q")) -> 0 | AK3: =SUMPRODUCT((AB!$B:$B="CB")*(AB!$I:$I="T+3Q")) -> 0 | AL3: =SUMPRODUCT((AB!$B:$B="CC")*(AB!$I:$I="T+3Q")) -> 0 | AM3: =SUMPRODUCT((AB!$B:$B="A")*(AB!$I:$I="T+4Q")) -> 0 | AN3: =SUMPRODUCT((AB!$B:$B="B")*(AB!$I:$I="T+4Q")) -> 0 | AO3: =SUMPRODUCT((AB!$B:$B="C")*(AB!$I:$I="T+4Q")) -> 0 | AP3: =SUMPRODUCT((AB!$B:$B="CA")*(AB!$I:$I="T+4Q")) -> 0 | AQ3: =SUMPRODUCT((AB!$B:$B="CB")*(AB!$I:$I="T+4Q")) -> 0 | AR3: =SUMPRODUCT((AB!$B:$B="CC")*(AB!$I:$I="T+4Q")) -> 0
A4: AC | B4: EpRpDynN8Amf | C4: 分局向的N8（AMF-UDM）接口 | D4: AmfFunction | E4: =COUNTIF(AC!B:B,"A") -> 0 | F4: =COUNTIF(AC!B:B,"B") -> 4 | G4: =COUNTIF(AC!B:B,"C") -> 0 | H4: =COUNTIF(AC!B:B,"CA") -> 0 | I4: =COUNTIF(AC!B:B,"CB") -> 0 | J4: =COUNTIF(AC!B:B,"CC") -> 0 | K4: =SUM(E4:J4) -> 4 | L4: =SUMPRODUCT((AC!$B:$B="CA")*(AC!$I:$I="NA")) -> 0 | M4: =SUMPRODUCT((AC!$B:$B="CB")*(AC!$I:$I="NA")) -> 0 | N4: =SUMPRODUCT((AC!$B:$B="CC")*(AC!$I:$I="NA")) -> 0 | O4: =SUMPRODUCT((AC!$B:$B="A")*(AC!$I:$I="T")) -> 0 | P4: =SUMPRODUCT((AC!$B:$B="B")*(AC!$I:$I="T")) -> 0 | Q4: =SUMPRODUCT((AC!$B:$B="C")*(AC!$I:$I="T")) -> 0 | R4: =SUMPRODUCT((AC!$B:$B="CA")*(AC!$I:$I="T")) -> 0 | S4: =SUMPRODUCT((AC!$B:$B="CB")*(AC!$I:$I="T")) -> 0 | T4: =SUMPRODUCT((AC!$B:$B="CC")*(AC!$I:$I="T")) -> 0 | U4: =SUMPRODUCT((AC!$B:$B="A")*(AC!$I:$I="T+1Q")) -> 0 | V4: =SUMPRODUCT((AC!$B:$B="B")*(AC!$I:$I="T+1Q")) -> 0 | W4: =SUMPRODUCT((AC!$B:$B="C")*(AC!$I:$I="T+1Q")) -> 0 | X4: =SUMPRODUCT((AC!$B:$B="CA")*(AC!$I:$I="T+1Q")) -> 0 | Y4: =SUMPRODUCT((AC!$B:$B="CB")*(AC!$I:$I="T+1Q")) -> 0 | Z4: =SUMPRODUCT((AC!$B:$B="CC")*(AC!$I:$I="T+1Q")) -> 0 | AA4: =SUMPRODUCT((AC!$B:$B="A")*(AC!$I:$I="T+2Q")) -> 0 | AB4: =SUMPRODUCT((AC!$B:$B="B")*(AC!$I:$I="T+2Q")) -> 0 | AC4: =SUMPRODUCT((AC!$B:$B="C")*(AC!$I:$I="T+2Q")) -> 0 | AD4: =SUMPRODUCT((AC!$B:$B="CA")*(AC!$I:$I="T+2Q")) -> 0 | AE4: =SUMPRODUCT((AC!$B:$B="CB")*(AC!$I:$I="T+2Q")) -> 0 | AF4: =SUMPRODUCT((AC!$B:$B="CC")*(AC!$I:$I="T+2Q")) -> 0 | AG4: =SUMPRODUCT((AC!$B:$B="A")*(AC!$I:$I="T+3Q")) -> 0 | AH4: =SUMPRODUCT((AC!$B:$B="B")*(AC!$I:$I="T+3Q")) -> 0 | AI4: =SUMPRODUCT((AC!$B:$B="C")*(AC!$I:$I="T+3Q")) -> 0 | AJ4: =SUMPRODUCT((AC!$B:$B="CA")*(AC!$I:$I="T+3Q")) -> 0 | AK4: =SUMPRODUCT((AC!$B:$B="CB")*(AC!$I:$I="T+3Q")) -> 0 | AL4: =SUMPRODUCT((AC!$B:$B="CC")*(AC!$I:$I="T+3Q")) -> 0 | AM4: =SUMPRODUCT((AC!$B:$B="A")*(AC!$I:$I="T+4Q")) -> 0 | AN4: =SUMPRODUCT((AC!$B:$B="B")*(AC!$I:$I="T+4Q")) -> 0 | AO4: =SUMPRODUCT((AC!$B:$B="C")*(AC!$I:$I="T+4Q")) -> 0 | AP4: =SUMPRODUCT((AC!$B:$B="CA")*(AC!$I:$I="T+4Q")) -> 0 | AQ4: =SUMPRODUCT((AC!$B:$B="CB")*(AC!$I:$I="T+4Q")) -> 0 | AR4: =SUMPRODUCT((AC!$B:$B="CC")*(AC!$I:$I="T+4Q")) -> 0
A5: AD | B5: EpRpDynN11Amf | C5: 分局向的N11（AMF-SMF）接口 | D5: AmfFunction | E5: =COUNTIF(AD!B:B,"A") -> 0 | F5: =COUNTIF(AD!B:B,"B") -> 4 | G5: =COUNTIF(AD!B:B,"C") -> 0 | H5: =COUNTIF(AD!B:B,"CA") -> 0 | I5: =COUNTIF(AD!B:B,"CB") -> 0 | J5: =COUNTIF(AD!B:B,"CC") -> 0 | K5: =SUM(E5:J5) -> 4 | L5: =SUMPRODUCT((AD!$B:$B="CA")*(AD!$I:$I="NA")) -> 0 | M5: =SUMPRODUCT((AD!$B:$B="CB")*(AD!$I:$I="NA")) -> 0 | N5: =SUMPRODUCT((AD!$B:$B="CC")*(AD!$I:$I="NA")) -> 0 | O5: =SUMPRODUCT((AD!$B:$B="A")*(AD!$I:$I="T")) -> 0 | P5: =SUMPRODUCT((AD!$B:$B="B")*(AD!$I:$I="T")) -> 0 | Q5: =SUMPRODUCT((AD!$B:$B="C")*(AD!$I:$I="T")) -> 0 | R5: =SUMPRODUCT((AD!$B:$B="CA")*(AD!$I:$I="T")) -> 0 | S5: =SUMPRODUCT((AD!$B:$B="CB")*(AD!$I:$I="T")) -> 0 | T5: =SUMPRODUCT((AD!$B:$B="CC")*(AD!$I:$I="T")) -> 0 | U5: =SUMPRODUCT((AD!$B:$B="A")*(AD!$I:$I="T+1Q")) -> 0 | V5: =SUMPRODUCT((AD!$B:$B="B")*(AD!$I:$I="T+1Q")) -> 0 | W5: =SUMPRODUCT((AD!$B:$B="C")*(AD!$I:$I="T+1Q")) -> 0 | X5: =SUMPRODUCT((AD!$B:$B="CA")*(AD!$I:$I="T+1Q")) -> 0 | Y5: =SUMPRODUCT((AD!$B:$B="CB")*(AD!$I:$I="T+1Q")) -> 0 | Z5: =SUMPRODUCT((AD!$B:$B="CC")*(AD!$I:$I="T+1Q")) -> 0 | AA5: =SUMPRODUCT((AD!$B:$B="A")*(AD!$I:$I="T+2Q")) -> 0 | AB5: =SUMPRODUCT((AD!$B:$B="B")*(AD!$I:$I="T+2Q")) -> 0 | AC5: =SUMPRODUCT((AD!$B:$B="C")*(AD!$I:$I="T+2Q")) -> 0 | AD5: =SUMPRODUCT((AD!$B:$B="CA")*(AD!$I:$I="T+2Q")) -> 0 | AE5: =SUMPRODUCT((AD!$B:$B="CB")*(AD!$I:$I="T+2Q")) -> 0 | AF5: =SUMPRODUCT((AD!$B:$B="CC")*(AD!$I:$I="T+2Q")) -> 0 | AG5: =SUMPRODUCT((AD!$B:$B="A")*(AD!$I:$I="T+3Q")) -> 0 | AH5: =SUMPRODUCT((AD!$B:$B="B")*(AD!$I:$I="T+3Q")) -> 0 | AI5: =SUMPRODUCT((AD!$B:$B="C")*(AD!$I:$I="T+3Q")) -> 0 | AJ5: =SUMPRODUCT((AD!$B:$B="CA")*(AD!$I:$I="T+3Q")) -> 0 | AK5: =SUMPRODUCT((AD!$B:$B="CB")*(AD!$I:$I="T+3Q")) -> 0 | AL5: =SUMPRODUCT((AD!$B:$B="CC")*(AD!$I:$I="T+3Q")) -> 0 | AM5: =SUMPRODUCT((AD!$B:$B="A")*(AD!$I:$I="T+4Q")) -> 0 | AN5: =SUMPRODUCT((AD!$B:$B="B")*(AD!$I:$I="T+4Q")) -> 0 | AO5: =SUMPRODUCT((AD!$B:$B="C")*(AD!$I:$I="T+4Q")) -> 0 | AP5: =SUMPRODUCT((AD!$B:$B="CA")*(AD!$I:$I="T+4Q")) -> 0 | AQ5: =SUMPRODUCT((AD!$B:$B="CB")*(AD!$I:$I="T+4Q")) -> 0 | AR5: =SUMPRODUCT((AD!$B:$B="CC")*(AD!$I:$I="T+4Q")) -> 0
A6: AE | B6: EpRpDynN12Amf | C6: 分局向的N12（AMF-AUSF）接口 | D6: AmfFunction | E6: =COUNTIF(AE!B:B,"A") -> 0 | F6: =COUNTIF(AE!B:B,"B") -> 4 | G6: =COUNTIF(AE!B:B,"C") -> 0 | H6: =COUNTIF(AE!B:B,"CA") -> 0 | I6: =COUNTIF(AE!B:B,"CB") -> 0 | J6: =COUNTIF(AE!B:B,"CC") -> 0 | K6: =SUM(E6:J6) -> 4 | L6: =SUMPRODUCT((AE!$B:$B="CA")*(AE!$I:$I="NA")) -> 0 | M6: =SUMPRODUCT((AE!$B:$B="CB")*(AE!$I:$I="NA")) -> 0 | N6: =SUMPRODUCT((AE!$B:$B="CC")*(AE!$I:$I="NA")) -> 0 | O6: =SUMPRODUCT((AE!$B:$B="A")*(AE!$I:$I="T")) -> 0 | P6: =SUMPRODUCT((AE!$B:$B="B")*(AE!$I:$I="T")) -> 0 | Q6: =SUMPRODUCT((AE!$B:$B="C")*(AE!$I:$I="T")) -> 0 | R6: =SUMPRODUCT((AE!$B:$B="CA")*(AE!$I:$I="T")) -> 0 | S6: =SUMPRODUCT((AE!$B:$B="CB")*(AE!$I:$I="T")) -> 0 | T6: =SUMPRODUCT((AE!$B:$B="CC")*(AE!$I:$I="T")) -> 0 | U6: =SUMPRODUCT((AE!$B:$B="A")*(AE!$I:$I="T+1Q")) -> 0 | V6: =SUMPRODUCT((AE!$B:$B="B")*(AE!$I:$I="T+1Q")) -> 0 | W6: =SUMPRODUCT((AE!$B:$B="C")*(AE!$I:$I="T+1Q")) -> 0 | X6: =SUMPRODUCT((AE!$B:$B="CA")*(AE!$I:$I="T+1Q")) -> 0 | Y6: =SUMPRODUCT((AE!$B:$B="CB")*(AE!$I:$I="T+1Q")) -> 0 | Z6: =SUMPRODUCT((AE!$B:$B="CC")*(AE!$I:$I="T+1Q")) -> 0 | AA6: =SUMPRODUCT((AE!$B:$B="A")*(AE!$I:$I="T+2Q")) -> 0 | AB6: =SUMPRODUCT((AE!$B:$B="B")*(AE!$I:$I="T+2Q")) -> 0 | AC6: =SUMPRODUCT((AE!$B:$B="C")*(AE!$I:$I="T+2Q")) -> 0 | AD6: =SUMPRODUCT((AE!$B:$B="CA")*(AE!$I:$I="T+2Q")) -> 0 | AE6: =SUMPRODUCT((AE!$B:$B="CB")*(AE!$I:$I="T+2Q")) -> 0 | AF6: =SUMPRODUCT((AE!$B:$B="CC")*(AE!$I:$I="T+2Q")) -> 0 | AG6: =SUMPRODUCT((AE!$B:$B="A")*(AE!$I:$I="T+3Q")) -> 0 | AH6: =SUMPRODUCT((AE!$B:$B="B")*(AE!$I:$I="T+3Q")) -> 0 | AI6: =SUMPRODUCT((AE!$B:$B="C")*(AE!$I:$I="T+3Q")) -> 0 | AJ6: =SUMPRODUCT((AE!$B:$B="CA")*(AE!$I:$I="T+3Q")) -> 0 | AK6: =SUMPRODUCT((AE!$B:$B="CB")*(AE!$I:$I="T+3Q")) -> 0 | AL6: =SUMPRODUCT((AE!$B:$B="CC")*(AE!$I:$I="T+3Q")) -> 0 | AM6: =SUMPRODUCT((AE!$B:$B="A")*(AE!$I:$I="T+4Q")) -> 0 | AN6: =SUMPRODUCT((AE!$B:$B="B")*(AE!$I:$I="T+4Q")) -> 0 | AO6: =SUMPRODUCT((AE!$B:$B="C")*(AE!$I:$I="T+4Q")) -> 0 | AP6: =SUMPRODUCT((AE!$B:$B="CA")*(AE!$I:$I="T+4Q")) -> 0 | AQ6: =SUMPRODUCT((AE!$B:$B="CB")*(AE!$I:$I="T+4Q")) -> 0 | AR6: =SUMPRODUCT((AE!$B:$B="CC")*(AE!$I:$I="T+4Q")) -> 0
A7: AF | B7: IPResource | C7: 分接口类型的IP地址 | D7: ManagedElement | E7: =COUNTIF(AF!B:B,"A") -> 0 | F7: =COUNTIF(AF!B:B,"B") -> 5 | G7: =COUNTIF(AF!B:B,"C") -> 0 | H7: =COUNTIF(AF!B:B,"CA") -> 0 | I7: =COUNTIF(AF!B:B,"CB") -> 0 | J7: =COUNTIF(AF!B:B,"CC") -> 0 | K7: =SUM(E7:J7) -> 5 | L7: =SUMPRODUCT((AF!$B:$B="CA")*(AF!$I:$I="NA")) -> 0 | M7: =SUMPRODUCT((AF!$B:$B="CB")*(AF!$I:$I="NA")) -> 0 | N7: =SUMPRODUCT((AF!$B:$B="CC")*(AF!$I:$I="NA")) -> 0 | O7: =SUMPRODUCT((AF!$B:$B="A")*(AF!$I:$I="T")) -> 0 | P7: =SUMPRODUCT((AF!$B:$B="B")*(AF!$I:$I="T")) -> 0 | Q7: =SUMPRODUCT((AF!$B:$B="C")*(AF!$I:$I="T")) -> 0 | R7: =SUMPRODUCT((AF!$B:$B="CA")*(AF!$I:$I="T")) -> 0 | S7: =SUMPRODUCT((AF!$B:$B="CB")*(AF!$I:$I="T")) -> 0 | T7: =SUMPRODUCT((AF!$B:$B="CC")*(AF!$I:$I="T")) -> 0 | U7: =SUMPRODUCT((AF!$B:$B="A")*(AF!$I:$I="T+1Q")) -> 0 | V7: =SUMPRODUCT((AF!$B:$B="B")*(AF!$I:$I="T+1Q")) -> 0 | W7: =SUMPRODUCT((AF!$B:$B="C")*(AF!$I:$I="T+1Q")) -> 0 | X7: =SUMPRODUCT((AF!$B:$B="CA")*(AF!$I:$I="T+1Q")) -> 0 | Y7: =SUMPRODUCT((AF!$B:$B="CB")*(AF!$I:$I="T+1Q")) -> 0 | Z7: =SUMPRODUCT((AF!$B:$B="CC")*(AF!$I:$I="T+1Q")) -> 0 | AA7: =SUMPRODUCT((AF!$B:$B="A")*(AF!$I:$I="T+2Q")) -> 0 | AB7: =SUMPRODUCT((AF!$B:$B="B")*(AF!$I:$I="T+2Q")) -> 0 | AC7: =SUMPRODUCT((AF!$B:$B="C")*(AF!$I:$I="T+2Q")) -> 0 | AD7: =SUMPRODUCT((AF!$B:$B="CA")*(AF!$I:$I="T+2Q")) -> 0 | AE7: =SUMPRODUCT((AF!$B:$B="CB")*(AF!$I:$I="T+2Q")) -> 0 | AF7: =SUMPRODUCT((AF!$B:$B="CC")*(AF!$I:$I="T+2Q")) -> 0 | AG7: =SUMPRODUCT((AF!$B:$B="A")*(AF!$I:$I="T+3Q")) -> 0 | AH7: =SUMPRODUCT((AF!$B:$B="B")*(AF!$I:$I="T+3Q")) -> 0 | AI7: =SUMPRODUCT((AF!$B:$B="C")*(AF!$I:$I="T+3Q")) -> 0 | AJ7: =SUMPRODUCT((AF!$B:$B="CA")*(AF!$I:$I="T+3Q")) -> 0 | AK7: =SUMPRODUCT((AF!$B:$B="CB")*(AF!$I:$I="T+3Q")) -> 0 | AL7: =SUMPRODUCT((AF!$B:$B="CC")*(AF!$I:$I="T+3Q")) -> 0 | AM7: =SUMPRODUCT((AF!$B:$B="A")*(AF!$I:$I="T+4Q")) -> 0 | AN7: =SUMPRODUCT((AF!$B:$B="B")*(AF!$I:$I="T+4Q")) -> 0 | AO7: =SUMPRODUCT((AF!$B:$B="C")*(AF!$I:$I="T+4Q")) -> 0 | AP7: =SUMPRODUCT((AF!$B:$B="CA")*(AF!$I:$I="T+4Q")) -> 0 | AQ7: =SUMPRODUCT((AF!$B:$B="CB")*(AF!$I:$I="T+4Q")) -> 0 | AR7: =SUMPRODUCT((AF!$B:$B="CC")*(AF!$I:$I="T+4Q")) -> 0
A8: 合计 | E8: =SUM(E2:E7) -> 3 | F8: =SUM(F2:F7) -> 35 | G8: =SUM(G2:G7) -> 0 | H8: =SUM(H2:H7) -> 0 | I8: =SUM(I2:I7) -> 0 | J8: =SUM(J2:J7) -> 0 | K8: =SUM(K2:K7) -> 38 | L8: =SUM(L2:L7) -> 0 | ... AR8: =SUM(AR2:AR7) -> 0
A10: 注：本规范只适用于虚拟化部署的AMF

Sheet AA
A1: 属性编码 | B1: 重要度 | C1: 英文名称 | D1: 中文名称 | E1: 定义 | F1: 数据类型 | G1: 单位 | H1: 备注 | I1: 支持时间
A2: AMFAA01 | B2: B | C2: Id | D2: 标识符 | E2: 网元标识，只在OMC范围内有效 | F2: 字符串 | H2: 继承自TOP
A3: AMFAA02 | B3: B | C3: UserLabel | D3: 用户友好名 | E3: 网元名称，根据运营商的网元命名规则设定。 | F3: 字符串 | H3: 继承自TOP
A4: AMFAA03 | B4: B | C4: VendorName | D4: 厂商名称 | E4: 厂商名称 | F4: 字符串
A5: AMFAA04 | B5: B | C5: ManagedBy | D5: 管理节点 | E5: 管理ManagedElement的ManagementNode对象类的DN值 | F5: 字符串
A6: AMFAA05 | B6: B | C6: ManagementIpAddress | D6: 网管接口IP地址列表 | E6: 网管接口IP地址列表 如支持IPV4V6，IPV4和IPV6都要呈现。 | F6: 字符串列表
A7: AMFAA06 | B7: A | C7: SwVersion | D7: 软件版本 | E7: 网元的软件版本 | F7: 字符串
A8: AMFAA07 | B8: B | C8: PatchInfo | D8: 补丁信息 | E8: 补丁信息,用于表示当前网元加载的补丁名称列表。 | F8: 字符串列表
A9: AMFAA08 | B9: B | C9: AdministrativeState | D9: 管理状态 | E9: 管理的状态，取值范围为{Locked，Unlocked，ShuttingDown} | F9: 枚举
A10: AMFAA09 | B10: B | C10: OperationalState | D10: 运行状态 | E10: 运行的状态，取值范围为{Disabled, Enabled} | F10: 枚举

Sheet AB
A1: 属性编码 | B1: 重要度 | C1: 英文名称 | D1: 中文名称 | E1: 定义 | F1: 数据类型 | G1: 单位 | H1: 备注 | I1: 支持时间
A2: AMFAB01 | B2: B | C2: Id | D2: 标识符 | E2: 对象标识，只在OMC范围内有效 | F2: 字符串 | H2: 继承自TOP
A3: AMFAB02 | B3: B | C3: UserLabel | D3: 用户友好名 | E3: 对象名称 | F3: 字符串 | H3: 继承自TOP
A4: AMFAB03 | B4: B | C4: AdministrativeState | D4: 管理状态 | E4: 管理的状态，取值范围为{Locked，Unlocked，ShuttingDown} | F4: 枚举 | H4: 继承自ManagedFunction
A5: AMFAB04 | B5: B | C5: OperationalState | D5: 运行状态 | E5: 运行的状态，取值范围为{Disabled, Enabled} | F5: 枚举 | H5: 继承自ManagedFunction
A6: AMFAB05 | B6: B | C6: VnfInstanceId | D6: 虚拟化实例标识 | E6: 虚拟网元的InstanceId | F6: 字符串
A7: AMFAB06 | B7: B | C7: Fqdn | D7: AmfFunction的FQDN | E7: 基于服务化接口的AmfFunction的FQDN,FQDN结构请参见TS23.003. | F7: 字符串
A8: AMFAB07 | B8: B | C8: SbiServiceList | D8: AmfFunction的服务列表 | E8: AmfFunction上所有注册到服务化接口的service列表，该列表由每个service的名称组成，其中ServiceName参见29.510 Table 6.1.6.3.11-1: Enumeration ServiceName定义 | F8: 字符串列表
A9: AMFAB08 | B9: B | C9: AmfGuamiList | D9: 全球AMF唯一标识列表 | E9: <GUAMI> = <MCC><MNC><AMF Identifier> <AMF Identifier> = <AMF Region ID><AMF Set ID><AMF Pointer> | F9: 字符串列表
A10: AMFAB09 | B10: B | C10: SnssaiList | D10: 网络切片列表 | E10: S-NSSAI的列表，S-NSSAI=SST-SD。S-NSSAI的格式按照3GPP规范要求，本身32bit，前8bit代表SST，后24bit代表SD。 此变量为长度为10个字符字符，组成方式：3个字符标识SST + “-” + 6个字符标识SD 前3个字符为SST对应8bit十进制数直接变为字符串（比如数字133->”133”） 后6个字符位SD对应的24bit的十六进制数直接变为字符串（例如数字FEFA89->”FEFA89”）样例（供参考）：133-FEFA89 | F10: 字符串列表
A11: AMFAB10 | B11: A | C11: MaxUser | D11: 最大注册用户数 | E11: 当前软硬件配置条件下(如licence限制）,AMF最大能够支持的注册用户数。 | F11: 整数 | G11: 个
A12: AMFAB11 | B12: B | C12: RelativeCapacity | D12: 相对容量 | E12: AMF集合内该AMF的相对容量，代表了NG-RAN选择AMF的概率。取值为整数[0..255]。 | F12: 整数
A13: AMFAB12 | B13: A | C13: MaxGnbNum | D13: 最大支持基站数 | E13: 当前软硬件配置条件下(如licence限制），AMF最大可以支持的5G基站数。 | F13: 整数 | G13: 个

Sheet AC
A1: 属性编码 | B1: 重要度 | C1: 英文名称 | D1: 中文名称 | E1: 定义 | F1: 数据类型 | G1: 单位 | H1: 备注 | I1: 支持时间
A2: AMFAC01 | B2: B | C2: Id | D2: 标识符 | E2: N8接口标识 | F2: 字符串 | G2: 无 | H2: 继承自TOP。注，全局EpRpDynN8Amf对象要缺省实例化。全局EpRpDynN8Amf对象即远端IP子网地址为0.0.0.0，“本端IP地址列表”包括该AmfFunction所有N8接口使用的IP地址，这样的对象简记为EpRpDynN8Amf_Global。
A3: AMFAC02 | B3: B | C3: UserLabel | D3: 用户友好名 | E3: 对象名称 | F3: 字符串 | G3: 无 | H3: 继承自TOP
A4: AMFAC03 | B4: B | C4: LocIpAddrList | D4: 本端IP地址列表 | E4: 参考点所关联的本端网元的IP地址列表（Ipv4或Ipv6的地址格式）。 | F4: 字符串列表 | G4: 无 | H4: 继承自EpRpDyn
A5: AMFAC04 | B5: B | C5: FarIpSubnetworkList | D5: 远端IP子网列表 | E5: 参考点所关联的远端IP子网列表： 1.Ipv4:List of Struct{ Subnetwork：string， Mask:string } 若子网仅包含一个IP地址，则Subnetwork为该IP地址，Mask为255.255.255.255。 若子网地址为0.0.0.0，Mask可为任意值（通常也取0.0.0.0），代表所有局向。 2.Ipv6:子网+前缀方式，样例供参考： {(2409:802F:0000:0207:0000:0000:1001:0502,128),(2409:802F:0000:0207:0000:0000:1001:0501,128)}或{(2409:802F:0000:0207::1001:0502,128),(2409:802F:0000:0207::1001:0501,128)}或{(2409:802F:0:207::1001:502,128),(2409:802F:0:207::1001:501,128)} | F5: 结构列表 | G5: 无 | H5: 继承自EpRpDyn

Sheet AD
A1: 属性编码 | B1: 重要度 | C1: 英文名称 | D1: 中文名称 | E1: 定义 | F1: 数据类型 | G1: 单位 | H1: 备注 | I1: 支持时间
A2: AMFAD01 | B2: B | C2: Id | D2: 标识符 | E2: N11接口标识 | F2: 字符串 | G2: 无 | H2: 继承自TOP。注，全局EpRpDynN11Amf对象要缺省实例化。全局EpRpDynN11Amf对象即远端IP子网地址为0.0.0.0，“本端IP地址列表”包括该AmfFunction所有N11接口使用的IP地址，这样的对象简记为EpRpDynN11Amf_Global。
A3: AMFAD02 | B3: B | C3: UserLabel | D3: 用户友好名 | E3: 对象名称 | F3: 字符串 | G3: 无 | H3: 继承自TOP
A4: AMFAD03 | B4: B | C4: LocIpAddrList | D4: 本端IP地址列表 | E4: 参考点所关联的本端网元的IP地址列表（Ipv4或Ipv6的地址格式）。 | F4: 字符串列表 | G4: 无 | H4: 继承自EpRpDyn
A5: AMFAD04 | B5: B | C5: FarIpSubnetworkList | D5: 远端IP子网列表 | E5: 参考点所关联的远端IP子网列表： 1.Ipv4:List of Struct{ Subnetwork：string， Mask:string } 若子网仅包含一个IP地址，则Subnetwork为该IP地址，Mask为255.255.255.255。 若子网地址为0.0.0.0，Mask可为任意值（通常也取0.0.0.0），代表所有局向。 2.Ipv6:子网+前缀方式，样例供参考： {(2409:802F:0000:0207:0000:0000:1001:0502,128),(2409:802F:0000:0207:0000:0000:1001:0501,128)}或{(2409:802F:0000:0207::1001:0502,128),(2409:802F:0000:0207::1001:0501,128)}或{(2409:802F:0:207::1001:502,128),(2409:802F:0:207::1001:501,128)} | F5: 结构列表 | G5: 无 | H5: 继承自EpRpDyn

Sheet AE
A1: 属性编码 | B1: 重要度 | C1: 英文名称 | D1: 中文名称 | E1: 定义 | F1: 数据类型 | G1: 单位 | H1: 备注 | I1: 支持时间
A2: AMFAE01 | B2: B | C2: Id | D2: 标识符 | E2: N12接口标识 | F2: 字符串 | G2: 无 | H2: 继承自TOP。注，全局EpRpDynN12Amf对象要缺省实例化。全局EpRpDynN12Amf对象即远端IP子网地址为0.0.0.0，“本端IP地址列表”包括该AmfFunction所有N12接口使用的IP地址，这样的对象简记为EpRpDynN12Amf_Global。
A3: AMFAE02 | B3: B | C3: UserLabel | D3: 用户友好名 | E3: 对象名称 | F3: 字符串 | G3: 无 | H3: 继承自TOP
A4: AMFAE03 | B4: B | C4: LocIpAddrList | D4: 本端IP地址列表 | E4: 参考点所关联的本端网元的IP地址列表（Ipv4或Ipv6的地址格式）。 | F4: 字符串列表 | G4: 无 | H4: 继承自EpRpDyn
A5: AMFAE04 | B5: B | C5: FarIpSubnetworkList | D5: 远端IP子网列表 | E5: 参考点所关联的远端IP子网列表： 1.Ipv4:List of Struct{ Subnetwork：string， Mask:string } 若子网仅包含一个IP地址，则Subnetwork为该IP地址，Mask为255.255.255.255。 若子网地址为0.0.0.0，Mask可为任意值（通常也取0.0.0.0），代表所有局向。 2.Ipv6:子网+前缀方式，样例供参考： {(2409:802F:0000:0207:0000:0000:1001:0502,128),(2409:802F:0000:0207:0000:0000:1001:0501,128)}或{(2409:802F:0000:0207::1001:0502,128),(2409:802F:0000:0207::1001:0501,128)}或{(2409:802F:0:207::1001:502,128),(2409:802F:0:207::1001:501,128)} | F5: 结构列表 | G5: 无 | H5: 继承自EpRpDyn

Sheet AF
A1: 属性编码 | B1: 重要度 | C1: 英文名称 | D1: 中文名称 | E1: 定义 | F1: 数据类型 | G1: 单位 | H1: 备注 | I1: 支持时间
A2: AMFAF01 | B2: B | C2: Id | D2: 标识符 | E2: 命名属性 | F2: 字符串 | G2: 无
A3: AMFAF02 | B3: B | C3: UserLabel | D3: 用户友好名 | E3: 用户友好名，由EMS厂商自己指定，做为其内部标识，并可被NMS修改。 | F3: 字符串 | G3: 无
A4: AMFAF03 | B4: B | C4: InterfaceType | D4: 接口类型 | E4: 包含管理接口和业务接口。枚举值{Mgt,N2,NLs,NLg,N26,Nnrf,N12,N8,N15，N22,N14,N11,DnsQry}，备注：管理接口为Mgt。 | F4: 枚举值 | G4: 无 | H4: 管理接口：网管维护接口 业务接口：网元业务接口
A5: AMFAF04 | B5: B | C5: LocIpV4AddrList | D5: 本端IPV4地址列表 | E5: 参考点所关联的本端网元的IP地址列表（Ipv4地址格式），如无IPV4地址，填写{Default}。 | F5: 字符串列表 | G5: 无
A6: AMFAF05 | B6: B | C6: LocIpV6AddrList | D6: 本端IPV6地址列表 | E6: 参考点所关联的本端网元的IP地址列表（Ipv6地址格式），如无IPV6地址，填写{Default}。 | F6: 字符串列表 | G6: 无

Sheet 附录1
A1: 一、IOC包含关系图
A36: 二、IOC继承关系图

Sheet 附录2
A1: 参与规范编写人员名单
A2: 姓名 | B2: 公司 | C2: 手机 | D2: 邮箱
A3: 崔璀璀 | B3: 爱立信 | C3: 13910834683 | D3: tracy.c.cui@ericsson.com
A4: 何刚 | B4: 爱立信 | C4: 13910785072 | D4: grant.he@ericsson.com
A5: 蒋炜 | B5: 爱立信 | C5: 13601368683 | D5: will.jiang@ericsson.com
A6: 李云刚 | B6: 爱立信 | C6: 13501109642 | D6: yungang.li@ericsson.com
A7: 刘强 | B7: 爱立信 | C7: 13636426617 | D7: qiang.liu@ericsson.com
A8: 时森 | B8: 爱立信 | C8: 13910084851 | D8: sen.shi@ericsson.com
A9: 杨利 | B9: 爱立信 | C9: 13911554821 | D9: li.g.yang@ericsson.com
A10: 张一帆 | B10: 爱立信 | C10: 13910532301 | D10: grace.f.zhang@ericsson.com
A11: 常轶钊 | B11: 华为 | C11: 15191850585 | D11: changyizha@huawei.com
A12: 陈恒 | B12: 华为 | C12: 18918325595 | D12: andrew.chen@huawei.com
A13: 高胜展 | B13: 华为 | C13: 18500522566 | D13: gaoshnegzhan@huawei.com
A14: 姜传奎 | B14: 华为 | C14: 18616850658 | D14: jiangchuankui@huawei.com
... A28: 杨洋 | B28: 中兴 | C28: 15195995119 | D28: yangyang115@zte.com.cn
