Workbook

Sheet 修订历史
A1: 版本 | B1: 日期 | C1: 修订内容 | D1: 修订人
A2: V0.1.0 | B2: 43416 | C2: 创建5G北向接口定义第一稿 | D2: 李健、胡亚希
A3: V0.2.0 | B3: 43439 | C3: 1）增加N4接口PFCP Association 测量。 2）一个APN(DNN)由哪个切片承载应该是固定的，基于这个考虑，分DNN的统计不需要再分切片，这样可以避免二维统计； 3）删除分DNN的 PFCP Association测量。从需求角度出发，希望能给企业用户提供分DNN的流量，吞吐率之类的测量； 4）PFCP Association Setup Request 区分CP(SMF)发起还是UP(UPF)发起； 5）暂时删除PFCP session数相关测量（原HD），使PM与NRM中的容量指标保持一致； 6) 对于出局Packet数和字节数，英文名称中的Out改为Og （outgoing），对应于入局Inc (incoming)； 7) 删除NRM里的以太网端口对象，删除PM中的以太网端口流量统计。 8)删除PFCP Association测量 | D3: 李健、胡亚希
A4: V0.3.0 | B4: 43451 | C4: 1. 补充Index页统计公式 2. 缺少附录，用于登记参与评审人员名单
A5: V0.4.0 | B5: 43516 | C5: 1. HF增加ME.MeanMeLoad的取值说明。 | D5: 李健、胡亚希
A6: V1.0.0 | B6: 43731 | C6: HC:将N3接口分DNN的统计改为分切片的统计 HD：将N3接口分DNN的统计改为分切片的统计 | D6: 李健、胡亚希、李端
A7: V1.1.0 | B7: 43821 | C7: 无内容更新，版本随NRM同步升级。 | D7: 李健
A8: V1.1.1 | B8: 44187 | C8: 1、HA增加分Dnn的统计 2、HA统计增加统计原则说明 | D8: 刘振旺
A9: V1.1.2 | B9: 44249 | C9: 1. HF页，“系统平均负荷”，“单位”统一取消“%”为“-”。 | D9: 刘振旺
B10: 44390 | C10: 1.新增HG页，新增时延相关6个指标： UPF.MeanRtDelay._Ns UPF.MeanUlDelay._Ns UPF.MeanDlDelay._Ns UPF.MaxRtDelay._Ns UPF.MaxUlDelay._Ns UPF.MaxDlDelay._Ns； | D10: 刘振旺
B11: 44559 | C11: HE增加N6口IPv6包的统计
A12: V1.2.0 | B12: 44619 | C12: 1.新增HH页，新增5GLan相关6个指标。 2.Index页中，更新相关备注说明和统计公式。 | D12: 张渊、洪晓、梁旭驰
B13: 44619 | C13: 1.新增HI页、HJ页、HK页和HL页，新增UPF+场景下，UPF+内置应急AMF、SMF和UDM相关指标。 2.Index页中，更新相关备注说明和统计公式。
B14: 44619 | C14: 1.HD页，N9接口重要程度从B改成CB。 2.HK页，增加UPF+场景下，UPF+内置应急UDM用户数据同步的统计指标。 3.Index页中，更新相关备注说明。
B15: 44619 | C15: 2022年2月份，新增指标比较多，第2段版本号增加，修订为：V1.2.0
B16: 44624 | C16: 1.HI页，新增初始注册请求次数的相关统计，包括失败原因，line7~line26 2.HK页，修订UDR.SynSub、UDR.SynSubSucc触发点的描述 | D16: 张渊、洪晓、梁旭驰
A17: V1.2.1 | B17: 44754 | C17: HI内置AMF性能测量，对于初始注册失败分原因值统计补充“其他场景”说明 | D17: 张渊、洪晓、梁旭驰
B18: 44817 | C18: HI页line23~26，需要补充：采集方式、数据类型、单位、时间粒度、上报周期、测试要求 | D18: 张渊、洪晓、梁旭驰

Sheet 应答统计
A1: UPF-PM(V1.2.1)应答情况汇总表
A2: 设备厂家名称 | E2: XX公司
A3: 应答日期(T) | E3: XXXX年XX月XX日
A4: 本应答文档适用的设备版本（及补丁） | E4: VersionXX(patchXX)
A5: 对OMC的版本（及补丁）要求 | E5: OMC版本需升级到VXXXX (或/并 加载补丁YYYY）
A7: 内容 | C7: 规范定义数量 | D7: 不适用数量 | E7: 当前支持数量 | F7: 当前+1Q支持数量 | G7: 当前+2Q支持数量 | H7: 当前+3Q支持数量 | I7: 当前+4Q支持数量 | J7: 当前支持率 | K7: 综合支持率 | L7: 最终支持率
A8: 网络资源模型IOC属性 | B8: A类 | C8: =Index!D14 -> 14 | D8: NA | E8: =Index!T14 -> 0 | F8: =Index!Z14 -> 0 | G8: =Index!AF14 -> 0 | H8: =Index!AL14 -> 0 | I8: =Index!AR14 -> 0 | J8: =(E8+E11)/(C8+C11-D11) -> 0 | K8: =((E8+E11)+0.8*(F8+F11)+0.6*(G8+G11)+0.4*(H8+H11)+0.2*(I8+I11))/(C8+C11-D11) -> 0 | L8: =((E8+E11)+(F8+F11)+(G8+G11)+(H8+H11)+(I8+I11))/(C8+C11-D11) -> 0
B9: B类 | C9: =Index!E14 -> 45 | D9: NA | E9: =Index!U14 -> 0 | F9: =Index!AA14 -> 0 | G9: =Index!AG14 -> 0 | H9: =Index!AM14 -> 0 | I9: =Index!AS14 -> 0 | J9: =(E9+E12)/(C9+C12-D12) -> 0 | K9: =((E9+E12)+0.8*(F9+F12)+0.6*(G9+G12)+0.4*(H9+H12)+0.2*(I9+I12))/(C9+C12-D12) -> 0 | L9: =((E9+E12)+(F9+F12)+(G9+G12)+(H9+H12)+(I9+I12))/(C9+C12-D12) -> 0
B10: C类 | C10: =Index!F14 -> 4 | D10: NA | E10: =Index!V14 -> 0 | F10: =Index!AB14 -> 0 | G10: =Index!AH14 -> 0 | H10: =Index!AN14 -> 0 | I10: =Index!AT14 -> 0 | J10: =(E10+E13)/(C10+C13-D13) -> 0 | K10: =((E10+E13)+0.8*(F10+F13)+0.1*(G10+G13)+0.4*(H10+H13)+0.2*(I10+I13))/(C10+C13-D13) -> 0 | L10: =((E10+E13)+(F10+F13)+(G10+G13)+(H10+H13)+(I10+I13))/(C10+C13-D13) -> 0
B11: CA类 | C11: =Index!G14 -> 28 | D11: =Index!Q14 -> 0 | E11: =Index!W14 -> 0 | F11: =Index!AC14 -> 0 | G11: =Index!AI14 -> 0 | H11: =Index!AO14 -> 0 | I11: =Index!AU14 -> 0 | J11: NA
B12: CB类 | C12: =Index!H14 -> 43 | D12: =Index!R14 -> 0 | E12: =Index!X14 -> 0 | F12: =Index!AD14 -> 0 | G12: =Index!AJ14 -> 0 | H12: =Index!AP14 -> 0 | I12: =Index!AV14 -> 0
B13: CC类 | C13: =Index!I14 -> 1 | D13: =Index!S14 -> 0 | E13: =Index!Y14 -> 0 | F13: =Index!AE14 -> 0 | G13: =Index!AK14 -> 0 | H13: =Index!AQ14 -> 0 | I13: =Index!AW14 -> 0
A17: 应答说明：
A18: 一、本页须填写蓝色字体部分，即公司名、应答日期、本应答适用的版本（及补丁）名、对OMC的版本（及补丁）要求。AA开始的各页仅须应答“支持时间”一列。其中， “T”：指当前(T)已经支持，所谓当前即应答日期。 “T+1Q”：指当前(T)不支持，但（当前时间+91天）之前可以支持。 “T+2Q”：指当前(T)不支持，但（当前时间+182天）之前可以支持 “T+3Q”：指当前(T)不支持，但（当前时间+273天）之前可以支持 “T+4Q”：指当前(T)不支持，但（当前时间+364天）之前可以支持 “NS”: 若计划支持时间晚于T+4Q，或没有支持计划，必须应答“NS” “NA”：对应于CA、CB、CC类条件属性,条件成立时答上述支持时间，条件不成立时答“NA”，指示不适用。
A19: 二、“Index”页以及“应答统计”页的统计结果均为公式自动生成，请勿直接改动。
A20: 三、NRM中的对象属性是否支持的应答，以北向接口的NRM文件为准。当且仅当同时满足以下3项要求时才可以应答为具体的支持时间(T/T+xQ): 1、NRM文件遵循《移动通信网网络管理技术规范 OMC北向接口 统一网络资源模型文件格式》的要求； 2、对象的属性名、数据类型与相应网元的北向接口信息模型规范的约定完全一致； 3、可以从NRM文件中取到属性值。
A21: 四、注意将文件名中的“Company”、“Version”改为你公司名称以及应答适用的网元版本。
A22: 五、若应答文档需要打印，请打印“Index”和“应答统计”页，并打印当前不支持的统计项的相关页，请勿打印全部规范，请勿打印“修订历史”和“附录”页。
A23: 本应答模板的更新日期：2022-09-23

Sheet Index
A1: 索引 | B1: 性能参数表名 | C1: 备注 | D1: A类测量数 | E1: B类测量数 | F1: C类测量数 | G1: CA类测量数 | H1: CB类测量数 | I1: CC类测量数 | J1: 小计 | K1: A类测试数 | L1: B类测试数 | M1: CA类测试数 | N1: CB类测试数 | O1: 测试数 | P1: 适用范围 | Q1: CA类 不适用数 | R1: CB类 不适用数 | S1: CC类 不适用数 | T1: 当前A类 支持数 | U1: 当前B类 支持数 | V1: 当前C类 支持数 | W1: 当前CA类 支持数 | X1: 当前CB类 支持数 | Y1: 当前CC类 支持数 | Z1: (当前+1Q) A类支持数 | AA1: (当前+1Q) B类支持数 | AB1: (当前+1Q) C类支持数 | AC1: (当前+1Q) CA类支持数 | AD1: (当前+1Q) CB类支持数 | AE1: (当前+1Q) CC类支持数 | AF1: (当前+2Q) A类支持数 | AG1: (当前+2Q) B类支持数 | AH1: (当前+2Q) C类支持数 | AI1: (当前+2Q) CA类支持数 | AJ1: (当前+2Q) CB类支持数 | AK1: (当前+2Q) CC类支持数 | AL1: (当前+3Q) A类支持数 | AM1: (当前+3Q) B类支持数 | AN1: (当前+3Q) C类支持数 | AO1: (当前+3Q) CA类支持数 | AP1: (当前+3Q) CB类支持数 | AQ1: (当前+3Q) CC类支持数 | AR1: (当前+4Q) A类支持数 | AS1: (当前+4Q) B类支持数 | AT1: (当前+4Q) C类支持数 | AU1: (当前+4Q) CA类支持数 | AV1: (当前+4Q) CB类支持数 | AW1: (当前+4Q) CC类支持数
A2: HA | B2: PFCP会话管理性能测量 | D2: =COUNTIF(HA!$B:$B,"A") -> 4 | E2: =COUNTIF(HA!$B:$B,"B") -> 14 | F2: =COUNTIF(HA!$B:$B,"C") -> 2 | G2: =COUNTIF(HA!$B:$B,"CA") -> 0 | H2: =COUNTIF(HA!$B:$B,"CB") -> 0 | I2: =COUNTIF(HA!$B:$B,"CC") -> 0 | J2: =SUM(D2:I2) -> 20 | P2: PNF/VNF | Q2: =SUMPRODUCT((INDIRECT($A2&"!B:B")="CA")*((INDIRECT($A2&"!O:O")="NA"))) -> 0 | R2: =SUMPRODUCT((INDIRECT($A2&"!B:B")="CB")*((INDIRECT($A2&"!O:O")="NA"))) -> 0 | S2: =SUMPRODUCT((INDIRECT($A2&"!B:B")="CC")*((INDIRECT($A2&"!O:O")="NA"))) -> 0 | T2: =SUMPRODUCT((INDIRECT($A2&"!B:B")="A")*((INDIRECT($A2&"!O:O")="T"))) -> 0 | U2: =SUMPRODUCT((INDIRECT($A2&"!B:B")="B")*((INDIRECT($A2&"!O:O")="T"))) -> 0 | V2: =SUMPRODUCT((INDIRECT($A2&"!B:B")="C")*((INDIRECT($A2&"!O:O")="T"))) -> 0 | W2: =SUMPRODUCT((INDIRECT($A2&"!B:B")="CA")*((INDIRECT($A2&"!O:O")="T"))) -> 0 | X2: =SUMPRODUCT((INDIRECT($A2&"!B:B")="CB")*((INDIRECT($A2&"!O:O")="T"))) -> 0 | Y2: =SUMPRODUCT((INDIRECT($A2&"!B:B")="CC")*((INDIRECT($A2&"!O:O")="T"))) -> 0 | Z2: =SUMPRODUCT((INDIRECT($A2&"!B:B")="A")*((INDIRECT($A2&"!O:O")="T+1Q"))) -> 0 | AA2: =SUMPRODUCT((INDIRECT($A2&"!B:B")="B")*((INDIRECT($A2&"!O:O")="T+1Q"))) -> 0 | AB2: =SUMPRODUCT((INDIRECT($A2&"!B:B")="C")*((INDIRECT($A2&"!O:O")="T+1Q"))) -> 0 | AC2: =SUMPRODUCT((INDIRECT($A2&"!B:B")="CA")*((INDIRECT($A2&"!O:O")="T+1Q"))) -> 0 | AD2: =SUMPRODUCT((INDIRECT($A2&"!B:B")="CB")*((INDIRECT($A2&"!O:O")="T+1Q"))) -> 0 | AE2: =SUMPRODUCT((INDIRECT($A2&"!B:B")="A")*((INDIRECT($A2&"!O:O")="T+2Q"))) -> 0 | AF2: =SUMPRODUCT((INDIRECT($A2&"!B:B")="A")*((INDIRECT($A2&"!O:O")="T+2Q"))) -> 0 | AG2: =SUMPRODUCT((INDIRECT($A2&"!B:B")="B")*((INDIRECT($A2&"!O:O")="T+2Q"))) -> 0 | AH2: =SUMPRODUCT((INDIRECT($A2&"!B:B")="C")*((INDIRECT($A2&"!O:O")="T+2Q"))) -> 0 | AI2: =SUMPRODUCT((INDIRECT($A2&"!B:B")="CA")*((INDIRECT($A2&"!O:O")="T+2Q"))) -> 0 | AJ2: =SUMPRODUCT((INDIRECT($A2&"!B:B")="CB")*((INDIRECT($A2&"!O:O")="T+2Q"))) -> 0 | AK2: =SUMPRODUCT((INDIRECT($A2&"!B:B")="CC")*((INDIRECT($A2&"!O:O")="T+2Q"))) -> 0 | AL2: =SUMPRODUCT((INDIRECT($A2&"!B:B")="A")*((INDIRECT($A2&"!O:O")="T+3Q"))) -> 0 | AM2: =SUMPRODUCT((INDIRECT($A2&"!B:B")="B")*((INDIRECT($A2&"!O:O")="T+3Q"))) -> 0 | AN2: =SUMPRODUCT((INDIRECT($A2&"!B:B")="C")*((INDIRECT($A2&"!O:O")="T+3Q"))) -> 0 | AO2: =SUMPRODUCT((INDIRECT($A2&"!B:B")="CA")*((INDIRECT($A2&"!O:O")="T+3Q"))) -> 0 | AP2: =SUMPRODUCT((INDIRECT($A2&"!B:B")="CB")*((INDIRECT($A2&"!O:O")="T+3Q"))) -> 0 | AQ2: =SUMPRODUCT((INDIRECT($A2&"!B:B")="CC")*((INDIRECT($A2&"!O:O")="T+3Q"))) -> 0 | AR2: =SUMPRODUCT((INDIRECT($A2&"!B:B")="A")*((INDIRECT($A2&"!O:O")="T+4Q"))) -> 0 | AS2: =SUMPRODUCT((INDIRECT($A2&"!B:B")="B")*((INDIRECT($A2&"!O:O")="T+4Q"))) -> 0 | AT2: =SUMPRODUCT((INDIRECT($A2&"!B:B")="C")*((INDIRECT($A2&"!O:O")="T+4Q"))) -> 0 | AU2: =SUMPRODUCT((INDIRECT($A2&"!B:B")="CA")*((INDIRECT($A2&"!O:O")="T+4Q"))) -> 0 | AV2: =SUMPRODUCT((INDIRECT($A2&"!B:B")="CB")*((INDIRECT($A2&"!O:O")="T+4Q"))) -> 0 | AW2: =SUMPRODUCT((INDIRECT($A2&"!B:B")="CC")*((INDIRECT($A2&"!O:O")="T+4Q"))) -> 0
A3: HB | B3: Qos Flow数测量 | D3: =COUNTIF(HB!$B:$B,"A") -> 2 | E3: =COUNTIF(HB!$B:$B,"B") -> 2 | F3: =COUNTIF(HB!$B:$B,"C") -> 2 | G3: =COUNTIF(HB!$B:$B,"CA") -> 0 | H3: =COUNTIF(HB!$B:$B,"CB") -> 0 | I3: =COUNTIF(HB!$B:$B,"CC") -> 0 | J3: =SUM(D3:I3) -> 6 | P3: PNF/VNF | Q3: =SUMPRODUCT((INDIRECT($A3&"!B:B")="CA")*((INDIRECT($A3&"!O:O")="NA"))) -> 0 | R3: =SUMPRODUCT((INDIRECT($A3&"!B:B")="CB")*((INDIRECT($A3&"!O:O")="NA"))) -> 0 | S3: =SUMPRODUCT((INDIRECT($A3&"!B:B")="CC")*((INDIRECT($A3&"!O:O")="NA"))) -> 0 | T3: =SUMPRODUCT((INDIRECT($A3&"!B:B")="A")*((INDIRECT($A3&"!O:O")="T"))) -> 0 | U3: =SUMPRODUCT((INDIRECT($A3&"!B:B")="B")*((INDIRECT($A3&"!O:O")="T"))) -> 0 | V3: =SUMPRODUCT((INDIRECT($A3&"!B:B")="C")*((INDIRECT($A3&"!O:O")="T"))) -> 0 | W3: =SUMPRODUCT((INDIRECT($A3&"!B:B")="CA")*((INDIRECT($A3&"!O:O")="T"))) -> 0 | X3: =SUMPRODUCT((INDIRECT($A3&"!B:B")="CB")*((INDIRECT($A3&"!O:O")="T"))) -> 0 | Y3: =SUMPRODUCT((INDIRECT($A3&"!B:B")="CC")*((INDIRECT($A3&"!O:O")="T"))) -> 0 | Z3: =SUMPRODUCT((INDIRECT($A3&"!B:B")="A")*((INDIRECT($A3&"!O:O")="T+1Q"))) -> 0 | AA3: =SUMPRODUCT((INDIRECT($A3&"!B:B")="B")*((INDIRECT($A3&"!O:O")="T+1Q"))) -> 0 | AB3: =SUMPRODUCT((INDIRECT($A3&"!B:B")="C")*((INDIRECT($A3&"!O:O")="T+1Q"))) -> 0 | AC3: =SUMPRODUCT((INDIRECT($A3&"!B:B")="CA")*((INDIRECT($A3&"!O:O")="T+1Q"))) -> 0 | AD3: =SUMPRODUCT((INDIRECT($A3&"!B:B")="CB")*((INDIRECT($A3&"!O:O")="T+1Q"))) -> 0 | AE3: =SUMPRODUCT((INDIRECT($A3&"!B:B")="CC")*((INDIRECT($A3&"!O:O")="T+1Q"))) -> 0 | AF3: =SUMPRODUCT((INDIRECT($A3&"!B:B")="A")*((INDIRECT($A3&"!O:O")="T+2Q"))) -> 0 | AG3: =SUMPRODUCT((INDIRECT($A3&"!B:B")="B")*((INDIRECT($A3&"!O:O")="T+2Q"))) -> 0 | AH3: =SUMPRODUCT((INDIRECT($A3&"!B:B")="C")*((INDIRECT($A3&"!O:O")="T+2Q"))) -> 0 | AI3: =SUMPRODUCT((INDIRECT($A3&"!B:B")="CA")*((INDIRECT($A3&"!O:O")="T+2Q"))) -> 0 | AJ3: =SUMPRODUCT((INDIRECT($A3&"!B:B")="CB")*((INDIRECT($A3&"!O:O")="T+2Q"))) -> 0 | AK3: =SUMPRODUCT((INDIRECT($A3&"!B:B")="CC")*((INDIRECT($A3&"!O:O")="T+2Q"))) -> 0 | AL3: =SUMPRODUCT((INDIRECT($A3&"!B:B")="A")*((INDIRECT($A3&"!O:O")="T+3Q"))) -> 0 | AM3: =SUMPRODUCT((INDIRECT($A3&"!B:B")="B")*((INDIRECT($A3&"!O:O")="T+3Q"))) -> 0 | AN3: =SUMPRODUCT((INDIRECT($A3&"!B:B")="C")*((INDIRECT($A3&"!O:O")="T+3Q"))) -> 0 | AO3: =SUMPRODUCT((INDIRECT($A3&"!B:B")="CA")*((INDIRECT($A3&"!O:O")="T+3Q"))) -> 0 | AP3: =SUMPRODUCT((INDIRECT($A3&"!B:B")="CB")*((INDIRECT($A3&"!O:O")="T+3Q"))) -> 0 | AQ3: =SUMPRODUCT((INDIRECT($A3&"!B:B")="CC")*((INDIRECT($A3&"!O:O")="T+3Q"))) -> 0 | AR3: =SUMPRODUCT((INDIRECT($A3&"!B:B")="A")*((INDIRECT($A3&"!O:O")="T+4Q"))) -> 0 | AS3: =SUMPRODUCT((INDIRECT($A3&"!B:B")="B")*((INDIRECT($A3&"!O:O")="T+4Q"))) -> 0 | AT3: =SUMPRODUCT((INDIRECT($A3&"!B:B")="C")*((INDIRECT($A3&"!O:O")="T+4Q"))) -> 0 | AU3: =SUMPRODUCT((INDIRECT($A3&"!B:B")="CA")*((INDIRECT($A3&"!O:O")="T+4Q"))) -> 0 | AV3: =SUMPRODUCT((INDIRECT($A3&"!B:B")="CB")*((INDIRECT($A3&"!O:O")="T+4Q"))) -> 0 | AW3: =SUMPRODUCT((INDIRECT($A3&"!B:B")="CC")*((INDIRECT($A3&"!O:O")="T+4Q"))) -> 0
A4: HC | B4: N3(UPF-RAN)接口流量性能测量 | D4: =COUNTIF(HC!$B:$B,"A") -> 0 | E4: =COUNTIF(HC!$B:$B,"B") -> 10 | F4: =COUNTIF(HC!$B:$B,"C") -> 0 | G4: =COUNTIF(HC!$B:$B,"CA") -> 0 | H4: =COUNTIF(HC!$B:$B,"CB") -> 0 | I4: =COUNTIF(HC!$B:$B,"CC") -> 0 | J4: =SUM(D4:I4) -> 10 | P4: PNF/VNF | Q4: =SUMPRODUCT((INDIRECT($A4&"!B:B")="CA")*((INDIRECT($A4&"!O:O")="NA"))) -> 0 | R4: =SUMPRODUCT((INDIRECT($A4&"!B:B")="CB")*((INDIRECT($A4&"!O:O")="NA"))) -> 0 | S4: =SUMPRODUCT((INDIRECT($A4&"!B:B")="CC")*((INDIRECT($A4&"!O:O")="NA"))) -> 0 | T4: =SUMPRODUCT((INDIRECT($A4&"!B:B")="A")*((INDIRECT($A4&"!O:O")="T"))) -> 0 | U4: =SUMPRODUCT((INDIRECT($A4&"!B:B")="B")*((INDIRECT($A4&"!O:O")="T"))) -> 0 | V4: =SUMPRODUCT((INDIRECT($A4&"!B:B")="C")*((INDIRECT($A4&"!O:O")="T"))) -> 0 | W4: =SUMPRODUCT((INDIRECT($A4&"!B:B")="CA")*((INDIRECT($A4&"!O:O")="T"))) -> 0 | X4: =SUMPRODUCT((INDIRECT($A4&"!B:B")="CB")*((INDIRECT($A4&"!O:O")="T"))) -> 0 | Y4: =SUMPRODUCT((INDIRECT($A4&"!B:B")="CC")*((INDIRECT($A4&"!O:O")="T"))) -> 0 | Z4: =SUMPRODUCT((INDIRECT($A4&"!B:B")="A")*((INDIRECT($A4&"!O:O")="T+1Q"))) -> 0 | AA4: =SUMPRODUCT((INDIRECT($A4&"!B:B")="B")*((INDIRECT($A4&"!O:O")="T+1Q"))) -> 0 | AB4: =SUMPRODUCT((INDIRECT($A4&"!B:B")="C")*((INDIRECT($A4&"!O:O")="T+1Q"))) -> 0 | AC4: =SUMPRODUCT((INDIRECT($A4&"!B:B")="CA")*((INDIRECT($A4&"!O:O")="T+1Q"))) -> 0 | AD4: =SUMPRODUCT((INDIRECT($A4&"!B:B")="CB")*((INDIRECT($A4&"!O:O")="T+1Q"))) -> 0 | AE4: =SUMPRODUCT((INDIRECT($A4&"!B:B")="CC")*((INDIRECT($A4&"!O:O")="T+1Q"))) -> 0 | AF4: =SUMPRODUCT((INDIRECT($A4&"!B:B")="A")*((INDIRECT($A4&"!O:O")="T+2Q"))) -> 0 | AG4: =SUMPRODUCT((INDIRECT($A4&"!B:B")="B")*((INDIRECT($A4&"!O:O")="T+2Q"))) -> 0 | AH4: =SUMPRODUCT((INDIRECT($A4&"!B:B")="C")*((INDIRECT($A4&"!O:O")="T+2Q"))) -> 0 | AI4: =SUMPRODUCT((INDIRECT($A4&"!B:B")="CA")*((INDIRECT($A4&"!O:O")="T+2Q"))) -> 0 | AJ4: =SUMPRODUCT((INDIRECT($A4&"!B:B")="CB")*((INDIRECT($A4&"!O:O")="T+2Q"))) -> 0 | AK4: =SUMPRODUCT((INDIRECT($A4&"!B:B")="CC")*((INDIRECT($A4&"!O:O")="T+2Q"))) -> 0 | AL4: =SUMPRODUCT((INDIRECT($A4&"!B:B")="A")*((INDIRECT($A4&"!O:O")="T+3Q"))) -> 0 | AM4: =SUMPRODUCT((INDIRECT($A4&"!B:B")="B")*((INDIRECT($A4&"!O:O")="T+3Q"))) -> 0 | AN4: =SUMPRODUCT((INDIRECT($A4&"!B:B")="C")*((INDIRECT($A4&"!O:O")="T+3Q"))) -> 0 | AO4: =SUMPRODUCT((INDIRECT($A4&"!B:B")="CA")*((INDIRECT($A4&"!O:O")="T+3Q"))) -> 0 | AP4: =SUMPRODUCT((INDIRECT($A4&"!B:B")="CB")*((INDIRECT($A4&"!O:O")="T+3Q"))) -> 0 | AQ4: =SUMPRODUCT((INDIRECT($A4&"!B:B")="CC")*((INDIRECT($A4&"!O:O")="T+3Q"))) -> 0 | AR4: =SUMPRODUCT((INDIRECT($A4&"!B:B")="A")*((INDIRECT($A4&"!O:O")="T+4Q"))) -> 0 | AS4: =SUMPRODUCT((INDIRECT($A4&"!B:B")="B")*((INDIRECT($A4&"!O:O")="T+4Q"))) -> 0 | AT4: =SUMPRODUCT((INDIRECT($A4&"!B:B")="C")*((INDIRECT($A4&"!O:O")="T+4Q"))) -> 0 | AU4: =SUMPRODUCT((INDIRECT($A4&"!B:B")="CA")*((INDIRECT($A4&"!O:O")="T+4Q"))) -> 0 | AV4: =SUMPRODUCT((INDIRECT($A4&"!B:B")="CB")*((INDIRECT($A4&"!O:O")="T+4Q"))) -> 0 | AW4: =SUMPRODUCT((INDIRECT($A4&"!B:B")="CC")*((INDIRECT($A4&"!O:O")="T+4Q"))) -> 0
A5: HD | B5: N9(UPF-UPF)接口流量性能测量 | D5: =COUNTIF(HD!$B:$B,"A") -> 0 | E5: =COUNTIF(HD!$B:$B,"B") -> 0 | F5: =COUNTIF(HD!$B:$B,"C") -> 0 | G5: =COUNTIF(HD!$B:$B,"CA") -> 0 | H5: =COUNTIF(HD!$B:$B,"CB") -> 20 | I5: =COUNTIF(HD!$B:$B,"CC") -> 0 | J5: =SUM(D5:I5) -> 20 | P5: PNF/VNF | Q5: =SUMPRODUCT((INDIRECT($A5&"!B:B")="CA")*((INDIRECT($A5&"!O:O")="NA"))) -> 0 | R5: =SUMPRODUCT((INDIRECT($A5&"!B:B")="CB")*((INDIRECT($A5&"!O:O")="NA"))) -> 0 | S5: =SUMPRODUCT((INDIRECT($A5&"!B:B")="CC")*((INDIRECT($A5&"!O:O")="NA"))) -> 0 | T5: =SUMPRODUCT((INDIRECT($A5&"!B:B")="A")*((INDIRECT($A5&"!O:O")="T"))) -> 0 | U5: =SUMPRODUCT((INDIRECT($A5&"!B:B")="B")*((INDIRECT($A5&"!O:O")="T"))) -> 0 | V5: =SUMPRODUCT((INDIRECT($A5&"!B:B")="C")*((INDIRECT($A5&"!O:O")="T"))) -> 0 | W5: =SUMPRODUCT((INDIRECT($A5&"!B:B")="CA")*((INDIRECT($A5&"!O:O")="T"))) -> 0 | X5: =SUMPRODUCT((INDIRECT($A5&"!B:B")="CB")*((INDIRECT($A5&"!O:O")="T"))) -> 0 | Y5: =SUMPRODUCT((INDIRECT($A5&"!B:B")="CC")*((INDIRECT($A5&"!O:O")="T"))) -> 0 | Z5: =SUMPRODUCT((INDIRECT($A5&"!B:B")="A")*((INDIRECT($A5&"!O:O")="T+1Q"))) -> 0 | AA5: =SUMPRODUCT((INDIRECT($A5&"!B:B")="B")*((INDIRECT($A5&"!O:O")="T+1Q"))) -> 0 | AB5: =SUMPRODUCT((INDIRECT($A5&"!B:B")="C")*((INDIRECT($A5&"!O:O")="T+1Q"))) -> 0 | AC5: =SUMPRODUCT((INDIRECT($A5&"!B:B")="CA")*((INDIRECT($A5&"!O:O")="T+1Q"))) -> 0 | AD5: =SUMPRODUCT((INDIRECT($A5&"!B:B")="CB")*((INDIRECT($A5&"!O:O")="T+1Q"))) -> 0 | AE5: =SUMPRODUCT((INDIRECT($A5&"!B:B")="CC")*((INDIRECT($A5&"!O:O")="T+1Q"))) -> 0 | AF5: =SUMPRODUCT((INDIRECT($A5&"!B:B")="A")*((INDIRECT($A5&"!O:O")="T+2Q"))) -> 0 | AG5: =SUMPRODUCT((INDIRECT($A5&"!B:B")="B")*((INDIRECT($A5&"!O:O")="T+2Q"))) -> 0 | AH5: =SUMPRODUCT((INDIRECT($A5&"!B:B")="C")*((INDIRECT($A5&"!O:O")="T+2Q"))) -> 0 | AI5: =SUMPRODUCT((INDIRECT($A5&"!B:B")="CA")*((INDIRECT($A5&"!O:O")="T+2Q"))) -> 0 | AJ5: =SUMPRODUCT((INDIRECT($A5&"!B:B")="CB")*((INDIRECT($A5&"!O:O")="T+2Q"))) -> 0 | AK5: =SUMPRODUCT((INDIRECT($A5&"!B:B")="CC")*((INDIRECT($A5&"!O:O")="T+2Q"))) -> 0 | AL5: =SUMPRODUCT((INDIRECT($A5&"!B:B")="A")*((INDIRECT($A5&"!O:O")="T+3Q"))) -> 0 | AM5: =SUMPRODUCT((INDIRECT($A5&"!B:B")="B")*((INDIRECT($A5&"!O:O")="T+3Q"))) -> 0 | AN5: =SUMPRODUCT((INDIRECT($A5&"!B:B")="C")*((INDIRECT($A5&"!O:O")="T+3Q"))) -> 0 | AO5: =SUMPRODUCT((INDIRECT($A5&"!B:B")="CA")*((INDIRECT($A5&"!O:O")="T+3Q"))) -> 0 | AP5: =SUMPRODUCT((INDIRECT($A5&"!B:B")="CB")*((INDIRECT($A5&"!O:O")="T+3Q"))) -> 0 | AQ5: =SUMPRODUCT((INDIRECT($A5&"!B:B")="CC")*((INDIRECT($A5&"!O:O")="T+3Q"))) -> 0 | AR5: =SUMPRODUCT((INDIRECT($A5&"!B:B")="A")*((INDIRECT($A5&"!O:O")="T+4Q"))) -> 0 | AS5: =SUMPRODUCT((INDIRECT($A5&"!B:B")="B")*((INDIRECT($A5&"!O:O")="T+4Q"))) -> 0 | AT5: =SUMPRODUCT((INDIRECT($A5&"!B:B")="C")*((INDIRECT($A5&"!O:O")="T+4Q"))) -> 0 | AU5: =SUMPRODUCT((INDIRECT($A5&"!B:B")="CA")*((INDIRECT($A5&"!O:O")="T+4Q"))) -> 0 | AV5: =SUMPRODUCT((INDIRECT($A5&"!B:B")="CB")*((INDIRECT($A5&"!O:O")="T+4Q"))) -> 0 | AW5: =SUMPRODUCT((INDIRECT($A5&"!B:B")="CC")*((INDIRECT($A5&"!O:O")="T+4Q"))) -> 0
A6: HE | B6: N6(UPF-DN)接口流量性能测量 | D6: =COUNTIF(HE!$B:$B,"A") -> 8 | E6: =COUNTIF(HE!$B:$B,"B") -> 12 | F6: =COUNTIF(HE!$B:$B,"C") -> 0 | G6: =COUNTIF(HE!$B:$B,"CA") -> 0 | H6: =COUNTIF(HE!$B:$B,"CB") -> 0 | I6: =COUNTIF(HE!$B:$B,"CC") -> 0 | J6: =SUM(D6:I6) -> 20 | P6: PNF/VNF | Q6: =SUMPRODUCT((INDIRECT($A6&"!B:B")="CA")*((INDIRECT($A6&"!O:O")="NA"))) -> 0 | R6: =SUMPRODUCT((INDIRECT($A6&"!B:B")="CB")*((INDIRECT($A6&"!O:O")="NA"))) -> 0 | S6: =SUMPRODUCT((INDIRECT($A6&"!B:B")="CC")*((INDIRECT($A6&"!O:O")="NA"))) -> 0 | T6: =SUMPRODUCT((INDIRECT($A6&"!B:B")="A")*((INDIRECT($A6&"!O:O")="T"))) -> 0 | U6: =SUMPRODUCT((INDIRECT($A6&"!B:B")="B")*((INDIRECT($A6&"!O:O")="T"))) -> 0 | V6: =SUMPRODUCT((INDIRECT($A6&"!B:B")="C")*((INDIRECT($A6&"!O:O")="T"))) -> 0 | W6: =SUMPRODUCT((INDIRECT($A6&"!B:B")="CA")*((INDIRECT($A6&"!O:O")="T"))) -> 0 | X6: =SUMPRODUCT((INDIRECT($A6&"!B:B")="CB")*((INDIRECT($A6&"!O:O")="T"))) -> 0 | Y6: =SUMPRODUCT((INDIRECT($A6&"!B:B")="CC")*((INDIRECT($A6&"!O:O")="T"))) -> 0 | Z6: =SUMPRODUCT((INDIRECT($A6&"!B:B")="A")*((INDIRECT($A6&"!O:O")="T+1Q"))) -> 0 | AA6: =SUMPRODUCT((INDIRECT($A6&"!B:B")="B")*((INDIRECT($A6&"!O:O")="T+1Q"))) -> 0 | AB6: =SUMPRODUCT((INDIRECT($A6&"!B:B")="C")*((INDIRECT($A6&"!O:O")="T+1Q"))) -> 0 | AC6: =SUMPRODUCT((INDIRECT($A6&"!B:B")="CA")*((INDIRECT($A6&"!O:O")="T+1Q"))) -> 0 | AD6: =SUMPRODUCT((INDIRECT($A6&"!B:B")="CB")*((INDIRECT($A6&"!O:O")="T+1Q"))) -> 0 | AE6: =SUMPRODUCT((INDIRECT($A6&"!B:B")="CC")*((INDIRECT($A6&"!O:O")="T+1Q"))) -> 0 | AF6: =SUMPRODUCT((INDIRECT($A6&"!B:B")="A")*((INDIRECT($A6&"!O:O")="T+2Q"))) -> 0 | AG6: =SUMPRODUCT((INDIRECT($A6&"!B:B")="B")*((INDIRECT($A6&"!O:O")="T+2Q"))) -> 0 | AH6: =SUMPRODUCT((INDIRECT($A6&"!B:B")="C")*((INDIRECT($A6&"!O:O")="T+2Q"))) -> 0 | AI6: =SUMPRODUCT((INDIRECT($A6&"!B:B")="CA")*((INDIRECT($A6&"!O:O")="T+2Q"))) -> 0 | AJ6: =SUMPRODUCT((INDIRECT($A6&"!B:B")="CB")*((INDIRECT($A6&"!O:O")="T+2Q"))) -> 0 | AK6: =SUMPRODUCT((INDIRECT($A6&"!B:B")="CC")*((INDIRECT($A6&"!O:O")="T+2Q"))) -> 0 | AL6: =SUMPRODUCT((INDIRECT($A6&"!B:B")="A")*((INDIRECT($A6&"!O:O")="T+3Q"))) -> 0 | AM6: =SUMPRODUCT((INDIRECT($A6&"!B:B")="B")*((INDIRECT($A6&"!O:O")="T+3Q"))) -> 0 | AN6: =SUMPRODUCT((INDIRECT($A6&"!B:B")="C")*((INDIRECT($A6&"!O:O")="T+3Q"))) -> 0 | AO6: =SUMPRODUCT((INDIRECT($A6&"!B:B")="CA")*((INDIRECT($A6&"!O:O")="T+3Q"))) -> 0 | AP6: =SUMPRODUCT((INDIRECT($A6&"!B:B")="CB")*((INDIRECT($A6&"!O:O")="T+3Q"))) -> 0 | AQ6: =SUMPRODUCT((INDIRECT($A6&"!B:B")="CC")*((INDIRECT($A6&"!O:O")="T+3Q"))) -> 0 | AR6: =SUMPRODUCT((INDIRECT($A6&"!B:B")="A")*((INDIRECT($A6&"!O:O")="T+4Q"))) -> 0 | AS6: =SUMPRODUCT((INDIRECT($A6&"!B:B")="B")*((INDIRECT($A6&"!O:O")="T+4Q"))) -> 0 | AT6: =SUMPRODUCT((INDIRECT($A6&"!B:B")="C")*((INDIRECT($A6&"!O:O")="T+4Q"))) -> 0 | AU6: =SUMPRODUCT((INDIRECT($A6&"!B:B")="CA")*((INDIRECT($A6&"!O:O")="T+4Q"))) -> 0 | AV6: =SUMPRODUCT((INDIRECT($A6&"!B:B")="CB")*((INDIRECT($A6&"!O:O")="T+4Q"))) -> 0 | AW6: =SUMPRODUCT((INDIRECT($A6&"!B:B")="CC")*((INDIRECT($A6&"!O:O")="T+4Q"))) -> 0
A7: HF | B7: 网元物理性能测量 | D7: =COUNTIF(HF!$B:$B,"A") -> 0 | E7: =COUNTIF(HF!$B:$B,"B") -> 1 | F7: =COUNTIF(HF!$B:$B,"C") -> 0 | G7: =COUNTIF(HF!$B:$B,"CA") -> 0 | H7: =COUNTIF(HF!$B:$B,"CB") -> 0 | I7: =COUNTIF(HF!$B:$B,"CC") -> 0 | J7: =SUM(D7:I7) -> 1 | P7: PNF/VNF | Q7: =SUMPRODUCT((INDIRECT($A7&"!B:B")="CA")*((INDIRECT($A7&"!O:O")="NA"))) -> 0 | R7: =SUMPRODUCT((INDIRECT($A7&"!B:B")="CB")*((INDIRECT($A7&"!O:O")="NA"))) -> 0 | S7: =SUMPRODUCT((INDIRECT($A7&"!B:B")="CC")*((INDIRECT($A7&"!O:O")="NA"))) -> 0 | T7: =SUMPRODUCT((INDIRECT($A7&"!B:B")="A")*((INDIRECT($A7&"!O:O")="T"))) -> 0 | U7: =SUMPRODUCT((INDIRECT($A7&"!B:B")="B")*((INDIRECT($A7&"!O:O")="T"))) -> 0 | V7: =SUMPRODUCT((INDIRECT($A7&"!B:B")="C")*((INDIRECT($A7&"!O:O")="T"))) -> 0 | W7: =SUMPRODUCT((INDIRECT($A7&"!B:B")="CA")*((INDIRECT($A7&"!O:O")="T"))) -> 0 | X7: =SUMPRODUCT((INDIRECT($A7&"!B:B")="CB")*((INDIRECT($A7&"!O:O")="T"))) -> 0 | Y7: =SUMPRODUCT((INDIRECT($A7&"!B:B")="CC")*((INDIRECT($A7&"!O:O")="T"))) -> 0 | Z7: =SUMPRODUCT((INDIRECT($A7&"!B:B")="A")*((INDIRECT($A7&"!O:O")="T+1Q"))) -> 0 | AA7: =SUMPRODUCT((INDIRECT($A7&"!B:B")="B")*((INDIRECT($A7&"!O:O")="T+1Q"))) -> 0 | AB7: =SUMPRODUCT((INDIRECT($A7&"!B:B")="C")*((INDIRECT($A7&"!O:O")="T+1Q"))) -> 0 | AC7: =SUMPRODUCT((INDIRECT($A7&"!B:B")="CA")*((INDIRECT($A7&"!O:O")="T+1Q"))) -> 0 | AD7: =SUMPRODUCT((INDIRECT($A7&"!B:B")="CB")*((INDIRECT($A7&"!O:O")="T+1Q"))) -> 0 | AE7: =SUMPRODUCT((INDIRECT($A7&"!B:B")="CC")*((INDIRECT($A7&"!O:O")="T+1Q"))) -> 0 | AF7: =SUMPRODUCT((INDIRECT($A7&"!B:B")="A")*((INDIRECT($A7&"!O:O")="T+2Q"))) -> 0 | AG7: =SUMPRODUCT((INDIRECT($A7&"!B:B")="B")*((INDIRECT($A7&"!O:O")="T+2Q"))) -> 0 | AH7: =SUMPRODUCT((INDIRECT($A7&"!B:B")="C")*((INDIRECT($A7&"!O:O")="T+2Q"))) -> 0 | AI7: =SUMPRODUCT((INDIRECT($A7&"!B:B")="CA")*((INDIRECT($A7&"!O:O")="T+2Q"))) -> 0 | AJ7: =SUMPRODUCT((INDIRECT($A7&"!B:B")="CB")*((INDIRECT($A7&"!O:O")="T+2Q"))) -> 0 | AK7: =SUMPRODUCT((INDIRECT($A7&"!B:B")="CC")*((INDIRECT($A7&"!O:O")="T+2Q"))) -> 0 | AL7: =SUMPRODUCT((INDIRECT($A7&"!B:B")="A")*((INDIRECT($A7&"!O:O")="T+3Q"))) -> 0 | AM7: =SUMPRODUCT((INDIRECT($A7&"!B:B")="B")*((INDIRECT($A7&"!O:O")="T+3Q"))) -> 0 | AN7: =SUMPRODUCT((INDIRECT($A7&"!B:B")="C")*((INDIRECT($A7&"!O:O")="T+3Q"))) -> 0 | AO7: =SUMPRODUCT((INDIRECT($A7&"!B:B")="CA")*((INDIRECT($A7&"!O:O")="T+3Q"))) -> 0 | AP7: =SUMPRODUCT((INDIRECT($A7&"!B:B")="CB")*((INDIRECT($A7&"!O:O")="T+3Q"))) -> 0 | AQ7: =SUMPRODUCT((INDIRECT($A7&"!B:B")="CC")*((INDIRECT($A7&"!O:O")="T+3Q"))) -> 0 | AR7: =SUMPRODUCT((INDIRECT($A7&"!B:B")="A")*((INDIRECT($A7&"!O:O")="T+4Q"))) -> 0 | AS7: =SUMPRODUCT((INDIRECT($A7&"!B:B")="B")*((INDIRECT($A7&"!O:O")="T+4Q"))) -> 0 | AT7: =SUMPRODUCT((INDIRECT($A7&"!B:B")="C")*((INDIRECT($A7&"!O:O")="T+4Q"))) -> 0 | AU7: =SUMPRODUCT((INDIRECT($A7&"!B:B")="CA")*((INDIRECT($A7&"!O:O")="T+4Q"))) -> 0 | AV7: =SUMPRODUCT((INDIRECT($A7&"!B:B")="CB")*((INDIRECT($A7&"!O:O")="T+4Q"))) -> 0 | AW7: =SUMPRODUCT((INDIRECT($A7&"!B:B")="CC")*((INDIRECT($A7&"!O:O")="T+4Q"))) -> 0
A8: HG | B8: 时延测量 | D8: =COUNTIF(HG!$B:$B,"A") -> 0 | E8: =COUNTIF(HG!$B:$B,"B") -> 6 | F8: =COUNTIF(HG!$B:$B,"C") -> 0 | G8: =COUNTIF(HG!$B:$B,"CA") -> 0 | H8: =COUNTIF(HG!$B:$B,"CB") -> 0 | I8: =COUNTIF(HG!$B:$B,"CC") -> 0 | J8: =SUM(D8:I8) -> 6 | P8: PNF/VNF | Q8: =SUMPRODUCT((INDIRECT($A8&"!B:B")="CA")*((INDIRECT($A8&"!O:O")="NA"))) -> 0 | R8: =SUMPRODUCT((INDIRECT($A8&"!B:B")="CB")*((INDIRECT($A8&"!O:O")="NA"))) -> 0 | S8: =SUMPRODUCT((INDIRECT($A8&"!B:B")="CC")*((INDIRECT($A8&"!O:O")="NA"))) -> 0 | T8: =SUMPRODUCT((INDIRECT($A8&"!B:B")="A")*((INDIRECT($A8&"!O:O")="T"))) -> 0 | U8: =SUMPRODUCT((INDIRECT($A8&"!B:B")="B")*((INDIRECT($A8&"!O:O")="T"))) -> 0 | V8: =SUMPRODUCT((INDIRECT($A8&"!B:B")="C")*((INDIRECT($A8&"!O:O")="T"))) -> 0 | W8: =SUMPRODUCT((INDIRECT($A8&"!B:B")="CA")*((INDIRECT($A8&"!O:O")="T"))) -> 0 | X8: =SUMPRODUCT((INDIRECT($A8&"!B:B")="CB")*((INDIRECT($A8&"!O:O")="T"))) -> 0 | Y8: =SUMPRODUCT((INDIRECT($A8&"!B:B")="CC")*((INDIRECT($A8&"!O:O")="T"))) -> 0 | Z8: =SUMPRODUCT((INDIRECT($A8&"!B:B")="A")*((INDIRECT($A8&"!O:O")="T+1Q"))) -> 0 | AA8: =SUMPRODUCT((INDIRECT($A8&"!B:B")="B")*((INDIRECT($A8&"!O:O")="T+1Q"))) -> 0 | AB8: =SUMPRODUCT((INDIRECT($A8&"!B:B")="C")*((INDIRECT($A8&"!O:O")="T+1Q"))) -> 0 | AC8: =SUMPRODUCT((INDIRECT($A8&"!B:B")="CA")*((INDIRECT($A8&"!O:O")="T+1Q"))) -> 0 | AD8: =SUMPRODUCT((INDIRECT($A8&"!B:B")="CB")*((INDIRECT($A8&"!O:O")="T+1Q"))) -> 0 | AE8: =SUMPRODUCT((INDIRECT($A8&"!B:B")="CC")*((INDIRECT($A8&"!O:O")="T+1Q"))) -> 0 | AF8: =SUMPRODUCT((INDIRECT($A8&"!B:B")="A")*((INDIRECT($A8&"!O:O")="T+2Q"))) -> 0 | AG8: =SUMPRODUCT((INDIRECT($A8&"!B:B")="B")*((INDIRECT($A8&"!O:O")="T+2Q"))) -> 0 | AH8: =SUMPRODUCT((INDIRECT($A8&"!B:B")="C")*((INDIRECT($A8&"!O:O")="T+2Q"))) -> 0 | AI8: =SUMPRODUCT((INDIRECT($A8&"!B:B")="CA")*((INDIRECT($A8&"!O:O")="T+2Q"))) -> 0 | AJ8: =SUMPRODUCT((INDIRECT($A8&"!B:B")="CB")*((INDIRECT($A8&"!O:O")="T+2Q"))) -> 0 | AK8: =SUMPRODUCT((INDIRECT($A8&"!B:B")="CC")*((INDIRECT($A8&"!O:O")="T+2Q"))) -> 0 | AL8: =SUMPRODUCT((INDIRECT($A8&"!B:B")="A")*((INDIRECT($A8&"!O:O")="T+3Q"))) -> 0 | AM8: =SUMPRODUCT((INDIRECT($A8&"!B:B")="B")*((INDIRECT($A8&"!O:O")="T+3Q"))) -> 0 | AN8: =SUMPRODUCT((INDIRECT($A8&"!B:B")="C")*((INDIRECT($A8&"!O:O")="T+3Q"))) -> 0 | AO8: =SUMPRODUCT((INDIRECT($A8&"!B:B")="CA")*((INDIRECT($A8&"!O:O")="T+3Q"))) -> 0 | AP8: =SUMPRODUCT((INDIRECT($A8&"!B:B")="CB")*((INDIRECT($A8&"!O:O")="T+3Q"))) -> 0 | AQ8: =SUMPRODUCT((INDIRECT($A8&"!B:B")="CC")*((INDIRECT($A8&"!O:O")="T+3Q"))) -> 0 | AR8: =SUMPRODUCT((INDIRECT($A8&"!B:B")="A")*((INDIRECT($A8&"!O:O")="T+4Q"))) -> 0 | AS8: =SUMPRODUCT((INDIRECT($A8&"!B:B")="B")*((INDIRECT($A8&"!O:O")="T+4Q"))) -> 0 | AT8: =SUMPRODUCT((INDIRECT($A8&"!B:B")="C")*((INDIRECT($A8&"!O:O")="T+4Q"))) -> 0 | AU8: =SUMPRODUCT((INDIRECT($A8&"!B:B")="CA")*((INDIRECT($A8&"!O:O")="T+4Q"))) -> 0 | AV8: =SUMPRODUCT((INDIRECT($A8&"!B:B")="CB")*((INDIRECT($A8&"!O:O")="T+4Q"))) -> 0 | AW8: =SUMPRODUCT((INDIRECT($A8&"!B:B")="CC")*((INDIRECT($A8&"!O:O")="T+4Q"))) -> 0
A9: HH | B9: 5GLAN性能测量 | C9: 支持5GLAN时涉及 | D9: =COUNTIF(HH!$B:$B,"A") -> 0 | E9: =COUNTIF(HH!$B:$B,"B") -> 0 | F9: =COUNTIF(HH!$B:$B,"C") -> 0 | G9: =COUNTIF(HH!$B:$B,"CA") -> 3 | H9: =COUNTIF(HH!$B:$B,"CB") -> 3 | I9: =COUNTIF(HH!$B:$B,"CC") -> 0 | J9: =SUM(D9:I9) -> 6 | P9: PNF/VNF | Q9: =SUMPRODUCT((INDIRECT($A9&"!B:B")="CA")*((INDIRECT($A9&"!O:O")="NA"))) -> 0 | R9: =SUMPRODUCT((INDIRECT($A9&"!B:B")="CB")*((INDIRECT($A9&"!O:O")="NA"))) -> 0 | S9: =SUMPRODUCT((INDIRECT($A9&"!B:B")="CC")*((INDIRECT($A9&"!O:O")="NA"))) -> 0 | T9: =SUMPRODUCT((INDIRECT($A9&"!B:B")="A")*((INDIRECT($A9&"!O:O")="T"))) -> 0 | U9: =SUMPRODUCT((INDIRECT($A9&"!B:B")="B")*((INDIRECT($A9&"!O:O")="T"))) -> 0 | V9: =SUMPRODUCT((INDIRECT($A9&"!B:B")="C")*((INDIRECT($A9&"!O:O")="T"))) -> 0 | W9: =SUMPRODUCT((INDIRECT($A9&"!B:B")="CA")*((INDIRECT($A9&"!O:O")="T"))) -> 0 | X9: =SUMPRODUCT((INDIRECT($A9&"!B:B")="CB")*((INDIRECT($A9&"!O:O")="T"))) -> 0 | Y9: =SUMPRODUCT((INDIRECT($A9&"!B:B")="CC")*((INDIRECT($A9&"!O:O")="T"))) -> 0 | Z9: =SUMPRODUCT((INDIRECT($A9&"!B:B")="A")*((INDIRECT($A9&"!O:O")="T+1Q"))) -> 0 | AA9: =SUMPRODUCT((INDIRECT($A9&"!B:B")="B")*((INDIRECT($A9&"!O:O")="T+1Q"))) -> 0 | AB9: =SUMPRODUCT((INDIRECT($A9&"!B:B")="C")*((INDIRECT($A9&"!O:O")="T+1Q"))) -> 0 | AC9: =SUMPRODUCT((INDIRECT($A9&"!B:B")="CA")*((INDIRECT($A9&"!O:O")="T+1Q"))) -> 0 | AD9: =SUMPRODUCT((INDIRECT($A9&"!B:B")="CB")*((INDIRECT($A9&"!O:O")="T+1Q"))) -> 0 | AE9: =SUMPRODUCT((INDIRECT($A9&"!B:B")="CC")*((INDIRECT($A9&"!O:O")="T+1Q"))) -> 0 | AF9: =SUMPRODUCT((INDIRECT($A9&"!B:B")="A")*((INDIRECT($A9&"!O:O")="T+2Q"))) -> 0 | AG9: =SUMPRODUCT((INDIRECT($A9&"!B:B")="B")*((INDIRECT($A9&"!O:O")="T+2Q"))) -> 0 | AH9: =SUMPRODUCT((INDIRECT($A9&"!B:B")="C")*((INDIRECT($A9&"!O:O")="T+2Q"))) -> 0 | AI9: =SUMPRODUCT((INDIRECT($A9&"!B:B")="CA")*((INDIRECT($A9&"!O:O")="T+2Q"))) -> 0 | AJ9: =SUMPRODUCT((INDIRECT($A9&"!B:B")="CB")*((INDIRECT($A9&"!O:O")="T+2Q"))) -> 0 | AK9: =SUMPRODUCT((INDIRECT($A9&"!B:B")="CC")*((INDIRECT($A9&"!O:O")="T+2Q"))) -> 0 | AL9: =SUMPRODUCT((INDIRECT($A9&"!B:B")="A")*((INDIRECT($A9&"!O:O")="T+3Q"))) -> 0 | AM9: =SUMPRODUCT((INDIRECT($A9&"!B:B")="B")*((INDIRECT($A9&"!O:O")="T+3Q"))) -> 0 | AN9: =SUMPRODUCT((INDIRECT($A9&"!B:B")="C")*((INDIRECT($A9&"!O:O")="T+3Q"))) -> 0 | AO9: =SUMPRODUCT((INDIRECT($A9&"!B:B")="CA")*((INDIRECT($A9&"!O:O")="T+3Q"))) -> 0 | AP9: =SUMPRODUCT((INDIRECT($A9&"!B:B")="CB")*((INDIRECT($A9&"!O:O")="T+3Q"))) -> 0 | AQ9: =SUMPRODUCT((INDIRECT($A9&"!B:B")="CC")*((INDIRECT($A9&"!O:O")="T+3Q"))) -> 0 | AR9: =SUMPRODUCT((INDIRECT($A9&"!B:B")="A")*((INDIRECT($A9&"!O:O")="T+4Q"))) -> 0 | AS9: =SUMPRODUCT((INDIRECT($A9&"!B:B")="B")*((INDIRECT($A9&"!O:O")="T+4Q"))) -> 0 | AT9: =SUMPRODUCT((INDIRECT($A9&"!B:B")="C")*((INDIRECT($A9&"!O:O")="T+4Q"))) -> 0 | AU9: =SUMPRODUCT((INDIRECT($A9&"!B:B")="CA")*((INDIRECT($A9&"!O:O")="T+4Q"))) -> 0 | AV9: =SUMPRODUCT((INDIRECT($A9&"!B:B")="CB")*((INDIRECT($A9&"!O:O")="T+4Q"))) -> 0 | AW9: =SUMPRODUCT((INDIRECT($A9&"!B:B")="CC")*((INDIRECT($A9&"!O:O")="T+4Q"))) -> 0
A10: HI | B10: 内置AMF性能测量 | C10: UPF+场景下，支持内置应急AMF时涉及 | D10: =COUNTIF(HI!$B:$B,"A") -> 0 | E10: =COUNTIF(HI!$B:$B,"B") -> 0 | F10: =COUNTIF(HI!$B:$B,"C") -> 0 | G10: =COUNTIF(HI!$B:$B,"CA") -> 14 | H10: =COUNTIF(HI!$B:$B,"CB") -> 10 | I10: =COUNTIF(HI!$B:$B,"CC") -> 1 | J10: =SUM(D10:I10) -> 25 | P10: PNF/VNF | Q10: =SUMPRODUCT((INDIRECT($A10&"!B:B")="CA")*((INDIRECT($A10&"!O:O")="NA"))) -> 0 | R10: =SUMPRODUCT((INDIRECT($A10&"!B:B")="CB")*((INDIRECT($A10&"!O:O")="NA"))) -> 0 | S10: =SUMPRODUCT((INDIRECT($A10&"!B:B")="CC")*((INDIRECT($A10&"!O:O")="NA"))) -> 0 | T10: =SUMPRODUCT((INDIRECT($A10&"!B:B")="A")*((INDIRECT($A10&"!O:O")="T"))) -> 0 | U10: =SUMPRODUCT((INDIRECT($A10&"!B:B")="B")*((INDIRECT($A10&"!O:O")="T"))) -> 0 | V10: =SUMPRODUCT((INDIRECT($A10&"!B:B")="C")*((INDIRECT($A10&"!O:O")="T"))) -> 0 | W10: =SUMPRODUCT((INDIRECT($A10&"!B:B")="CA")*((INDIRECT($A10&"!O:O")="T"))) -> 0 | X10: =SUMPRODUCT((INDIRECT($A10&"!B:B")="CB")*((INDIRECT($A10&"!O:O")="T"))) -> 0 | Y10: =SUMPRODUCT((INDIRECT($A10&"!B:B")="CC")*((INDIRECT($A10&"!O:O")="T"))) -> 0 | Z10: =SUMPRODUCT((INDIRECT($A10&"!B:B")="A")*((INDIRECT($A10&"!O:O")="T+1Q"))) -> 0 | AA10: =SUMPRODUCT((INDIRECT($A10&"!B:B")="B")*((INDIRECT($A10&"!O:O")="T+1Q"))) -> 0 | AB10: =SUMPRODUCT((INDIRECT($A10&"!B:B")="C")*((INDIRECT($A10&"!O:O")="T+1Q"))) -> 0 | AC10: =SUMPRODUCT((INDIRECT($A10&"!B:B")="CA")*((INDIRECT($A10&"!O:O")="T+1Q"))) -> 0 | AD10: =SUMPRODUCT((INDIRECT($A10&"!B:B")="CB")*((INDIRECT($A10&"!O:O")="T+1Q"))) -> 0 | AE10: =SUMPRODUCT((INDIRECT($A10&"!B:B")="CC")*((INDIRECT($A10&"!O:O")="T+1Q"))) -> 0 | AF10: =SUMPRODUCT((INDIRECT($A10&"!B:B")="A")*((INDIRECT($A10&"!O:O")="T+2Q"))) -> 0 | AG10: =SUMPRODUCT((INDIRECT($A10&"!B:B")="B")*((INDIRECT($A10&"!O:O")="T+2Q"))) -> 0 | AH10: =SUMPRODUCT((INDIRECT($A10&"!B:B")="C")*((INDIRECT($A10&"!O:O")="T+2Q"))) -> 0 | AI10: =SUMPRODUCT((INDIRECT($A10&"!B:B")="CA")*((INDIRECT($A10&"!O:O")="T+2Q"))) -> 0 | AJ10: =SUMPRODUCT((INDIRECT($A10&"!B:B")="CB")*((INDIRECT($A10&"!O:O")="T+2Q"))) -> 0 | AK10: =SUMPRODUCT((INDIRECT($A10&"!B:B")="CC")*((INDIRECT($A10&"!O:O")="T+2Q"))) -> 0 | AL10: =SUMPRODUCT((INDIRECT($A10&"!B:B")="A")*((INDIRECT($A10&"!O:O")="T+3Q"))) -> 0 | AM10: =SUMPRODUCT((INDIRECT($A10&"!B:B")="B")*((INDIRECT($A10&"!O:O")="T+3Q"))) -> 0 | AN10: =SUMPRODUCT((INDIRECT($A10&"!B:B")="C")*((INDIRECT($A10&"!O:O")="T+3Q"))) -> 0 | AO10: =SUMPRODUCT((INDIRECT($A10&"!B:B")="CA")*((INDIRECT($A10&"!O:O")="T+3Q"))) -> 0 | AP10: =SUMPRODUCT((INDIRECT($A10&"!B:B")="CB")*((INDIRECT($A10&"!O:O")="T+3Q"))) -> 0 | AQ10: =SUMPRODUCT((INDIRECT($A10&"!B:B")="CC")*((INDIRECT($A10&"!O:O")="T+3Q"))) -> 0 | AR10: =SUMPRODUCT((INDIRECT($A10&"!B:B")="A")*((INDIRECT($A10&"!O:O")="T+4Q"))) -> 0 | AS10: =SUMPRODUCT((INDIRECT($A10&"!B:B")="B")*((INDIRECT($A10&"!O:O")="T+4Q"))) -> 0 | AT10: =SUMPRODUCT((INDIRECT($A10&"!B:B")="C")*((INDIRECT($A10&"!O:O")="T+4Q"))) -> 0 | AU10: =SUMPRODUCT((INDIRECT($A10&"!B:B")="CA")*((INDIRECT($A10&"!O:O")="T+4Q"))) -> 0 | AV10: =SUMPRODUCT((INDIRECT($A10&"!B:B")="CB")*((INDIRECT($A10&"!O:O")="T+4Q"))) -> 0 | AW10: =SUMPRODUCT((INDIRECT($A10&"!B:B")="CC")*((INDIRECT($A10&"!O:O")="T+4Q"))) -> 0
A11: HJ | B11: 内置SMF性能测量 | C11: UPF+场景下，支持内置应急SMF时涉及 | D11: =COUNTIF(HJ!$B:$B,"A") -> 0 | E11: =COUNTIF(HJ!$B:$B,"B") -> 0 | F11: =COUNTIF(HJ!$B:$B,"C") -> 0 | G11: =COUNTIF(HJ!$B:$B,"CA") -> 6 | H11: =COUNTIF(HJ!$B:$B,"CB") -> 6 | I11: =COUNTIF(HJ!$B:$B,"CC") -> 0 | J11: =SUM(D11:I11) -> 12 | P11: PNF/VNF | Q11: =SUMPRODUCT((INDIRECT($A11&"!B:B")="CA")*((INDIRECT($A11&"!O:O")="NA"))) -> 0 | R11: =SUMPRODUCT((INDIRECT($A11&"!B:B")="CB")*((INDIRECT($A11&"!O:O")="NA"))) -> 0 | S11: =SUMPRODUCT((INDIRECT($A11&"!B:B")="CC")*((INDIRECT($A11&"!O:O")="NA"))) -> 0 | T11: =SUMPRODUCT((INDIRECT($A11&"!B:B")="A")*((INDIRECT($A11&"!O:O")="T"))) -> 0 | U11: =SUMPRODUCT((INDIRECT($A11&"!B:B")="B")*((INDIRECT($A11&"!O:O")="T"))) -> 0 | V11: =SUMPRODUCT((INDIRECT($A11&"!B:B")="C")*((INDIRECT($A11&"!O:O")="T"))) -> 0 | W11: =SUMPRODUCT((INDIRECT($A11&"!B:B")="CA")*((INDIRECT($A11&"!O:O")="T"))) -> 0 | X11: =SUMPRODUCT((INDIRECT($A11&"!B:B")="CB")*((INDIRECT($A11&"!O:O")="T"))) -> 0 | Y11: =SUMPRODUCT((INDIRECT($A11&"!B:B")="CC")*((INDIRECT($A11&"!O:O")="T"))) -> 0 | Z11: =SUMPRODUCT((INDIRECT($A11&"!B:B")="A")*((INDIRECT($A11&"!O:O")="T+1Q"))) -> 0 | AA11: =SUMPRODUCT((INDIRECT($A11&"!B:B")="B")*((INDIRECT($A11&"!O:O")="T+1Q"))) -> 0 | AB11: =SUMPRODUCT((INDIRECT($A11&"!B:B")="C")*((INDIRECT($A11&"!O:O")="T+1Q"))) -> 0 | AC11: =SUMPRODUCT((INDIRECT($A11&"!B:B")="CA")*((INDIRECT($A11&"!O:O")="T+1Q"))) -> 0 | AD11: =SUMPRODUCT((INDIRECT($A11&"!B:B")="CB")*((INDIRECT($A11&"!O:O")="T+1Q"))) -> 0 | AE11: =SUMPRODUCT((INDIRECT($A11&"!B:B")="CC")*((INDIRECT($A11&"!O:O")="T+1Q"))) -> 0 | AF11: =SUMPRODUCT((INDIRECT($A11&"!B:B")="A")*((INDIRECT($A11&"!O:O")="T+2Q"))) -> 0 | AG11: =SUMPRODUCT((INDIRECT($A11&"!B:B")="B")*((INDIRECT($A11&"!O:O")="T+2Q"))) -> 0 | AH11: =SUMPRODUCT((INDIRECT($A11&"!B:B")="C")*((INDIRECT($A11&"!O:O")="T+2Q"))) -> 0 | AI11: =SUMPRODUCT((INDIRECT($A11&"!B:B")="CA")*((INDIRECT($A11&"!O:O")="T+2Q"))) -> 0 | AJ11: =SUMPRODUCT((INDIRECT($A11&"!B:B")="CB")*((INDIRECT($A11&"!O:O")="T+2Q"))) -> 0 | AK11: =SUMPRODUCT((INDIRECT($A11&"!B:B")="CC")*((INDIRECT($A11&"!O:O")="T+2Q"))) -> 0 | AL11: =SUMPRODUCT((INDIRECT($A11&"!B:B")="A")*((INDIRECT($A11&"!O:O")="T+3Q"))) -> 0 | AM11: =SUMPRODUCT((INDIRECT($A11&"!B:B")="B")*((INDIRECT($A11&"!O:O")="T+3Q"))) -> 0 | AN11: =SUMPRODUCT((INDIRECT($A11&"!B:B")="C")*((INDIRECT($A11&"!O:O")="T+3Q"))) -> 0 | AO11: =SUMPRODUCT((INDIRECT($A11&"!B:B")="CA")*((INDIRECT($A11&"!O:O")="T+3Q"))) -> 0 | AP11: =SUMPRODUCT((INDIRECT($A11&"!B:B")="CB")*((INDIRECT($A11&"!O:O")="T+3Q"))) -> 0 | AQ11: =SUMPRODUCT((INDIRECT($A11&"!B:B")="CC")*((INDIRECT($A11&"!O:O")="T+3Q"))) -> 0 | AR11: =SUMPRODUCT((INDIRECT($A11&"!B:B")="A")*((INDIRECT($A11&"!O:O")="T+4Q"))) -> 0 | AS11: =SUMPRODUCT((INDIRECT($A11&"!B:B")="B")*((INDIRECT($A11&"!O:O")="T+4Q"))) -> 0 | AT11: =SUMPRODUCT((INDIRECT($A11&"!B:B")="C")*((INDIRECT($A11&"!O:O")="T+4Q"))) -> 0 | AU11: =SUMPRODUCT((INDIRECT($A11&"!B:B")="CA")*((INDIRECT($A11&"!O:O")="T+4Q"))) -> 0 | AV11: =SUMPRODUCT((INDIRECT($A11&"!B:B")="CB")*((INDIRECT($A11&"!O:O")="T+4Q"))) -> 0 | AW11: =SUMPRODUCT((INDIRECT($A11&"!B:B")="CC")*((INDIRECT($A11&"!O:O")="T+4Q"))) -> 0
A12: HK | B12: 内置UDM性能测量 | C12: UPF+场景下，支持内置应急UDM时涉及 | D12: =COUNTIF(HK!$B:$B,"A") -> 0 | E12: =COUNTIF(HK!$B:$B,"B") -> 0 | F12: =COUNTIF(HK!$B:$B,"C") -> 0 | G12: =COUNTIF(HK!$B:$B,"CA") -> 3 | H12: =COUNTIF(HK!$B:$B,"CB") -> 4 | I12: =COUNTIF(HK!$B:$B,"CC") -> 0 | J12: =SUM(D12:I12) -> 7 | P12: PNF/VNF | Q12: =SUMPRODUCT((INDIRECT($A12&"!B:B")="CA")*((INDIRECT($A12&"!O:O")="NA"))) -> 0 | R12: =SUMPRODUCT((INDIRECT($A12&"!B:B")="CB")*((INDIRECT($A12&"!O:O")="NA"))) -> 0 | S12: =SUMPRODUCT((INDIRECT($A12&"!B:B")="CC")*((INDIRECT($A12&"!O:O")="NA"))) -> 0 | T12: =SUMPRODUCT((INDIRECT($A12&"!B:B")="A")*((INDIRECT($A12&"!O:O")="T"))) -> 0 | U12: =SUMPRODUCT((INDIRECT($A12&"!B:B")="B")*((INDIRECT($A12&"!O:O")="T"))) -> 0 | V12: =SUMPRODUCT((INDIRECT($A12&"!B:B")="C")*((INDIRECT($A12&"!O:O")="T"))) -> 0 | W12: =SUMPRODUCT((INDIRECT($A12&"!B:B")="CA")*((INDIRECT($A12&"!O:O")="T"))) -> 0 | X12: =SUMPRODUCT((INDIRECT($A12&"!B:B")="CB")*((INDIRECT($A12&"!O:O")="T"))) -> 0 | Y12: =SUMPRODUCT((INDIRECT($A12&"!B:B")="CC")*((INDIRECT($A12&"!O:O")="T"))) -> 0 | Z12: =SUMPRODUCT((INDIRECT($A12&"!B:B")="A")*((INDIRECT($A12&"!O:O")="T+1Q"))) -> 0 | AA12: =SUMPRODUCT((INDIRECT($A12&"!B:B")="B")*((INDIRECT($A12&"!O:O")="T+1Q"))) -> 0 | AB12: =SUMPRODUCT((INDIRECT($A12&"!B:B")="C")*((INDIRECT($A12&"!O:O")="T+1Q"))) -> 0 | AC12: =SUMPRODUCT((INDIRECT($A12&"!B:B")="CA")*((INDIRECT($A12&"!O:O")="T+1Q"))) -> 0 | AD12: =SUMPRODUCT((INDIRECT($A12&"!B:B")="CB")*((INDIRECT($A12&"!O:O")="T+1Q"))) -> 0 | AE12: =SUMPRODUCT((INDIRECT($A12&"!B:B")="CC")*((INDIRECT($A12&"!O:O")="T+1Q"))) -> 0 | AF12: =SUMPRODUCT((INDIRECT($A12&"!B:B")="A")*((INDIRECT($A12&"!O:O")="T+2Q"))) -> 0 | AG12: =SUMPRODUCT((INDIRECT($A12&"!B:B")="B")*((INDIRECT($A12&"!O:O")="T+2Q"))) -> 0 | AH12: =SUMPRODUCT((INDIRECT($A12&"!B:B")="C")*((INDIRECT($A12&"!O:O")="T+2Q"))) -> 0 | AI12: =SUMPRODUCT((INDIRECT($A12&"!B:B")="CA")*((INDIRECT($A12&"!O:O")="T+2Q"))) -> 0 | AJ12: =SUMPRODUCT((INDIRECT($A12&"!B:B")="CB")*((INDIRECT($A12&"!O:O")="T+2Q"))) -> 0 | AK12: =SUMPRODUCT((INDIRECT($A12&"!B:B")="CC")*((INDIRECT($A12&"!O:O")="T+2Q"))) -> 0 | AL12: =SUMPRODUCT((INDIRECT($A12&"!B:B")="A")*((INDIRECT($A12&"!O:O")="T+3Q"))) -> 0 | AM12: =SUMPRODUCT((INDIRECT($A12&"!B:B")="B")*((INDIRECT($A12&"!O:O")="T+3Q"))) -> 0 | AN12: =SUMPRODUCT((INDIRECT($A12&"!B:B")="C")*((INDIRECT($A12&"!O:O")="T+3Q"))) -> 0 | AO12: =SUMPRODUCT((INDIRECT($A12&"!B:B")="CA")*((INDIRECT($A12&"!O:O")="T+3Q"))) -> 0 | AP12: =SUMPRODUCT((INDIRECT($A12&"!B:B")="CB")*((INDIRECT($A12&"!O:O")="T+3Q"))) -> 0 | AQ12: =SUMPRODUCT((INDIRECT($A12&"!B:B")="CC")*((INDIRECT($A12&"!O:O")="T+3Q"))) -> 0 | AR12: =SUMPRODUCT((INDIRECT($A12&"!B:B")="A")*((INDIRECT($A12&"!O:O")="T+4Q"))) -> 0 | AS12: =SUMPRODUCT((INDIRECT($A12&"!B:B")="B")*((INDIRECT($A12&"!O:O")="T+4Q"))) -> 0 | AT12: =SUMPRODUCT((INDIRECT($A12&"!B:B")="C")*((INDIRECT($A12&"!O:O")="T+4Q"))) -> 0 | AU12: =SUMPRODUCT((INDIRECT($A12&"!B:B")="CA")*((INDIRECT($A12&"!O:O")="T+4Q"))) -> 0 | AV12: =SUMPRODUCT((INDIRECT($A12&"!B:B")="CB")*((INDIRECT($A12&"!O:O")="T+4Q"))) -> 0 | AW12: =SUMPRODUCT((INDIRECT($A12&"!B:B")="CC")*((INDIRECT($A12&"!O:O")="T+4Q"))) -> 0
A13: HL | B13: 内置AUSF性能测量 | C13: UPF+场景下，支持内置应急AUSF时涉及 | D13: =COUNTIF(HL!$B:$B,"A") -> 0 | E13: =COUNTIF(HL!$B:$B,"B") -> 0 | F13: =COUNTIF(HL!$B:$B,"C") -> 0 | G13: =COUNTIF(HL!$B:$B,"CA") -> 2 | H13: =COUNTIF(HL!$B:$B,"CB") -> 0 | I13: =COUNTIF(HL!$B:$B,"CC") -> 0 | J13: =SUM(D13:I13) -> 2 | P13: PNF/VNF | Q13: =SUMPRODUCT((INDIRECT($A13&"!B:B")="CA")*((INDIRECT($A13&"!O:O")="NA"))) -> 0 | R13: =SUMPRODUCT((INDIRECT($A13&"!B:B")="CB")*((INDIRECT($A13&"!O:O")="NA"))) -> 0 | S13: =SUMPRODUCT((INDIRECT($A13&"!B:B")="CC")*((INDIRECT($A13&"!O:O")="NA"))) -> 0 | T13: =SUMPRODUCT((INDIRECT($A13&"!B:B")="A")*((INDIRECT($A13&"!O:O")="T"))) -> 0 | U13: =SUMPRODUCT((INDIRECT($A13&"!B:B")="B")*((INDIRECT($A13&"!O:O")="T"))) -> 0 | V13: =SUMPRODUCT((INDIRECT($A13&"!B:B")="C")*((INDIRECT($A13&"!O:O")="T"))) -> 0 | W13: =SUMPRODUCT((INDIRECT($A13&"!B:B")="CA")*((INDIRECT($A13&"!O:O")="T"))) -> 0 | X13: =SUMPRODUCT((INDIRECT($A13&"!B:B")="CB")*((INDIRECT($A13&"!O:O")="T"))) -> 0 | Y13: =SUMPRODUCT((INDIRECT($A13&"!B:B")="CC")*((INDIRECT($A13&"!O:O")="T"))) -> 0 | Z13: =SUMPRODUCT((INDIRECT($A13&"!B:B")="A")*((INDIRECT($A13&"!O:O")="T+1Q"))) -> 0 | AA13: =SUMPRODUCT((INDIRECT($A13&"!B:B")="B")*((INDIRECT($A13&"!O:O")="T+1Q"))) -> 0 | AB13: =SUMPRODUCT((INDIRECT($A13&"!B:B")="C")*((INDIRECT($A13&"!O:O")="T+1Q"))) -> 0 | AC13: =SUMPRODUCT((INDIRECT($A13&"!B:B")="CA")*((INDIRECT($A13&"!O:O")="T+1Q"))) -> 0 | AD13: =SUMPRODUCT((INDIRECT($A13&"!B:B")="CB")*((INDIRECT($A13&"!O:O")="T+1Q"))) -> 0 | AE13: =SUMPRODUCT((INDIRECT($A13&"!B:B")="CC")*((INDIRECT($A13&"!O:O")="T+1Q"))) -> 0 | AF13: =SUMPRODUCT((INDIRECT($A13&"!B:B")="A")*((INDIRECT($A13&"!O:O")="T+2Q"))) -> 0 | AG13: =SUMPRODUCT((INDIRECT($A13&"!B:B")="B")*((INDIRECT($A13&"!O:O")="T+2Q"))) -> 0 | AH13: =SUMPRODUCT((INDIRECT($A13&"!B:B")="C")*((INDIRECT($A13&"!O:O")="T+2Q"))) -> 0 | AI13: =SUMPRODUCT((INDIRECT($A13&"!B:B")="CA")*((INDIRECT($A13&"!O:O")="T+2Q"))) -> 0 | AJ13: =SUMPRODUCT((INDIRECT($A13&"!B:B")="CB")*((INDIRECT($A13&"!O:O")="T+2Q"))) -> 0 | AK13: =SUMPRODUCT((INDIRECT($A13&"!B:B")="CC")*((INDIRECT($A13&"!O:O")="T+2Q"))) -> 0 | AL13: =SUMPRODUCT((INDIRECT($A13&"!B:B")="A")*((INDIRECT($A13&"!O:O")="T+3Q"))) -> 0 | AM13: =SUMPRODUCT((INDIRECT($A13&"!B:B")="B")*((INDIRECT($A13&"!O:O")="T+3Q"))) -> 0 | AN13: =SUMPRODUCT((INDIRECT($A13&"!B:B")="C")*((INDIRECT($A13&"!O:O")="T+3Q"))) -> 0 | AO13: =SUMPRODUCT((INDIRECT($A13&"!B:B")="CA")*((INDIRECT($A13&"!O:O")="T+3Q"))) -> 0 | AP13: =SUMPRODUCT((INDIRECT($A13&"!B:B")="CB")*((INDIRECT($A13&"!O:O")="T+3Q"))) -> 0 | AQ13: =SUMPRODUCT((INDIRECT($A13&"!B:B")="CC")*((INDIRECT($A13&"!O:O")="T+3Q"))) -> 0 | AR13: =SUMPRODUCT((INDIRECT($A13&"!B:B")="A")*((INDIRECT($A13&"!O:O")="T+4Q"))) -> 0 | AS13: =SUMPRODUCT((INDIRECT($A13&"!B:B")="B")*((INDIRECT($A13&"!O:O")="T+4Q"))) -> 0 | AT13: =SUMPRODUCT((INDIRECT($A13&"!B:B")="C")*((INDIRECT($A13&"!O:O")="T+4Q"))) -> 0 | AU13: =SUMPRODUCT((INDIRECT($A13&"!B:B")="CA")*((INDIRECT($A13&"!O:O")="T+4Q"))) -> 0 | AV13: =SUMPRODUCT((INDIRECT($A13&"!B:B")="CB")*((INDIRECT($A13&"!O:O")="T+4Q"))) -> 0 | AW13: =SUMPRODUCT((INDIRECT($A13&"!B:B")="CC")*((INDIRECT($A13&"!O:O")="T+4Q"))) -> 0
A14: 合计 | D14: =SUM(D2:D13) -> 14 | E14: =SUM(E2:E13) -> 45 | F14: =SUM(F2:F13) -> 4 | G14: =SUM(G2:G13) -> 28 | H14: =SUM(H2:H13) -> 43 | I14: =SUM(I2:I13) -> 1 | J14: =SUM(J2:J13) -> 135 | Q14: =SUM(Q2:Q13) -> 0 | R14: =SUM(R2:R13) -> 0 | S14: =SUM(S2:S13) -> 0 | T14: =SUM(T2:T13) -> 0 | U14: =SUM(U2:U13) -> 0 | V14: =SUM(V2:V13) -> 0 | W14: =SUM(W2:W13) -> 0 | X14: =SUM(X2:X13) -> 0 | ... AW14: =SUM(AW2:AW13) -> 0
A17: 测量族 | B17: 测量族说明
A18: ME | B18: 设备资源性能相关性能测量
A19: UPF | B19: UPF会话管理、流量统计等测量
D308: 0

Sheet HA
A1: 统计编码 | B1: 重要度 | C1: 英文名称 | D1: 中文名称 | E1: 定义 | F1: 触发点 | G1: 采集方式 | H1: 数据类型 | I1: 单位 | J1: 空间粒度 | K1: 时间粒度 | L1: 上报周期 | M1: 测试要求 | N1: 备注 | O1: 支持时间
A2: UPFHA01 | B2: A | C2: UPF.PfcpSessionEstabReq | D2: PFCP会话建立请求次数 | E2: PFCP会话建立请求次数。 | F2: UPF接收到来自SMF的PFCP Session Establishment Request时统计。 注：统计N4接口上所有的PFCP会话流程 | G2: CC | H2: 整数 | I2: 个 | J2: UpfFunction | K2: 15分钟 | L2: 15分钟 | M2: 是
B3: B | C3: UPF.PfcpSessionEstabReq._Ns | D3: 分切片的PFCP会话建立请求次数 | E3: 按照S-NSSAI统计的PFCP会话建立请求次数。 | G3: CC | H3: 整数 | I3: 个 | J3: UpfFunction | K3: 15分钟 | L3: 15分钟 | M3: 否
B4: B | C4: UPF.PfcpSessionEstabReq._Dnn | D4: 分Dnn的PFCP会话建立请求次数 | E4: 按照Dnn统计的PFCP会话建立请求次数。 | G4: CC | H4: 整数 | I4: 个 | J4: UpfFunction | K4: 15分钟 | L4: 15分钟 | M4: 否
A5: UPFHA02 | B5: A | C5: UPF.PfcpSessionEstabSucc | D5: PFCP会话建立成功次数 | E5: PFCP会话建立成功次数。 | F5: UPF向SMF返回PFCP Session Establishment Response，其中Cause=1～63（其中2～63备用），代表Request accepted (success)，见3GPP TS 29.244。 注：统计N4接口上所有的PFCP会话流程 | G5: CC | H5: 整数 | I5: 个 | J5: UpfFunction | K5: 15分钟 | L5: 15分钟 | M5: 是
B6: B | C6: UPF.PfcpSessionEstabSucc._Ns | D6: 分切片的PFCP会话建立成功次数 | E6: 按照S-NSSAI统计的PFCP会话建立成功次数。 | G6: CC | H6: 整数 | I6: 个 | J6: UpfFunction | K6: 15分钟 | L6: 15分钟 | M6: 否
B7: B | C7: UPF.PfcpSessionEstabSucc._Dnn | D7: 分Dnn的PFCP会话建立成功次数 | E7: 按照Dnn统计的PFCP会话建立成功次数。 | G7: CC | H7: 整数 | I7: 个 | J7: UpfFunction | K7: 15分钟 | L7: 15分钟 | M7: 否
A8: UPFHA03 | B8: B | C8: UPF.PfcpSessionEstabFail | D8: PFCP会话建立失败次数 | E8: PFCP会话建立被拒绝的次数，并按拒绝原因分类统计。 | F8: UPF向SMF返回PFCP Session Establishment Response，其中Cause=64～255（78～288备用），指示PFCP会话建立失败，见3GPP TS 29.244。 注：统计N4接口上所有的PFCP会话流程 | G8: CC | H8: 整数 | I8: 个 | J8: UpfFunction | K8: 15分钟 | L8: 15分钟 | M8: 否
B9: C | C9: UPF.PfcpSessionEstabFail._Cause | D9: 分原因的PFCP会话建立失败次数 | M9: 否
B10: B | C10: UPF.PfcpSessionEstabFail._Ns | D10: 分切片的PFCP会话建立失败次数 | E10: 按照S-NSSAI统计PFCP会话建立被拒绝的次数 | G10: CC | H10: 整数 | I10: 个 | J10: UpfFunction | K10: 15分钟 | L10: 15分钟 | M10: 否
B11: B | C11: UPF.PfcpSessionEstabFail._Dnn | D11: 分Dnn的PFCP会话建立失败次数 | E11: 按照Dnn统计PFCP会话建立被拒绝的次数 | G11: CC | H11: 整数 | I11: 个 | J11: UpfFunction | K11: 15分钟 | L11: 15分钟 | M11: 否
A12: UPFHA04 | B12: A | C12: UPF.PfcpSessionModifyReq | D12: PFCP会话修改请求次数 | E12: PFCP会话修改请求次数。 | F12: UPF收到来自SMF的PFCP Session Modification Request时统计。 注：统计N4接口上所有的PFCP会话流程 | G12: CC | H12: 整数 | I12: 个 | J12: UpfFunction | K12: 15分钟 | L12: 15分钟 | M12: 是
B13: B | C13: UPF.PfcpSessionModifyReq._Ns | D13: 分切片的PFCP会话修改请求次数 | E13: 按照S-NSSAI统计PFCP会话修改请求次数。 | G13: CC | H13: 整数 | I13: 个 | J13: UpfFunction | K13: 15分钟 | L13: 15分钟 | M13: 否
B14: B | C14: UPF.PfcpSessionModifyReq._Dnn | D14: 分Dnn的PFCP会话修改请求次数 | E14: 按照Dnn统计PFCP会话修改请求次数。 | G14: CC | H14: 整数 | I14: 个 | J14: UpfFunction | K14: 15分钟 | L14: 15分钟 | M14: 否
A15: UPFHA05 | B15: A | C15: UPF.PfcpSessionModifySucc | D15: PFCP会话修改成功次数 | E15: PFCP会话修改成功次数。 | F15: UPF返回PFCP Session Modification Response，其中Cause=1～63（其中2～63备用），代表Request accepted (success)，见3GPP TS 29.244。 注：统计N4接口上所有的PFCP会话流程 | G15: CC | H15: 整数 | I15: 个 | J15: UpfFunction | K15: 15分钟 | L15: 15分钟 | M15: 是
B16: B | C16: UPF.PfcpSessionModifySucc._Ns | D16: 分切片的PFCP会话修改成功次数 | E16: 按照S-NSSAI统计PFCP会话修改成功次数。 | G16: CC | H16: 整数 | I16: 个 | J16: UpfFunction | K16: 15分钟 | L16: 15分钟 | M16: 否
B17: B | C17: UPF.PfcpSessionModifySucc._Dnn | D17: 分Dnn的PFCP会话修改成功次数 | E17: 按照Dnn统计PFCP会话修改成功次数。 | G17: CC | H17: 整数 | I17: 个 | J17: UpfFunction | K17: 15分钟 | L17: 15分钟 | M17: 否
A18: UPFHA06 | B18: B | C18: UPF.PfcpSessionModifyFail | D18: PFCP会话修改失败次数 | E18: PFCP会话修改拒绝的次数，并按拒绝原因分类统计。 | F18: UPF返回PFCP Session Modification Response，其中Cause=64～255（78～288备用），指示PFCP会话修改失败，见3GPP TS 29.244。 注：统计N4接口上所有的PFCP会话流程 | G18: CC | H18: 整数 | I18: 个 | J18: UpfFunction | K18: 15分钟 | L18: 15分钟 | M18: 否
B19: C | C19: UPF.PfcpSessionModifyFail._Cause | D19: 分原因的PFCP会话修改失败次数 | G19: CC | H19: 整数 | I19: 个 | J19: UpfFunction | K19: 15分钟 | L19: 15分钟 | M19: 否
B20: B | C20: UPF.PfcpSessionModifyFail._Ns | D20: 分切片的PFCP会话修改失败次数 | E20: 按照S-NSSAI统计PFCP会话修改拒绝的次数。 | G20: CC | H20: 整数 | I20: 个 | J20: UpfFunction | K20: 15分钟 | L20: 15分钟 | M20: 否
B21: B | C21: UPF.PfcpSessionModifyFail._Dnn | D21: 分Dnn的PFCP会话修改失败次数 | E21: 按照Dnn统计PFCP会话修改拒绝的次数。 | G21: CC | H21: 整数 | I21: 个 | J21: UpfFunction | K21: 15分钟 | L21: 15分钟 | M21: 否

Sheet HB
A1: 统计编码 | B1: 重要度 | C1: 英文名称 | D1: 中文名称 | E1: 定义 | F1: 触发点 | G1: 采集方式 | H1: 数据类型 | I1: 单位 | J1: 空间粒度 | K1: 时间粒度 | L1: 上报周期 | M1: 测试要求 | N1: 备注 | O1: 支持时间
A2: UPFHB01 | B2: A | C2: UPF.MeanQosFlows | D2: 平均QoS流数 | E2: 一个统计周期内UPF中的平均QoS流数。 | F2: 无 | G2: SI | H2: 整数 | I2: 个 | J2: UpfFunction | K2: 15分钟 | L2: 15分钟 | M2: 否
B3: B | C3: UPF.MeanQosFlows._Ns | D3: 分切片的平均QoS流数 | E3: 一个统计周期内按照S-NSSAI统计UPF中的平均QoS流数。
B4: C | C4: UPF.MeanQosFlows._Dnn | D4: 分DNN的平均QoS流数 | E4: 一个统计周期内按照DNN统计UPF中的平均QoS流数。
A5: UPFHB01 | B5: A | C5: UPF.MaxQosFlows | D5: 最大QoS流数 | E5: 一个统计周期内UPF中的最大QoS流数。 | F5: 无 | G5: SI | H5: 整数 | I5: 个 | J5: UpfFunction | K5: 15分钟 | L5: 15分钟 | M5: 否
B6: B | C6: UPF.MaxQosFlows._Ns | D6: 分切片的最大QoS流数 | E6: 一个统计周期内按照S-NSSAI统计UPF中的最大QoS流数。
B7: C | C7: UPF.MaxQosFlows._Dnn | D7: 分DNN的最大QoS流数 | E7: 一个统计周期内按照DNN统计UPF中的最大QoS流数。

Sheet HC
A1: 统计编码 | B1: 重要度 | C1: 英文名称 | D1: 中文名称 | E1: 定义 | F1: 触发点 | G1: 采集方式 | H1: 数据类型 | I1: 单位 | J1: 空间粒度 | K1: 时间粒度 | L1: 上报周期 | M1: 测试要求 | N1: 备注 | O1: 支持时间
A2: UPFHC01 | B2: B | C2: UPF.N3IncPkt | D2: N3接口接收GTP包数 | E2: UPF从N3接口接收的GTP包数。其中EpRpDynN3Upf_Global要求按S-NSSAI分别进行统计。 | F2: UPF在N3接口接收到GTP包,其中EpRpDynN3Upf_Global要求按S-NSSAI分别进行统计。 | G2: CC | H2: 整数 | I2: 个 | J2: EpRpDynN3Upf | K2: 15分钟 | L2: 15分钟 | M2: 否
B3: B | C3: UPF.N3IncPkt._Ns | D3: 分切片的N3接口接收GTP包数 | G3: CC | H3: 整数 | I3: 个 | J3: EpRpDynN3Upf | K3: 15分钟 | L3: 15分钟 | M3: 否
A4: UPFHC02 | B4: B | C4: UPF.N3OgPkt | D4: N3接口发送GTP包数 | E4: UPF从N3接口发送出去的GTP包数，其中EpRpDynN3Upf_Global要求按S-NSSAI分别进行统计。 | F4: UPF从N3接口发送GTP消息包，其中EpRpDynN3Upf_Global要求按S-NSSAI分别进行统计。 | G4: CC | H4: 整数 | I4: 个 | J4: EpRpDynN3Upf | K4: 15分钟 | L4: 15分钟 | M4: 否
B5: B | C5: UPF.N3OgPkt._Ns | D5: 分切片的N3接口发送GTP包数 | G5: CC | H5: 整数 | I5: 个 | J5: EpRpDynN3Upf | K5: 15分钟 | L5: 15分钟 | M5: 否
A6: UPFHC03 | B6: B | C6: UPF.N3IncOct | D6: N3接口接收GTP包字节数 | E6: UPF从N3接口接收的GTP包字节数（含GTP头），其中EpRpDynN3Upf_Global要求按S-NSSAI或UE分别进行统计。 | F6: UPF在N3接口接收到GTP包，计算GTP SDU字节数，其中EpRpDynN3Upf_Global要求按S-NSSAI分别进行统计。 | G6: DER | H6: 实数 | I6: MByte | J6: EpRpDynN3Upf | K6: 15分钟 | L6: 15分钟 | M6: 否 | N6: 1MByte=10^6Byte
B7: B | C7: UPF.N3IncOct._Ns | D7: 分切片的N3接口接收GTP包字节数 | G7: DER | H7: 实数 | I7: MByte | J7: EpRpDynN3Upf | K7: 15分钟 | L7: 15分钟 | M7: 否 | N7: 1MByte=10^6Byte
A8: UPFHC04 | B8: B | C8: UPF.N3OgOct | D8: N3接口发送GTP包字节数 | E8: UPF从N3接口发送的GTP包字节数（含GTP头），其中EpRpDynN3Upf_Global要求按S-NSSAI或UE分别进行统计。 | F8: UPF从N3接口发送GTP包，计算GTP SDU字节数，其中EpRpDynN3Upf_Global要求按S-NSSAI分别进行统计。 | G8: DER | H8: 实数 | I8: MByte | J8: EpRpDynN3Upf | K8: 15分钟 | L8: 15分钟 | M8: 否 | N8: 1MByte=10^6Byte
B9: B | C9: UPF.N3OgOct._Ns | D9: 分切片的N3接口发送GTP包字节数 | G9: DER | H9: 实数 | I9: Mbyte | J9: EpRpDynN3Upf | K9: 15分钟 | L9: 15分钟 | M9: 否 | N9: 1MByte=10^6Byte
A10: UPFHC05 | B10: B | C10: UPF.N3DiscPkt | D10: N3接口接收错误GTP包数 | E10: N3接口因出错丢弃的GTP包个数，其中EpRpDynN3Upf_Global要求按S-NSSAI分别进行统计。 | F10: 在N3接口接收GTP消息时，因为出错而导致接收消息被丢弃，其中EpRpDynN3Upf_Global要求按S-NSSAI分别进行统计。 | G10: CC | H10: 整数 | I10: 个 | J10: EpRpDynN3Upf | K10: 15分钟 | L10: 15分钟 | M10: 否
B11: B | C11: UPF.N3DiscPkt._Ns | D11: 分切片的N3接口接收错误GTP包数 | G11: CC | H11: 整数 | I11: 个 | J11: EpRpDynN3Upf | K11: 15分钟 | L11: 15分钟 | M11: 否

Sheet HD
A1: 统计编码 | B1: 重要度 | C1: 英文名称 | D1: 中文名称 | E1: 定义 | F1: 触发点 | G1: 采集方式 | H1: 数据类型 | I1: 单位 | J1: 空间粒度 | K1: 时间粒度 | L1: 上报周期 | M1: 测试要求 | N1: 备注 | O1: 支持时间
A2: UPFHD01 | B2: CB | C2: UPF.N9aIncPkt | D2: N9a接口接收GTP包数 | E2: UPF从左侧N9a接口接收的GTP包数，其中EpRpDynN9Upf_Global要求按S-NSSAI分别进行统计。 | F2: UPF在左侧N9a接口接收到GTP包,其中EpRpDynN9Upf_Global要求按S-NSSAI分别进行统计。 | G2: CC | H2: 整数 | I2: 个 | J2: EpRpDynN9Upf | K2: 15分钟 | L2: 15分钟 | M2: 否
B3: CB | C3: UPF.N9aIncPkt._Ns | D3: 分切片的N9a接口接收GTP包数 | G3: CC | H3: 整数 | I3: 个 | J3: EpRpDynN9Upf | K3: 15分钟 | L3: 15分钟 | M3: 否
A4: UPFHD02 | B4: CB | C4: UPF.N9aOgPkt | D4: N9a接口发送GTP包数 | E4: UPF从左侧N9a接口发送出去的GTP包数，其中EpRpDynN9Upf_Global要求按S-NSSAI分别进行统计。 | F4: UPF从左侧N9a接口发送GTP消息包，其中EpRpDynN9Upf_Global要求按S-NSSAI分别进行统计。 | G4: CC | H4: 整数 | I4: 个 | J4: EpRpDynN9Upf | K4: 15分钟 | L4: 15分钟 | M4: 否
B5: CB | C5: UPF.N9aOgPkt._Ns | D5: 分切片的N9a接口发送GTP包数 | G5: CC | H5: 整数 | I5: 个 | J5: EpRpDynN9Upf | K5: 15分钟 | L5: 15分钟 | M5: 否
A6: UPFHD03 | B6: CB | C6: UPF.N9aIncOct | D6: N9a接口接收GTP包字节数 | E6: UPF从左侧N9a接口接收的GTP包字节数，其中EpRpDynN9Upf_Global要求按S-NSSAI分别进行统计。 | F6: UPF在左侧N9a接口接收到GTP包，计算GTP SDU字节数（含GTP头），其中EpRpDynN9Upf_Global要求按S-NSSAI分别进行统计。 | G6: DER | H6: 实数 | I6: MByte | J6: EpRpDynN9Upf | K6: 15分钟 | L6: 15分钟 | M6: 否 | N6: 1MByte=10^6Byte
B7: CB | C7: UPF.N9aIncOct._Ns | D7: 分切片的N9a接口接收GTP包字节数 | G7: DER | H7: 实数 | I7: MByte | J7: EpRpDynN9Upf | K7: 15分钟 | L7: 15分钟 | M7: 否 | N7: 1MByte=10^6Byte
A8: UPFHD04 | B8: CB | C8: UPF.N9aOgOct | D8: N9a接口发送GTP包字节数 | E8: UPF从左侧N9a接口发送的GTP包字节数，其中EpRpDynN9Upf_Global要求按S-NSSAI分别进行统计。 | F8: UPF从左侧N9a接口发送GTP包，计算GTP SDU字节数（含GTP头），其中EpRpDynN9Upf_Global要求按S-NSSAI分别进行统计。 | G8: DER | H8: 实数 | I8: MByte | J8: EpRpDynN9Upf | K8: 15分钟 | L8: 15分钟 | M8: 否 | N8: 1MByte=10^6Byte
B9: CB | C9: UPF.N9aOgOct._Ns | D9: 分切片的N9a接口发送GTP包字节数 | G9: DER | H9: 实数 | I9: MByte | J9: EpRpDynN9Upf | K9: 15分钟 | L9: 15分钟 | M9: 否 | N9: 1MByte=10^6Byte
A10: UPFHD05 | B10: CB | C10: UPF.N9aDiscPkt | D10: N9a接口接收错误GTP包数 | E10: UPF对左侧N9a接口因出错丢弃的GTP包个数，其中EpRpDynN9Upf_Global要求按S-NSSAI分别进行统计。 | F10: UPF在左侧N9a接口接收GTP消息时，因为出错而导致接收消息被丢弃，其中EpRpDynN9Upf_Global要求按S-NSSAI分别进行统计。 | G10: CC | H10: 整数 | I10: 个 | J10: EpRpDynN9Upf | K10: 15分钟 | L10: 15分钟 | M10: 否
B11: CB | C11: UPF.N9aDiscPkt._Ns | D11: 分切片的N9a接口接收错误GTP包数 | G11: CC | H11: 整数 | I11: 个 | J11: EpRpDynN9Upf | K11: 15分钟 | L11: 15分钟 | M11: 否
A12: UPFHD06 | B12: CB | C12: UPF.N9cIncPkt | D12: N9c接口接收GTP包数 | E12: UPF从右侧N9c接口接收的GTP包数，其中EpRpDynN9Upf_Global要求按S-NSSAI分别进行统计。 | F12: UPF在右侧N9c接口接收到GTP包,其中EpRpDynN9Upf_Global要求按S-NSSAI分别进行统计。 | G12: CC | H12: 整数 | I12: 个 | J12: EpRpDynN9Upf | K12: 15分钟 | L12: 15分钟 | M12: 否
B13: CB | C13: UPF.N9cIncPkt._Ns | D13: 分切片的N9c接口接收GTP包数 | G13: CC | H13: 整数 | I13: 个 | J13: EpRpDynN9Upf | K13: 15分钟 | L13: 15分钟 | M13: 否
A14: UPFHD07 | B14: CB | C14: UPF.N9cOgPkt | D14: N9c接口发送GTP包数 | E14: UPF从右侧N9c接口发送出去的GTP包数，其中EpRpDynN9Upf_Global要求按S-NSSAI分别进行统计。 | F14: UPF从右侧N9c接口发送GTP消息包，其中EpRpDynN9Upf_Global要求按S-NSSAI分别进行统计。 | G14: CC | H14: 整数 | I14: 个 | J14: EpRpDynN9Upf | K14: 15分钟 | L14: 15分钟 | M14: 否
B15: CB | C15: UPF.N9cOgPkt._Ns | D15: 分切片的N9c接口发送GTP包数 | G15: CC | H15: 整数 | I15: 个 | J15: EpRpDynN9Upf | K15: 15分钟 | L15: 15分钟 | M15: 否
A16: UPFHD08 | B16: CB | C16: UPF.N9cIncOct | D16: N9c接口接收GTP包字节数 | E16: UPF从右侧N9c接口接收的GTP包字节数，其中EpRpDynN9Upf_Global要求按S-NSSAI分别进行统计。 | F16: UPF在右侧N9c接口接收到GTP包，计算GTP SDU字节数（含GTP头域长度），其中EpRpDynN9Upf_Global要求按S-NSSAI分别进行统计。 | G16: DER | H16: 实数 | I16: MByte | J16: EpRpDynN9Upf | K16: 15分钟 | L16: 15分钟 | M16: 否 | N16: 1MByte=10^6Byte
B17: CB | C17: UPF.N9cIncOct._Ns | D17: 分切片的N9c接口接收GTP包字节数 | G17: DER | H17: 实数 | I17: MByte | J17: EpRpDynN9Upf | K17: 15分钟 | L17: 15分钟 | M17: 否 | N17: 1MByte=10^6Byte
A18: UPFHD09 | B18: CB | C18: UPF.N9cOgOct | D18: N9c接口发送GTP包字节数 | E18: UPF从右侧N9c接口发送的GTP包字节数，其中EpRpDynN9Upf_Global要求按S-NSSAI分别进行统计。 | F18: UPF从右侧N9c接口发送GTP包，计算GTP SDU字节数（含GTP头域长度），其中EpRpDynN9Upf_Global要求按S-NSSAI分别进行统计。 | G18: DER | H18: 实数 | I18: MByte | J18: EpRpDynN9Upf | K18: 15分钟 | L18: 15分钟 | M18: 否 | N18: 1MByte=10^6Byte
B19: CB | C19: UPF.N9cOgOct._Ns | D19: 分切片的N9c接口发送GTP包字节数 | G19: DER | H19: 实数 | I19: MByte | J19: EpRpDynN9Upf | K19: 15分钟 | L19: 15分钟 | M19: 否 | N19: 1MByte=10^6Byte
A20: UPFHD10 | B20: CB | C20: UPF.N9cDiscPkt | D20: N9c接口接收错误GTP包数 | E20: UPF对右侧N9c接口因出错丢弃的GTP包个数，其中EpRpDynN9Upf_Global要求按S-NSSAI分别进行统计。 | F20: UPF在右侧N9c接口接收GTP消息时，因为出错而导致接收消息被丢弃，其中EpRpDynN9Upf_Global要求按S-NSSAI分别进行统计。 | G20: CC | H20: 整数 | I20: 个 | J20: EpRpDynN9Upf | K20: 15分钟 | L20: 15分钟 | M20: 否
B21: CB | C21: UPF.N9cDiscPkt._Ns | D21: 分切片的N9c接口接收错误GTP包数 | G21: CC | H21: 整数 | I21: 个 | J21: EpRpDynN9Upf | K21: 15分钟 | L21: 15分钟 | M21: 否

Sheet HE
A1: 统计编码 | B1: 重要度 | C1: 英文名称 | D1: 中文名称 | E1: 定义 | F1: 触发点 | G1: 采集方式 | H1: 数据类型 | I1: 单位 | J1: 空间粒度 | K1: 时间粒度 | L1: 上报周期 | M1: 测试要求 | N1: 备注 | O1: 支持时间
A2: UPFHE01 | B2: B | C2: UPF.N6IncPkt | D2: N6接口接收IP包数 | E2: 统计UPF在N6接口接收到的IP包个数，并按DNN分别进行统计； | F2: UPF在N6接口接收到的接收IP包个数，并按DNN分别进行统计。 | G2: CC | H2: 整数 | I2: 个 | J2: UpfFunction | K2: 15分钟 | L2: 15分钟 | M2: 否
B3: B | C3: UPF.N6IncPkt._Dnn | D3: 分DNN的N6接口接收IP包数 | G3: CC | H3: 整数 | I3: 个 | J3: UpfFunction | K3: 15分钟 | L3: 15分钟 | M3: 否
B4: B | C4: UPF.N6IncPktIpv6 | D4: N6接口接收IPv6包数 | E4: 统计UPF在N6接口接收到的IPv6包个数，并按DNN分别进行统计； | F4: UPF在N6接口接收到的接收IPv6包个数，并按DNN分别进行统计。 | G4: CC | H4: 整数 | I4: 个 | J4: UpfFunction | K4: 15分钟 | L4: 15分钟 | M4: 否
B5: B | C5: UPF.N6IncPktIpv6._Dnn | D5: 分DNN的N6接口接收IPv6包数 | G5: CC | H5: 整数 | I5: 个 | J5: UpfFunction | K5: 15分钟 | L5: 15分钟 | M5: 否
A6: UPFHE02 | B6: B | C6: UPF.N6OgPkt | D6: N6接口发送IP包数 | E6: 统计UPF在N6向发送的IP包个数，并按DNN分别进行统计； | F6: UPF在N6向发送的发送IP包个数，并按DNN分别进行统计。 | G6: CC | H6: 整数 | I6: 个 | J6: UpfFunction | K6: 15分钟 | L6: 15分钟 | M6: 否
B7: B | C7: UPF.N6OgPkt._Dnn | D7: 分DNN的N6接口发送IP包数 | G7: CC | H7: 整数 | I7: 个 | J7: UpfFunction | K7: 15分钟 | L7: 15分钟 | M7: 否
B8: B | C8: UPF.N6OgPktIpv6 | D8: N6接口发送IPv6包数 | E8: 统计UPF在N6向发送的IPv6包个数，并按DNN分别进行统计； | F8: UPF在N6向发送的发送IPv6包个数，并按DNN分别进行统计。 | G8: CC | H8: 整数 | I8: 个 | J8: UpfFunction | K8: 15分钟 | L8: 15分钟 | M8: 否
B9: B | C9: UPF.N6OgPktIpv6._Dnn | D9: 分DNN的N6接口发送IPv6包数 | G9: CC | H9: 整数 | I9: 个 | J9: UpfFunction | K9: 15分钟 | L9: 15分钟 | M9: 否
A10: UPFHE03 | B10: A | C10: UPF.N6IncOct | D10: N6接口接收字节数 | E10: 统计UPF在N6接收到的IP包PDU字节数，并按DNN分别进行统计； | F10: UPF在N6接收到的接收IP包字节数，包含IP包头；并按DNN分别进行统计。 | G10: DER | H10: 实数 | I10: MByte | J10: UpfFunction | K10: 15分钟 | L10: 15分钟 | M10: 否 | N10: 1MByte=10^6Byte
B11: A | C11: UPF.N6IncOct._Dnn | D11: 分DNN的N6接口接收字节数 | G11: DER | H11: 实数 | I11: MByte | J11: UpfFunction | K11: 15分钟 | L11: 15分钟 | M11: 否 | N11: 1MByte=10^6Byte
B12: A | C12: UPF.N6IncOctIpv6 | D12: N6接口接收的IPv6字节数 | E12: 统计UPF在N6接收到的IPv6包PDU字节数，并按DNN分别进行统计； | F12: UPF在N6接收到的接收IPv6包字节数，包含IPv6包头；并按DNN分别进行统计。 | G12: DER | H12: 实数 | I12: MByte | J12: UpfFunction | K12: 15分钟 | L12: 15分钟 | M12: 否 | N12: 1MByte=10^6Byte
B13: A | C13: UPF.N6IncOctIpv6._Dnn | D13: 分DNN的N6接口接收的IPv6字节数 | G13: DER | H13: 实数 | I13: MByte | J13: UpfFunction | K13: 15分钟 | L13: 15分钟 | M13: 否 | N13: 1MByte=10^6Byte
A14: UPFHE04 | B14: A | C14: UPF.N6OgOct | D14: N6接口发送字节数 | E14: 统计UPF在N6发送的IP包PDU字节数，并按DNN分别进行统计； | F14: UPF在N6发送的发送IP包字节数，包含IP包头；要求按DNN分别进行统计。 | G14: DER | H14: 实数 | I14: MByte | J14: UpfFunction | K14: 15分钟 | L14: 15分钟 | M14: 否 | N14: 1MByte=10^6Byte
B15: A | C15: UPF.N6OgOct._Dnn | D15: 分DNN的N6接口发送字节数 | G15: DER | H15: 实数 | I15: MByte | J15: UpfFunction | K15: 15分钟 | L15: 15分钟 | M15: 否 | N15: 1MByte=10^6Byte
B16: A | C16: UPF.N6OgOctIpv6 | D16: N6接口发送的IPv6字节数 | E16: 统计UPF在N6发送的IPv6包PDU字节数，并按DNN分别进行统计； | F16: UPF在N6发送的发送IPv6包字节数，包含IPv6包头；要求按DNN分别进行统计。 | G16: DER | H16: 实数 | I16: MByte | J16: UpfFunction | K16: 15分钟 | L16: 15分钟 | M16: 否 | N16: 1MByte=10^6Byte
B17: A | C17: UPF.N6OgOctIpv6._Dnn | D17: 分DNN的N6接口发送的IPv6字节数 | G17: DER | H17: 实数 | I17: MByte | J17: UpfFunction | K17: 15分钟 | L17: 15分钟 | M17: 否 | N17: 1MByte=10^6Byte
A18: UPFHE05 | B18: B | C18: UPF.N6DiscPkt | D18: N6接口出错丢弃的IP包数 | E18: 统计N6口出错丢弃的IP包个数，并按DNN分别进行统计； | F18: 在N6接口接收IP包时，因为出错而导致IP包被丢弃；并按DNN分别进行统计。 | G18: CC | H18: 整数 | I18: 个 | J18: UpfFunction | K18: 15分钟 | L18: 15分钟 | M18: 否
B19: B | C19: UPF.N6DiscPkt._Dnn | D19: 分DNN的N6接口出错丢弃的IP包数 | G19: CC | H19: 整数 | I19: 个 | J19: UpfFunction | K19: 15分钟 | L19: 15分钟 | M19: 否
B20: B | C20: UPF.N6DiscPktIpv6 | D20: N6接口出错丢弃的IPv6包数 | E20: 统计N6口出错丢弃的IPv6包个数，并按DNN分别进行统计； | F20: 在N6接口接收IPv6包时，因为出错而导致IPv6包被丢弃；并按DNN分别进行统计。 | G20: CC | H20: 整数 | I20: 个 | J20: UpfFunction | K20: 15分钟 | L20: 15分钟 | M20: 否
B21: B | C21: UPF.N6DiscPktIpv6._Dnn | D21: 分DNN的N6接口出错丢弃的IPv6包数 | G21: CC | H21: 整数 | I21: 个 | J21: UpfFunction | K21: 15分钟 | L21: 15分钟 | M21: 否

Sheet HF
A1: 统计编码 | B1: 重要度 | C1: 英文名称 | D1: 中文名称 | E1: 定义 | F1: 触发点 | G1: 采集方式 | H1: 数据类型 | I1: 单位 | J1: 空间粒度 | K1: 时间粒度 | L1: 上报周期 | M1: 测试要求 | N1: 备注 | O1: 支持时间
A2: UPFHF01 | B2: B | C2: ME.MeanMeLoad | D2: 系统平均负荷 | E2: 对物理网元：指测量周期中，网元的硬件资源负荷的抽样平均值。网元的硬件资源负荷可取对网元影响最大的模块的负荷，或取不同模块的负荷的加权平均值，不同厂商设备的计算方法各不相同。 对虚拟网元：指测量周期中，网元的虚拟机资源负荷的抽样平均值。网元的虚拟机资源负荷可取对网元影响最大的模块的负荷，或取不同模块的负荷的加权平均值，不同厂商设备的计算方法各不相同。 | F2: 对物理网元：在测量周期内，对网元的硬件资源平均负荷进行采样，取上述采样值的算术平均； 对虚拟网元：在测量周期内，对网元的虚拟机资源平均负荷进行采样，取上述采样值的算术平均； | G2: SI | H2: 实数 | I2: - | J2: ManagedElement | K2: 15分钟 | L2: 15分钟 | M2: 否 | N2: 以80.25%负荷为例，约定北向接口上报数据应为0.8025，不上报80.25。

Sheet HG
A1: 统计编码 | B1: 重要度 | C1: 英文名称 | D1: 中文名称 | E1: 定义 | F1: 触发点 | G1: 采集方式 | H1: 数据类型 | I1: 单位 | J1: 空间粒度 | K1: 时间粒度 | L1: 上报周期 | M1: 测试要求 | N1: 备注 | O1: 支持时间
A2: UPFHG01 | B2: B | C2: UPF.MeanRtDelay._Ns | D2: 分切片的平均往返时延 | E2: 基于切片对一个测量周期内所有归属该切片的采样用户获得的时延取平均后得到的往返时延 | G2: SI | H2: 实数 | I2: 毫秒 | J2: UpfFunction | K2: 15分钟 | L2: 15分钟
A3: UPFHG02 | B3: B | C3: UPF.MeanUlDelay._Ns | D3: 分切片的平均上行时延 | E3: 基于切片对一个测量周期内所有归属该切片的采样用户获得的时延取平均后得到的上行时延 | G3: SI | H3: 实数 | I3: 毫秒 | J3: UpfFunction | K3: 15分钟 | L3: 15分钟
A4: UPFHG03 | B4: B | C4: UPF.MeanDlDelay._Ns | D4: 分切片的平均下行时延 | E4: 基于切片对一个测量周期内所有归属该切片的采样用户获得的时延取平均后得到的下行时延 | G4: SI | H4: 实数 | I4: 毫秒 | J4: UpfFunction | K4: 15分钟 | L4: 15分钟
A5: UPFHG04 | B5: B | C5: UPF.MaxRtDelay._Ns | D5: 分切片的最大往返时延 | E5: 基于切片对一个测量周期内所有归属该切片的采样用户获得的时延取平均后得到的最大往返时延 | G5: SI | H5: 实数 | I5: 毫秒 | J5: UpfFunction | K5: 15分钟 | L5: 15分钟
A6: UPFHG05 | B6: B | C6: UPF.MaxUlDelay._Ns | D6: 分切片的最大上行时延 | E6: 基于切片对一个测量周期内所有归属该切片的采样用户获得的时延取平均后得到的最大上行时延 | G6: SI | H6: 实数 | I6: 毫秒 | J6: UpfFunction | K6: 15分钟 | L6: 15分钟
A7: UPFHG06 | B7: B | C7: UPF.MaxDlDelay._Ns | D7: 分切片的最大下行时延 | E7: 基于切片对一个测量周期内所有归属该切片的采样用户获得的时延取平均后得到的最大下行时延 | G7: SI | H7: 实数 | I7: 毫秒 | J7: UpfFunction | K7: 15分钟 | L7: 15分钟

Sheet HH
A1: 统计编码 | B1: 重要度 | C1: 英文名称 | D1: 中文名称 | E1: 定义 | F1: 触发点 | G1: 采集方式 | H1: 数据类型 | I1: 单位 | J1: 空间粒度 | K1: 时间粒度 | L1: 上报周期 | M1: 测试要求 | N1: 备注 | O1: 支持时间
A2: UPFHH01 | B2: CA | C2: UPF.5GLanMaxPduSession | D2: 最大的5G LAN Group会话数 | E2: 一个统计周期内UPF+中的最大5G LAN GROUP会话数目 | F2: 无 | G2: SI | H2: 整数 | I2: 个 | J2: UpfFunction | K2: 15分钟 | L2: 15分钟 | M2: 否
B3: CB | C3: UPF.5GLanMaxPduSession._5GLanGroup | D3: 指定5G LAN Group的最大的5G LAN Group会话数 | E3: 一个统计周期内UPF+中指定5G LAN Group的最大5G LAN GROUP会话数目
A4: UPFHH02 | B4: CA | C4: UPF.5GLanUeTransPkt | D4: 5G LAN Group UE互访报文包数 | E4: 一个统计周期内UPF+中的5G LAN GROUP UE转发给其他UE的报文报数 | F4: 无 | G4: SI | H4: 整数 | I4: 个 | J4: UpfFunction | K4: 15分钟 | L4: 15分钟 | M4: 否
B5: CB | C5: UPF.5GLanUeTransPkt._5GLanGroup | D5: 指定5G LAN Group的UE互访报文包数 | E5: 一个统计周期内UPF+中指定5G LAN Group的UE转发给其他UE的报文报数
A6: UPFHH03 | B6: CA | C6: UPF.5GLanUeTransOct | D6: 5G LAN Group UE互访报文字节数 | E6: 一个统计周期内UPF+中的5G LAN GROUP UE转发给其他UE的报文字节数 | F6: 无 | G6: SI | H6: 整数 | I6: 个 | J6: UpfFunction | K6: 15分钟 | L6: 15分钟 | M6: 否
B7: CB | C7: UPF.5GLanUeTransOct._5GLanGroup | D7: 指定5G LAN Group的UE互访报文字节数 | E7: 一个统计周期内UPF+中指定5G LAN Group的UE转发给其他UE的报文字节数

Sheet HI
A1: 统计编码 | B1: 重要度 | C1: 英文名称 | D1: 中文名称 | E1: 定义 | F1: 触发点 | G1: 采集方式 | H1: 数据类型 | I1: 单位 | J1: 空间粒度 | K1: 时间粒度 | L1: 上报周期 | M1: 测试要求 | N1: 备注 | O1: 支持时间
A2: UPFHI01 | B2: CA | C2: AMF.RegSub | D2: AMF注册态用户数 | E2: 当前所有注册在AMF上的用户 | F2: 无 | G2: GAUGE | H2: 整数 | I2: 个 | J2: AmfFunction | K2: 15分钟 | L2: 15分钟 | M2: 否
B3: CB | C3: AMF.RegSub._Ns | D3: 分切片的AMF注册用户数 | E3: AMF支持的允许UE使用的S-NSSAI统计每个网络切片在AMF上的用户数。以AMF下发给UE的allowed S-NSSAI中AMF支持的S-NSSAI的个数为准。 | F3: 无 | G3: GAUGE | H3: 整数 | I3: 个 | J3: AmfFunction | K3: 15分钟 | L3: 15分钟 | M3: 否
A4: UPFHI02 | B4: CA | C4: AMF.PagAtt | D4: 寻呼请求次数 | E4: AMF的寻呼请求次数。 | F4: AMF发送N2接口寻呼请求消息（PAGING，3GPP TS 38.413），不计二次寻呼请求。 注：对于TAlist中的多个TA/NG-RAN发送寻呼消息，只记为一次寻呼请求。 | G4: CC | H4: 整数 | I4: 次 | J4: AmfFunction | K4: 15分钟 | L4: 15分钟 | M4: 是
A5: UPFHI03 | B5: CA | C5: AMF.FirstPagingSucc | D5: 寻呼响应次数 | E5: 寻呼成功次数。 | F5: AMF发送寻呼请求消息后，收到UE发送的响应寻呼请求的Service Request、Registration Request等消息（3GPP TS 24.501）。 | G5: CC | H5: 整数 | I5: 次 | J5: AmfFunction | K5: 15分钟 | L5: 15分钟 | M5: 是
A6: UPFHI04 | B6: CB | C6: AMF.GnbNum | D6: AMF挂接5G基站数 | E6: 统计周期结束点时刻，挂接在AMF下的5G基站数量 | F6: 无 | G6: GAUGE | H6: 整数 | I6: 个 | J6: AmfFunction | K6: 15分钟 | L6: 15分钟 | M6: 否
A7: UPFHI05 | B7: CA | C7: AMF.AttInitReg | D7: 初始注册请求次数 | E7: 初始注册请求次数，并分TA进行统计。 | F7: AMF收到UE发送的注册请求消息（REGISTRATION REQUEST，3GPP TS 24.501），其中“5GS registration type”信元的取值为“initial registration”，不计重发。 | G7: CC | H7: 整数 | I7: 次 | J7: AmfFunction | K7: 15分钟 | L7: 15分钟 | M7: 是
A8: UPFHI06 | B8: CB | C8: AMF.AttInitReg._Ta | D8: 分跟踪区的初始注册请求次数 | M8: 否
A9: UPFHI07 | B9: CA | C9: AMF.SuccInitReg | D9: 初始注册成功次数 | E9: 初始注册完成次数，并分TA进行统计。 | F9: 初始注册流程中，AMF收到UE发送注册完成消息（REGISTRATION COMPLETE，3GPP TS 24.501），不计重发。 | G9: CC | H9: 整数 | I9: 次 | J9: AmfFunction | K9: 15分钟 | L9: 15分钟 | M9: 是
A10: UPFHI08 | B10: CB | C10: AMF.SuccInitReg._Ta | D10: 分跟踪区的初始注册成功次数 | M10: 否
A11: UPFHI09 | B11: CB | C11: AMF.FailedInitReg | D11: 初始注册失败次数 | E11: 初始注册失败次数，分原因进行分类统计； 其中，原因值3、5、6、7.User、15.User、27、9.User、11、12、13、62、111.User视为用户原因。 | F11: 初始注册流程中，AMF向UE发送注册拒绝消息（REGISTRATION REJECT，3GPP TS 24.501）。 | G11: CC | H11: 整数 | I11: 次 | J11: AmfFunction | K11: 15分钟 | L11: 15分钟 | M11: 否
A12: UPFHI10 | B12: CC | C12: AMF.FailedInitReg._Cause | D12: 分原因值的初始注册失败次数 | F12: 初始注册流程中，AMF向UE发送注册拒绝消息（REGISTRATION REJECT，3GPP TS 24.501），根据5GMM Cause的不同取值进行统计。 | M12: 否
A13: UPFHI11 | B13: CA | C13: AMF.FailedInitReg.3 | D13: 初始注册失败次数_非法用户 | F13: 初始注册流程中，AMF向UE发送注册拒绝消息5GMM Cause=3(Illegal UE)。 | M13: 是
A14: UPFHI12 | B14: CA | C14: AMF.FailedInitReg.5 | D14: 初始注册失败次数_PEI不允许 | F14: 初始注册流程中，AMF向UE发送注册拒绝消息5GMM Cause=5(PEI not accepted)。 | M14: 是
A15: UPFHI13 | B15: CA | C15: AMF.FailedInitReg.6 | D15: 初始注册失败次数_非法设备 | F15: 初始注册流程中，AMF向UE发送注册拒绝消息5GMM Cause=6(Illegal ME)。 | M15: 是
A16: UPFHI14 | B16: CB | C16: AMF.FailedInitReg.7 | D16: 初始注册失败次数_5GS服务不允许 | F16: 初始注册流程中，AMF向UE发送注册拒绝消息5GMM Cause=7(5GS services not allowed)。包括AMF.FailedInitReg.7.User中定义的场景以及以下场景： (1)AUSF拒绝AMF的鉴权请求，拒绝的HTTP status code为404 Not Found，application error为USER_NOT_FOUND。 (2)UDM拒绝AMF的注册请求，拒绝的HTTP status code为404 Not Found，application error为USER_NOT_FOUND。 (3)其它场景。 | M16: 是
A17: UPFHI15 | B17: CA | C17: AMF.FailedInitReg.7.User | D17: 初始注册失败次数_5GS服务不允许_用户原因 | F17: 初始注册流程中，AMF向UE发送注册拒绝消息5GMM Cause=7(5GS services not allowed),包括以下场景： (1)AUSF拒绝AMF对UE的鉴权请求，拒绝的HTTP status code为403 Forbidden。说明：还需要协议进行澄清，是否有更详细的application error用于区别不同的场景，比如是仅仅不允许5G接入，还是不允许整个PS业务接入等，AMF据此区分给UE下发的具体原因值。 (2)UDM拒绝AMF对UE的注册请求，拒绝的HTTP status code为403 Forbidden，application error为NO_PS_SUBSCRIPTION。 | M17: 否
A18: UPFHI16 | B18: CB | C18: AMF.FailedInitReg.15 | D18: 初始注册失败次数_跟踪区内无合适小区 | F18: 初始注册流程中，AMF向UE发送注册拒绝消息5GMM Cause=15(No Suitable Cells In tracking area)。包括AMF.FailedInitReg.15.User中定义的场景以及以下场景： (1)AUSF拒绝AMF的鉴权请求，拒绝的HTTP status code为500 Internal Server Error。 (2)UDM拒绝AMF的注册请求，拒绝的HTTP status code为500 Internal Server Error。 (3)其它场景。 | M18: 是
A19: UPFHI17 | B19: CA | C19: AMF.FailedInitReg.15.User | D19: 初始注册失败次数_跟踪区内无合适小区_用户原因 | F19: 初始注册流程中，AMF向UE发送注册拒绝消息5GMM Cause=15(No Suitable Cells In tracking area)。包括以下场景： (1)AUSF拒绝AMF对UE的鉴权请求，拒绝的HTTP status code为403 Forbidden。说明：还需要协议进行澄清，是否有更详细的application error用于区别不同的场景，比如是仅仅不允许5G接入，还是不允许整个PS业务接入等，AMF据此区分给UE下发的具体原因值。 (2)UDM拒绝AMF对UE的注册请求，拒绝的HTTP status code为403 Forbidden，application error为UNKNOWN_5GS_SUBSCRIPTION，ROAMING_NOT_ALLOWED，ACCESS_NOT_ALLOWED或RAT_NOT ALLOWED。 | M19: 否
A20: UPFHI18 | B20: CB | C20: AMF.FailedInitReg.12 | D20: 初始注册失败次数_跟踪区不允许 | F20: 初始注册流程中，AMF向UE发送注册拒绝消息5GMM Cause=12（Tracking area not allowed）。包括以下场景： (1)用户签约5G业务，但ARD参数设置为NR禁止，AMF发起用户注册时，因RAT-Type=NR，UDM拒绝AMF。HTTP状态码为403 Forbidden，原因值为RAT_NOT_ALLOWED。 (2)其他场景 | M20: 是
A21: UPFHI19 | B21: CB | C21: AMF.FailedInitReg.13 | D21: 初始注册失败次数_漫游跟踪区禁止接入 | F21: 初始注册流程中，AMF向UE发送注册拒绝消息5GMM Cause=13(Roaming not allowed in this tracking area)。包括以下场景： (1)用户签约5G业务，但ARD参数设置为NR禁止，AMF发起用户注册时，因RAT-Type=NR，UDM拒绝AMF。HTTP状态码为403 Forbidden，原因值为RAT_NOT_ALLOWED。 (2)其他场景 | M21: 是
A22: UPFHI20 | B22: CA | C22: AMF.FailedInitReg.27 | D22: 初始注册失败次数_N1模式不允许 | F22: 初始注册流程中，AMF向UE发送注册拒绝消息5GMM Cause=27(N1 mode not allowed)。包括以下场景： (1)用户停机，AMF鉴权请求时，AUSF拒绝AMF HTTP状态码为403 Forbidden，原因值为AUTHENTICATION_REJECTED (2)用户停机，鉴权通过后，AMF切片信息查询时，UDM拒绝AMF HTTP状态码为404 Not Found，原因值为Data_NOT_FOUND (3)用户停机，鉴权通过后，AMF注册请求时，UDM拒绝AMF" HTTP状态码为403 Forbidden，原因值为UNKNOWN_5GS_SUBSCRIPTION (4)IWF下，用户停机，鉴权成功后，AMF发起用户切片信息查询，IWF作为MME发起至HSS的ULR（Update-Location-Request）消息，HSS返回ULA消息，携带DIAMETER_ERROR_USER_UNKNOWN(5001)或DIAMETER_ERROR_UNKNOWN_EPS_SUBSCRIPTION (5420)等原因值，IWF收到后拒绝AMF" HTTP状态码为404，原因值为DATA_NOT_FOUND (5)IWF下，用户停机，鉴权成功后，AMF发起用户注册时，IWF作为MME发起至HSS的ULR（Update-Location-Request）消息，HSS返回ULA消息，携带DIAMETER_ERROR_USER_UNKNOWN(5001)或DIAMETER_ERROR_UNKNOWN_EPS_SUBSCRIPTION (5420)等原因值，IWF收到后拒绝AMF" HTTP状态码为403，原因值为UNKNOWN_5GS_SUBSCRIPTION (6)IWF下，用户停机，用户已附着在5G网络，HSS下发CLR（Cancel）消息其中Cancellation Type为MME_UPDATE_PROCEDURE至MME，IWF作为MME接收后，作为UDM发起 Nudm_UEContextManagement_DeRegisterationNotification Request消息通知AMF去注册，去注册原因值为5GS to EPS Mobility" 去注册原因值为5GS to EPS Mobility (7)IWF下，用户停机，鉴权成功后，AMF发起用户切片信息查询，IWF作为MME发起至HSS的ULR（Update-Location-Request）消息，携带ODB支持，则HSS返回ULA消息，携带ODB（bit0 ，All Packet Oriented Services Barred），IWF收到后拒绝AMF" HTTP状态码为404，原因值为DATA_NOT_FOUND (8)IWF下，用户停机，鉴权成功后，AMF发起用户注册时，IWF作为MME发起至HSS的ULR（Update-Location-Request）消息，携带ODB支持，则HSS返回ULA消息，携带ODB（bit0 ，All Packet Oriented Services Barred），IWF收到后拒绝AMF" HTTP状态码为403，原因值为UNKNOWN_5GS_SUBSCRIPTION (9)IWF下，用户停机，用户已附着在5G网络，HSS下发ISD（Insert-Subscriber-Data）消息，携带ODB（bit0 ，All Packet Oriented Services Barred），IWF作为MME接收后，作为UDM发起 Nudm_UEContextManagement_DeRegisterationNotification Request消息通知AMF去注册，去注册原因值为为SUBSCRIPTION_WITHDRAWN" 去注册原因值为为SUBSCRIPTION_WITHDRAWN (10)IWF下，用户停机，鉴权成功后，AMF发起用户切片信息查询，IWF作为MME发起至HSS的ULR（Update-Location-Request）消息，携带ODB不支持，则HSS返回ULA消息，错误码为DIAMETER_ERROR_ROAMING_NOT_ALLOWED，IWF收到后拒绝AMF" HTTP状态码为404，原因值为DATA_NOT_FOUND (11)IWF下，用户停机，鉴权成功后，AMF发起用户注册时，IWF作为MME发起至HSS的ULR（Update-Location-Request）消息，携带ODB不支持，则HSS返回ULA消息，错误码为DIAMETER_ERROR_ROAMING_NOT_ALLOWED，IWF收到后拒绝AMF" HTTP状态码为403，原因值为UNKNOWN_5GS_SUBSCRIPTION (12)IWF下，用户停机，用户已附着在5G网络，HSS下发CLR（Cancel）消息其中Cancellation Type为MME MME_UPDATE_PROCEDURE至MME，IWF作为MME接收后，作为UDM发起 Nudm_UEContextManagement_DeRegisterationNotification Request消息通知AMF去注册，去注册原因值为5GS to EPS Mobility" 去注册原因值为5GS to EPS Mobility (13)其他场景 | M22: 是
A23: UPFHI21 | B23: CA | C23: AMF.FailedInitReg.62 | D23: 初始注册失败次数_无可用网络切片 | F23: 初始注册流程中，AMF向UE发送注册拒绝消息5GMM Cause=62(No network slices available)。包括以下场景： (1)用户注册时，请求切片不允许被访问或AMF本地判断切片不允许访问，AMF拒绝用户注册 "请求切片不允许被访问，NSSF返回#403 Forbidden，原因值为NSSAI_NOT_SUPPPORTED，或AMF本地判断切片不允许访问，AMF拒绝用户注册" (2)其他场景 | G23: CC | H23: 整数 | I23: 次 | J23: AmfFunction | K23: 15分钟 | L23: 15分钟 | M23: 是
A24: UPFHI22 | B24: CA | C24: AMF.FailedInitReg.11 | D24: 初始注册失败次数_PLMN不允许 | F24: 初始注册流程中，AMF向UE发送注册拒绝消息5GMM Cause=11(PLMN not allowed)。包括以下场景： (1)针对漫入5G SA用户，用户归属运营商与中国移动签订5G SA漫游协议，但用户未开通国际漫游业务，AMF向AUSF发起鉴权请求时，若AUSF拒绝AMF "AUSF拒绝AMF ，HTTP状态码为403 Forbidden，原因值为SERVING_NETWORK_NOT_AUTHORIZED" (2)"针对漫入5G SA用户，用户归属运营商与中国移动签订5G SA漫游协议，但用户未开通国际漫游业务，AMF发起注册请求，UDM应拒绝AMF" UDM应拒绝AMF，HTTP状态码为403 Forbidden，原因值为ROAMING_NOT_ALLOWED (3)其他场景 | J24: AmfFunction | M24: 是
A25: UPFHI23 | B25: CB | C25: AMF.FailedInitReg.111 | D25: 初始注册失败次数_协议错误 | F25: 初始注册流程中，AMF向UE发送注册拒绝消息5GMM Cause=111(protocol error, unspecified)。包括AMF.FailedInitReg.111.User场景及以下场景： 1）AMF通过NRF发现UDM/AUSF失败且本地未配置UDM/AUSF地址，NRF返回的HTTP状态码为400 Bad Request、或404 Not Found、或500 Internal Server Error等； 2）AMF向AUSF发起鉴权请求或向UDM发起注册请求时，若AMF一段时间内未收到AUSF或UDM的任何响应或收到HTTP状态码504 Gateway Timeout时； 3）AMF收到AUSF返回HTTP状态码404 Not Found，原因值为CONTEXT_NOT_FOUND； 4）AMF给AUSF发送鉴权确认消息时，AUSF因内部原因给AMF返回HTTP状态码500，原因值为SYSTEM_FAILURE； 5）AMF向UDM发起注册或更新流程时，UDM判断语义错误，返回403 Forbidden，原因值为422 Unprocessable Entity，原因值为UNPROCESSABLE_REQUEST； 6）AMF内部异常导致注册流程失败； 7）其他场景 | J25: AmfFunction | M25: 是
A26: UPFHI24 | B26: CA | C26: AMF.FailedInitReg.111.User | D26: 初始注册失败次数_协议错误_用户原因 | F26: 初始注册流程中，AMF向UE发送注册拒绝消息5GMM Cause=111(protocol error, unspecified)。包括以下场景： (1)用户注册时，由于UE加密算法或者完整性算法与AMF不匹配导致注册拒绝 (2)AMF向AUSF发起鉴权请求，因UDM生成鉴权向量失败，AUSF返回500 Internal Server Error，原因值为AV_GENERATION_PROBLEM (3)AMF向UDM发起注册，UDM判断需要重新鉴权，返回403 Forbidden，原因值为REAUTHENTICATION_REQUIRED (4)在AM Policy和UE Policy更新流程中，PCF未找到用户信息，给AMF回了策略更新失败，AMF将拒绝用户接入，触发用户重新接入 HTTP状态码为404 Not Found，原因值为RESOURCE_URI_STRUCTURE_NOT_FOUND (5)核心网收到终端的消息不符合3GPP标准协议，AMF拒绝用户接入 | J26: AmfFunction | M26: 是

Sheet HJ
A1: 统计编码 | B1: 重要度 | C1: 英文名称 | D1: 中文名称 | E1: 定义 | F1: 触发点 | G1: 采集方式 | H1: 数据类型 | I1: 单位 | J1: 空间粒度 | K1: 时间粒度 | L1: 上报周期 | M1: 测试要求 | N1: 备注 | O1: 支持时间
A2: UPFHJ01 | B2: CA | C2: SMF.AttCreatePduSession | D2: PDU会话建立请求次数 | E2: UE发起的PDU会话建立请求次数。 | F2: SMF的Nsmf_PDUSession_CreateSMContext service operation（3GPP TS 23.502）被AMF调用，通过该调用SMF收到UE发送的PDU SESSION ESTABLISHMENT REQUEST消息（3GPP 24.501），不计重发。 | G2: CC | H2: 整数 | I2: 个 | J2: SmfFunction | K2: 15分钟 | L2: 15分钟 | M2: 无 | N2: 是
A3: UPFHJ02 | B3: CA | C3: SMF.SuccCreatePduSession | D3: PDU会话建立成功次数 | E3: UE发起的PDU会话建立成功次数。 | F3: SMF通过调用Namf_Communication_N1N2MessageTransfer service operation（3GPP TS 23.502），向UE发送PDU SESSION ESTABLISHMENT ACCEPT消息（3GPP 24.501）。 | G3: CC | H3: 整数 | I3: 个 | J3: SmfFunction | K3: 15分钟 | L3: 15分钟 | M3: 无 | N3: 是
A4: UPFHJ03 | B4: CA | C4: SMF.MeanPduSession | D4: 平均PDU会话数 | E4: 一个统计周期内SMF中的平均PDU会话数。 | F4: 无 | G4: SI | H4: 整数 | I4: 个 | J4: SmfFunction | K4: 15分钟 | L4: 15分钟 | M4: 无 | N4: 否
B5: CB | C5: SMF.MeanPduSession._Ns | D5: 分切片的平均PDU会话数 | E5: 一个统计周期内按照S-NSSAI统计SMF中的平均PDU会话数。 | F5: 无 | M5: 无
A6: UPFHJ04 | B6: CA | C6: SMF.MaxPduSession | D6: 最大PDU会话数 | E6: 一个统计周期内SMF中的最大PDU会话数。 | F6: 无 | G6: SI | H6: 整数 | I6: 个 | J6: SmfFunction | K6: 15分钟 | L6: 15分钟 | M6: 无 | N6: 否
B7: CB | C7: SMF.MaxPduSession._Ns | D7: 分切片的最大PDU会话数 | E7: 一个统计周期内按照S-NSSAI统计SMF中的最大PDU会话数。 | F7: 无 | M7: 无
A8: UPFHJ05 | B8: CA | C8: SMF.MeanQf | D8: 平均Qos流数 | E8: 一个统计周期内SMF中的平均Qos流数。 | F8: 无 | G8: SI | H8: 整数 | I8: 个 | J8: SmfFunction | K8: 15分钟 | L8: 15分钟 | M8: 无 | N8: 否
B9: CB | C9: SMF.MeanQf._Ns | D9: 分切片的平均Qos流数 | E9: 一个统计周期内按照S-NSSAI统计SMF中的平均QoS流数。 | M9: 无
A10: UPFHJ06 | B10: CA | C10: SMF.MaxQf | D10: 最大Qos流数 | E10: 一个统计周期内SMF中的最大Qos流数。 | F10: 无 | G10: SI | H10: 整数 | I10: 个 | J10: SmfFunction | K10: 15分钟 | L10: 15分钟 | M10: 无 | N10: 否
B11: CB | C11: SMF.MaxQf._Ns | D11: 分切片的最大Qos流数 | E11: 一个统计周期内按照S-NSSAI统计SMF中的最大QoS流数。 | M11: 无
A12: UPFHJ07 | B12: CB | C12: SMF.AttCreatePduSession._Ns | D12: 分切片的PDU会话建立请求次数 | E12: 按照S-NSSAI统计UE发起的PDU会话建立请求次数。 | F12: SMF的Nsmf_PDUSession_CreateSMContext service operation（3GPP TS 23.502）被AMF调用，通过该调用SMF收到UE发送的PDU SESSION ESTABLISHMENT REQUEST消息（3GPP 24.501），不计重发。 | G12: CC | H12: 整数 | I12: 个 | J12: SmfFunction | K12: 15分钟 | L12: 15分钟 | M12: 无
B13: CB | C13: SMF.SuccCreatePduSession._Ns | D13: 分切片的PDU会话建立成功次数 | E13: 按照S-NSSAI统计UE发起的PDU会话建立成功次数。 | F13: SMF通过调用Namf_Communication_N1N2MessageTransfer service operation（3GPP TS 23.502），向UE发送PDU SESSION ESTABLISHMENT ACCEPT消息（3GPP 24.501）。 | G13: CC | H13: 整数 | I13: 个 | J13: SmfFunction | K13: 15分钟 | L13: 15分钟 | M13: 无

Sheet HK
A1: 统计编码 | B1: 重要度 | C1: 英文名称 | D1: 中文名称 | E1: 定义 | F1: 触发点 | G1: 采集方式 | H1: 数据类型 | I1: 单位 | J1: 空间粒度 | K1: 时间粒度 | L1: 上报周期 | M1: 测试要求 | N1: 备注 | O1: 支持时间
A2: UPFHK01 | B2: CA | C2: UDR.5gActSub | D2: 5G活动用户数 | E2: 统计UDR存储的有5G位置信息的MSISDN用户数最新值 | F2: 无 | G2: GAUGE | H2: 整数 | I2: 个 | J2: UdrFunction | K2: 15分钟 | L2: 15分钟 | M2: 否
A3: UPFHK02 | B3: CB | C3: UDR.FileSyncReq | D3: 文件同步请求次数 | E3: 应急UDR和核心侧UDR文件同步请求次数 | F3: 一个统计周期内UPF+中应急UDR向核心侧UDR发起文件同步请求次数，不计重发。 | G3: CC | H3: 整数 | I3: 个 | J3: UdrFunction | K3: 15分钟 | L3: 15分钟 | M3: 否
A4: UPFHK03 | B4: CB | C4: UDR.FileSyncReqSucc | D4: 文件同步成功次数 | E4: 应急UDR和核心侧UDR文件同步请求成功次数 | F4: 一个统计周期内UPF+中应急UDR收到核心侧UDR文件同步成功次数。 | G4: CC | H4: 整数 | I4: 个 | J4: UdrFunction | K4: 15分钟 | L4: 15分钟 | M4: 否
A5: UPFHK04 | B5: CB | C5: UDR.InstruSyncReq | D5: 指令同步请求次数 | E5: 应急UDR和核心侧UDR指令同步请求次数 | F5: 一个统计周期内UPF+应急UDR收到的核心侧UDR指令同步请求次数，不计重发。 | G5: CC | H5: 整数 | I5: 个 | J5: UdrFunction | K5: 15分钟 | L5: 15分钟 | M5: 否
A6: UPFHK05 | B6: CB | C6: UDR.InstruSyncReqSucc | D6: 指令同步成功次数 | E6: 应急UDR和核心侧UDR指令同步请求成功次数 | F6: 一个统计周期内UPF+应急UDR收到的核心侧UDR指令同步请求成功次数，不计重发。 | G6: CC | H6: 整数 | I6: 个 | J6: UdrFunction | K6: 15分钟 | L6: 15分钟 | M6: 否
A7: UPFHK06 | B7: CA | C7: UDR.SynSub | D7: 应急UDR同步的用户总数 | E7: 统计应急UDR从核心侧UDR同步的用户数 | F7: 一个统计周期内UPF+应急UDR执行用户同步的用户总数。 | G7: CC | H7: 整数 | I7: 个 | J7: UdrFunction | K7: 15分钟 | L7: 15分钟 | M7: 否
A8: UPFHK07 | B8: CA | C8: UDR.SynSubSucc | D8: 应急UDR同步成功的用户数 | E8: 统计应急UDR从核心侧UDR同步成功的用户数 | F8: 一个统计周期内UPF+应急UDR执行用户同步成功的用户总数。 | G8: CC | H8: 整数 | I8: 个 | J8: UdrFunction | K8: 15分钟 | L8: 15分钟 | M8: 否

Sheet HL
A1: 统计编码 | B1: 重要度 | C1: 英文名称 | D1: 中文名称 | E1: 定义 | F1: 触发点 | G1: 采集方式 | H1: 数据类型 | I1: 单位 | J1: 空间粒度 | K1: 时间粒度 | L1: 上报周期 | M1: 测试要求 | N1: 备注 | O1: 支持时间
A2: UPFHL01 | B2: CA | C2: Ausf.UeAuthReq | D2: 鉴权请求次数 | E2: AUSF收到的鉴权请求次数 | F2: AUSF收到AMF发送的针对“ue-authentications”资源URI的POST操作。 （3GPP TS 29.509） | G2: CC | H2: 整数 | I2: 个 | J2: AusfFunction | K2: 15分钟 | L2: 15分钟 | M2: 否
A3: UPFHL02 | B3: CA | C3: Ausf.UeAuthAnsSucc | D3: 鉴权成功次数 | E3: AUSF返回鉴权成功响应次数 | F3: UDM返回响应消息时，HTTP status code为2XX时，均视为成功 | G3: CC | H3: 整数 | I3: 个 | J3: AusfFunction | K3: 15分钟 | L3: 15分钟 | M3: 否

Sheet 附录
A1: 参与规范编写人员名单
A2: 姓名 | B2: 公司 | C2: 手机 | D2: 邮箱
A3: 崔璀璀 | B3: 爱立信 | C3: 13910834683 | D3: tracy.c.cui@ericsson.com
A4: 何刚 | B4: 爱立信 | C4: 13910785072 | D4: grant.he@ericsson.com
A5: 蒋炜 | B5: 爱立信 | C5: 13601368683 | D5: will.jiang@ericsson.com
A6: 李云刚 | B6: 爱立信 | C6: 13501109642 | D6: yungang.li@ericsson.com
A7: 刘强 | B7: 爱立信 | C7: 13636426617 | D7: qiang.liu@ericsson.com
A8: 时森 | B8: 爱立信 | C8: 13910084851 | D8: sen.shi@ericsson.com
A9: 杨利 | B9: 爱立信 | C9: 13911554821 | D9: li.g.yang@ericsson.com
A10: 张一帆 | B10: 爱立信 | C10: 13910532301 | D10: grace.f.zhang@ericsson.com
A11: 常轶钊 | B11: 华为 | C11: 15191850585 | D11: changyizha@huawei.com
A12: 陈恒 | B12: 华为 | C12: 18918325595 | D12: andrew.chen@huawei.com
A13: 高胜展 | B13: 华为 | C13: 18500522566 | D13: gaoshnegzhan@huawei.com
A14: 姜传奎 | B14: 华为 | C14: 18616850658 | D14: jiangchuankui@huawei.com
... A28: 杨洋 | B28: 中兴 | C28: 15195995119 | D28: yangyang115@zte.com.cn
