Workbook

Sheet 修订历史
A1: 版本 | B1: 日期 | C1: 修订内容 | D1: 修订人
A2: V0.1.0 | B2: 43462 | C2: 创建第一稿 | D2: 李健、胡亚希、李端
A3: V0.2.0 | B3: 43482 | C3: 增加附录：PCF的包含和继承关系图 | D3: 胡亚希
A4: V0.4.0 | B4: 43516 | C4: AB页，修改Fqdn、SbiServiceList的定义；版本统一至0.4.0 | D4: 李健、胡亚希
A5: V1.0.0 | B5: 43732 | C5: 1. Index页增加“包含关系上级类”一列。 | D5: 李健、胡亚希、李端
A6: V1.1.0 | B6: 43821 | C6: 1. Index页Subnetwork修改为SubNetwork，以与3GPP保持一致。 2. 附录1中的UML，原图使用Rational Rose制作，改为使用开源软件UMLet制作。 | D6: 李健
A7: V1.1.1 | B7: 44188 | C7: 1.AC页，“UserLabel”和“MaxSubNbr”增加针对语音PCF场景下的指标取值说明 | D7: 刘振旺
A8: V1.1.2 | B8: 44249 | C8: 无内容变更，版本号随PM同步 | D8: 刘振旺
A9: V1.1.3 | B9: 44621 | C9: 无内容变更，版本号随PM同步 | D9: 洪晓、梁旭驰、张渊
A10: V1.1.4 | B10: 44827 | C10: 1.新增AD页，列举Pcf网元所涉及到的业务接口和管理接口，以及这些接口所配置的IPV4/V6地址 2.index新增一行IPResource，对应Pcf的管理接口和业务接口的信息" | D10: 张渊、洪晓、梁旭驰

Sheet 应答统计
A1: PCF-NRM(V1.1.4)应答情况汇总表
A2: 设备厂家名称 | E2: XX公司
A3: 应答日期(T) | E3: XXXX年XX月XX日
A4: 本应答文档适用的设备版本（及补丁） | E4: VersionXX(patchXX)
A5: 对OMC的版本（及补丁）要求 | E5: OMC版本需升级到VXXXX (或/并 加载补丁YYYY）
A7: 内容 | C7: 规范定义数量 | D7: 不适用数量 | E7: 当前支持数量 | F7: 当前+1Q支持数量 | G7: 当前+2Q支持数量 | H7: 当前+3Q支持数量 | I7: 当前+4Q支持数量 | J7: 当前支持率 | K7: 综合支持率 | L7: 最终支持率
A8: 网络资源模型IOC属性 | B8: A类 | C8: =Index!E6 -> 2 | D8: NA | E8: =Index!O6 -> 0 | F8: =Index!U6 -> 0 | G8: =Index!AA6 -> 0 | H8: =Index!AG6 -> 0 | I8: =Index!AM6 -> 0 | J8: =(E8+E11)/(C8+C11-D11) -> 0 | K8: =((E8+E11)+0.8*(F8+F11)+0.6*(G8+G11)+0.4*(H8+H11)+0.2*(I8+I11))/(C8+C11-D11) -> 0 | L8: =((E8+E11)+(F8+F11)+(G8+G11)+(H8+H11)+(I8+I11))/(C8+C11-D11) -> 0
B9: B类 | C9: =Index!F6 -> 24 | D9: NA | E9: =Index!P6 -> 0 | F9: =Index!V6 -> 0 | G9: =Index!AB6 -> 0 | H9: =Index!AH6 -> 0 | I9: =Index!AN6 -> 0 | J9: =(E9+E12)/(C9+C12-D12) -> 0 | K9: =((E9+E12)+0.8*(F9+F12)+0.6*(G9+G12)+0.4*(H9+H12)+0.2*(I9+I12))/(C9+C12-D12) -> 0 | L9: =((E9+E12)+(F9+F12)+(G9+G12)+(H9+H12)+(I9+I12))/(C9+C12-D12) -> 0
B10: C类 | C10: =Index!G6 -> 0 | D10: NA | E10: =Index!Q6 -> 0 | F10: =Index!W6 -> 0 | G10: =Index!AC6 -> 0 | H10: =Index!AI6 -> 0 | I10: =Index!AO6 -> 0 | J10: =(E10+E13)/(C10+C13-D13) -> #DIV/0! | K10: =((E10+E13)+0.8*(F10+F13)+0.6*(G10+G13)+0.4*(H10+H13)+0.2*(I10+I13))/(C10+C13-D13) -> #DIV/0! | L10: =((E10+E13)+(F10+F13)+(G10+G13)+(H10+H13)+(I10+I13))/(C10+C13-D13) -> #DIV/0!
B11: CA类 | C11: =Index!H6 -> 0 | D11: =Index!L6 -> 0 | E11: =Index!R6 -> 0 | F11: =Index!X6 -> 0 | G11: =Index!AD6 -> 0 | H11: =Index!AJ6 -> 0 | I11: =Index!AP6 -> 0
B12: CB类 | C12: =Index!I6 -> 0 | D12: =Index!M6 -> 0 | E12: =Index!S6 -> 0 | F12: =Index!Y6 -> 0 | G12: =Index!AE6 -> 0 | H12: =Index!AK6 -> 0 | I12: =Index!AQ6 -> 0
B13: CC类 | C13: =Index!J6 -> 0 | D13: =Index!N6 -> 0 | E13: =Index!T6 -> 0 | F13: =Index!Z6 -> 0 | G13: =Index!AF6 -> 0 | H13: =Index!AL6 -> 0 | I13: =Index!AR6 -> 0
A17: 应答说明：
A18: 一、本页须填写蓝色字体部分，即公司名、应答日期、本应答适用的版本（及补丁）名、对OMC的版本（及补丁）要求。AA开始的各页仅须应答“支持时间”一列。其中， “T”：指当前(T)已经支持，所谓当前即应答日期。 “T+1Q”：指当前(T)不支持，但（当前时间+91天）之前可以支持。 “T+2Q”：指当前(T)不支持，但（当前时间+182天）之前可以支持 “T+3Q”：指当前(T)不支持，但（当前时间+273天）之前可以支持 “T+4Q”：指当前(T)不支持，但（当前时间+364天）之前可以支持 “NS”: 若计划支持时间晚于T+4Q，或没有支持计划，必须应答“NS” “NA”：对应于CA、CB、CC类条件属性,条件成立时答上述支持时间，条件不成立时答“NA”，指示不适用。
A19: 二、“Index”页以及“应答统计”页的统计结果均为公式自动生成，请勿直接改动。
A20: 三、NRM中的对象属性是否支持的应答，以北向接口的NRM文件为准。当且仅当同时满足以下3项要求时才可以应答为具体的支持时间(T/T+xQ): 1、NRM文件遵循《移动通信网网络管理技术规范 OMC北向接口 统一网络资源模型文件格式》的要求； 2、对象的属性名、数据类型与相应网元的北向接口信息模型规范的约定完全一致； 3、可以从NRM文件中取到属性值。
A21: 四、注意将文件名中的“Company”、“Version”改为你公司名称以及应答适用的网元版本。
A22: 五、若应答文档需要打印，请打印“Index”和“应答统计”页，并打印当前不支持的统计项的相关页，请勿打印全部规范，请勿打印“修订历史”和“附录”页。
A23: 本应答模板的更新日期：2022-03-22

Sheet Index
A1: 索引 | B1: 管理对象类 | C1: 备注 | D1: 包含关系上级类 | E1: A类属性数 | F1: B类属性数 | G1: C类属性数 | H1: CA类属性数 | I1: CB类属性数 | J1: CC类属性数 | K1: 小计 | L1: CA类不适用数 | M1: CB类不适用数 | N1: CC类不适用数 | O1: 当前A类支持数 | P1: 当前B类支持数 | Q1: 当前C类支持数 | R1: 当前CA类支持数 | S1: 当前CB类支持数 | T1: 当前CC类支持数 | U1: (当前+1Q)A类支持数 | V1: (当前+1Q)B类支持数 | W1: (当前+1Q)C类支持数 | X1: (当前+1Q)CA类支持数 | Y1: (当前+1Q)CB类支持数 | Z1: (当前+1Q)CC类支持数 | AA1: (当前+2Q)A类支持数 | AB1: (当前+2Q)B类支持数 | AC1: (当前+2Q)C类支持数 | AD1: (当前+2Q)CA类支持数 | AE1: (当前+2Q)CB类支持数 | AF1: (当前+2Q)CC类支持数 | AG1: (当前+3Q)A类支持数 | AH1: (当前+3Q)B类支持数 | AI1: (当前+3Q)C类支持数 | AJ1: (当前+3Q)CA类支持数 | AK1: (当前+3Q)CB类支持数 | AL1: (当前+3Q)CC类支持数 | AM1: (当前+4Q)A类支持数 | AN1: (当前+4Q)B类支持数 | AO1: (当前+4Q)C类支持数 | AP1: (当前+4Q)CA类支持数 | AQ1: (当前+4Q)CB类支持数 | AR1: (当前+4Q)CC类支持数
A2: AA | B2: ManagedElement | C2: 网元 | D2: SubNetwork | E2: =COUNTIF(AA!$B:$B,"A") -> 1 | F2: =COUNTIF(AA!$B:$B,"B") -> 8 | G2: =COUNTIF(AA!$B:$B,"C") -> 0 | H2: =COUNTIF(AA!$B:$B,"CA") -> 0 | I2: =COUNTIF(AA!$B:$B,"CB") -> 0 | J2: =COUNTIF(AA!$B:$B,"CC") -> 0 | K2: =SUM($E2:$J2) -> 9 | L2: =SUMPRODUCT((AA!$B:$B="CA")*(AA!$I:$I="NA")) -> 0 | M2: =SUMPRODUCT((AA!$B:$B="CB")*(AA!$I:$I="NA")) -> 0 | N2: =SUMPRODUCT((AA!$B:$B="CC")*(AA!$I:$I="NA")) -> 0 | O2: =SUMPRODUCT((AA!$B:$B="A")*(AA!$I:$I="T")) -> 0 | P2: =SUMPRODUCT((AA!$B:$B="B")*(AA!$I:$I="T")) -> 0 | Q2: =SUMPRODUCT((AA!$B:$B="C")*(AA!$I:$I="T")) -> 0 | R2: =SUMPRODUCT((AA!$B:$B="CA")*(AA!$I:$I="T")) -> 0 | S2: =SUMPRODUCT((AA!$B:$B="CB")*(AA!$I:$I="T")) -> 0 | T2: =SUMPRODUCT((AA!$B:$B="CC")*(AA!$I:$I="T")) -> 0 | U2: =SUMPRODUCT((AA!$B:$B="A")*(AA!$I:$I="T+1Q")) -> 0 | V2: =SUMPRODUCT((AA!$B:$B="B")*(AA!$I:$I="T+1Q")) -> 0 | W2: =SUMPRODUCT((AA!$B:$B="C")*(AA!$I:$I="T+1Q")) -> 0 | X2: =SUMPRODUCT((AA!$B:$B="CA")*(AA!$I:$I="T+1Q")) -> 0 | Y2: =SUMPRODUCT((AA!$B:$B="CB")*(AA!$I:$I="T+1Q")) -> 0 | Z2: =SUMPRODUCT((AA!$B:$B="CC")*(AA!$I:$I="T+1Q")) -> 0 | AA2: =SUMPRODUCT((AA!$B:$B="A")*(AA!$I:$I="T+2Q")) -> 0 | AB2: =SUMPRODUCT((AA!$B:$B="B")*(AA!$I:$I="T+2Q")) -> 0 | AC2: =SUMPRODUCT((AA!$B:$B="C")*(AA!$I:$I="T+2Q")) -> 0 | AD2: =SUMPRODUCT((AA!$B:$B="CA")*(AA!$I:$I="T+2Q")) -> 0 | AE2: =SUMPRODUCT((AA!$B:$B="CB")*(AA!$I:$I="T+2Q")) -> 0 | AF2: =SUMPRODUCT((AA!$B:$B="CC")*(AA!$I:$I="T+2Q")) -> 0 | AG2: =SUMPRODUCT((AA!$B:$B="A")*(AA!$I:$I="T+3Q")) -> 0 | AH2: =SUMPRODUCT((AA!$B:$B="B")*(AA!$I:$I="T+3Q")) -> 0 | AI2: =SUMPRODUCT((AA!$B:$B="C")*(AA!$I:$I="T+3Q")) -> 0 | AJ2: =SUMPRODUCT((AA!$B:$B="CA")*(AA!$I:$I="T+3Q")) -> 0 | AK2: =SUMPRODUCT((AA!$B:$B="CB")*(AA!$I:$I="T+3Q")) -> 0 | AL2: =SUMPRODUCT((AA!$B:$B="CC")*(AA!$I:$I="T+3Q")) -> 0 | AM2: =SUMPRODUCT((AA!$B:$B="A")*(AA!$I:$I="T+4Q")) -> 0 | AN2: =SUMPRODUCT((AA!$B:$B="B")*(AA!$I:$I="T+4Q")) -> 0 | AO2: =SUMPRODUCT((AA!$B:$B="C")*(AA!$I:$I="T+4Q")) -> 0 | AP2: =SUMPRODUCT((AA!$B:$B="CA")*(AA!$I:$I="T+4Q")) -> 0 | AQ2: =SUMPRODUCT((AA!$B:$B="CB")*(AA!$I:$I="T+4Q")) -> 0 | AR2: =SUMPRODUCT((AA!$B:$B="CC")*(AA!$I:$I="T+4Q")) -> 0
A3: AB | B3: PcfFunction | C3: 策略控制功能 | D3: ManagedElement | E3: =COUNTIF(AB!$B:$B,"A") -> 0 | F3: =COUNTIF(AB!$B:$B,"B") -> 7 | G3: =COUNTIF(AB!$B:$B,"C") -> 0 | H3: =COUNTIF(AB!$B:$B,"CA") -> 0 | I3: =COUNTIF(AB!$B:$B,"CB") -> 0 | J3: =COUNTIF(AB!$B:$B,"CC") -> 0 | K3: =SUM($E3:$J3) -> 7 | L3: =SUMPRODUCT((AB!$B:$B="CA")*(AB!$I:$I="NA")) -> 0 | M3: =SUMPRODUCT((AB!$B:$B="CB")*(AB!$I:$I="NA")) -> 0 | N3: =SUMPRODUCT((AB!$B:$B="CC")*(AB!$I:$I="NA")) -> 0 | O3: =SUMPRODUCT((AB!$B:$B="A")*(AB!$I:$I="T")) -> 0 | P3: =SUMPRODUCT((AB!$B:$B="B")*(AB!$I:$I="T")) -> 0 | Q3: =SUMPRODUCT((AB!$B:$B="C")*(AB!$I:$I="T")) -> 0 | R3: =SUMPRODUCT((AB!$B:$B="CA")*(AB!$I:$I="T")) -> 0 | S3: =SUMPRODUCT((AB!$B:$B="CB")*(AB!$I:$I="T")) -> 0 | T3: =SUMPRODUCT((AB!$B:$B="CC")*(AB!$I:$I="T")) -> 0 | U3: =SUMPRODUCT((AB!$B:$B="A")*(AB!$I:$I="T+1Q")) -> 0 | V3: =SUMPRODUCT((AB!$B:$B="B")*(AB!$I:$I="T+1Q")) -> 0 | W3: =SUMPRODUCT((AB!$B:$B="C")*(AB!$I:$I="T+1Q")) -> 0 | X3: =SUMPRODUCT((AB!$B:$B="CA")*(AB!$I:$I="T+1Q")) -> 0 | Y3: =SUMPRODUCT((AB!$B:$B="CB")*(AB!$I:$I="T+1Q")) -> 0 | Z3: =SUMPRODUCT((AB!$B:$B="CC")*(AB!$I:$I="T+1Q")) -> 0 | AA3: =SUMPRODUCT((AB!$B:$B="A")*(AB!$I:$I="T+2Q")) -> 0 | AB3: =SUMPRODUCT((AB!$B:$B="B")*(AB!$I:$I="T+2Q")) -> 0 | AC3: =SUMPRODUCT((AB!$B:$B="C")*(AB!$I:$I="T+2Q")) -> 0 | AD3: =SUMPRODUCT((AB!$B:$B="CA")*(AB!$I:$I="T+2Q")) -> 0 | AE3: =SUMPRODUCT((AB!$B:$B="CB")*(AB!$I:$I="T+2Q")) -> 0 | AF3: =SUMPRODUCT((AB!$B:$B="CC")*(AB!$I:$I="T+2Q")) -> 0 | AG3: =SUMPRODUCT((AB!$B:$B="A")*(AB!$I:$I="T+3Q")) -> 0 | AH3: =SUMPRODUCT((AB!$B:$B="B")*(AB!$I:$I="T+3Q")) -> 0 | AI3: =SUMPRODUCT((AB!$B:$B="C")*(AB!$I:$I="T+3Q")) -> 0 | AJ3: =SUMPRODUCT((AB!$B:$B="CA")*(AB!$I:$I="T+3Q")) -> 0 | AK3: =SUMPRODUCT((AB!$B:$B="CB")*(AB!$I:$I="T+3Q")) -> 0 | AL3: =SUMPRODUCT((AB!$B:$B="CC")*(AB!$I:$I="T+3Q")) -> 0 | AM3: =SUMPRODUCT((AB!$B:$B="A")*(AB!$I:$I="T+4Q")) -> 0 | AN3: =SUMPRODUCT((AB!$B:$B="B")*(AB!$I:$I="T+4Q")) -> 0 | AO3: =SUMPRODUCT((AB!$B:$B="C")*(AB!$I:$I="T+4Q")) -> 0 | AP3: =SUMPRODUCT((AB!$B:$B="CA")*(AB!$I:$I="T+4Q")) -> 0 | AQ3: =SUMPRODUCT((AB!$B:$B="CB")*(AB!$I:$I="T+4Q")) -> 0 | AR3: =SUMPRODUCT((AB!$B:$B="CC")*(AB!$I:$I="T+4Q")) -> 0
A4: AC | B4: UdrFunction | C4: 用户签约数据库对象 | D4: ManagedElement | E4: =COUNTIF(AC!$B:$B,"A") -> 1 | F4: =COUNTIF(AC!$B:$B,"B") -> 4 | G4: =COUNTIF(AC!$B:$B,"C") -> 0 | H4: =COUNTIF(AC!$B:$B,"CA") -> 0 | I4: =COUNTIF(AC!$B:$B,"CB") -> 0 | J4: =COUNTIF(AC!$B:$B,"CC") -> 0 | K4: =SUM($E4:$J4) -> 5 | L4: =SUMPRODUCT((AC!$B:$B="CA")*(AC!$I:$I="NA")) -> 0 | M4: =SUMPRODUCT((AC!$B:$B="CB")*(AC!$I:$I="NA")) -> 0 | N4: =SUMPRODUCT((AC!$B:$B="CC")*(AC!$I:$I="NA")) -> 0 | O4: =SUMPRODUCT((AC!$B:$B="A")*(AC!$I:$I="T")) -> 0 | P4: =SUMPRODUCT((AC!$B:$B="B")*(AC!$I:$I="T")) -> 0 | Q4: =SUMPRODUCT((AC!$B:$B="C")*(AC!$I:$I="T")) -> 0 | R4: =SUMPRODUCT((AC!$B:$B="CA")*(AC!$I:$I="T")) -> 0 | S4: =SUMPRODUCT((AC!$B:$B="CB")*(AC!$I:$I="T")) -> 0 | T4: =SUMPRODUCT((AC!$B:$B="CC")*(AC!$I:$I="T")) -> 0 | U4: =SUMPRODUCT((AC!$B:$B="A")*(AC!$I:$I="T+1Q")) -> 0 | V4: =SUMPRODUCT((AC!$B:$B="B")*(AC!$I:$I="T+1Q")) -> 0 | W4: =SUMPRODUCT((AC!$B:$B="C")*(AC!$I:$I="T+1Q")) -> 0 | X4: =SUMPRODUCT((AC!$B:$B="CA")*(AC!$I:$I="T+1Q")) -> 0 | Y4: =SUMPRODUCT((AC!$B:$B="CB")*(AC!$I:$I="T+1Q")) -> 0 | Z4: =SUMPRODUCT((AC!$B:$B="CC")*(AC!$I:$I="T+1Q")) -> 0 | AA4: =SUMPRODUCT((AC!$B:$B="A")*(AC!$I:$I="T+2Q")) -> 0 | AB4: =SUMPRODUCT((AC!$B:$B="B")*(AC!$I:$I="T+2Q")) -> 0 | AC4: =SUMPRODUCT((AC!$B:$B="C")*(AC!$I:$I="T+2Q")) -> 0 | AD4: =SUMPRODUCT((AC!$B:$B="CA")*(AC!$I:$I="T+2Q")) -> 0 | AE4: =SUMPRODUCT((AC!$B:$B="CB")*(AC!$I:$I="T+2Q")) -> 0 | AF4: =SUMPRODUCT((AC!$B:$B="CC")*(AC!$I:$I="T+2Q")) -> 0 | AG4: =SUMPRODUCT((AC!$B:$B="A")*(AC!$I:$I="T+3Q")) -> 0 | AH4: =SUMPRODUCT((AC!$B:$B="B")*(AC!$I:$I="T+3Q")) -> 0 | AI4: =SUMPRODUCT((AC!$B:$B="C")*(AC!$I:$I="T+3Q")) -> 0 | AJ4: =SUMPRODUCT((AC!$B:$B="CA")*(AC!$I:$I="T+3Q")) -> 0 | AK4: =SUMPRODUCT((AC!$B:$B="CB")*(AC!$I:$I="T+3Q")) -> 0 | AL4: =SUMPRODUCT((AC!$B:$B="CC")*(AC!$I:$I="T+3Q")) -> 0 | AM4: =SUMPRODUCT((AC!$B:$B="A")*(AC!$I:$I="T+4Q")) -> 0 | AN4: =SUMPRODUCT((AC!$B:$B="B")*(AC!$I:$I="T+4Q")) -> 0 | AO4: =SUMPRODUCT((AC!$B:$B="C")*(AC!$I:$I="T+4Q")) -> 0 | AP4: =SUMPRODUCT((AC!$B:$B="CA")*(AC!$I:$I="T+4Q")) -> 0 | AQ4: =SUMPRODUCT((AC!$B:$B="CB")*(AC!$I:$I="T+4Q")) -> 0 | AR4: =SUMPRODUCT((AC!$B:$B="CC")*(AC!$I:$I="T+4Q")) -> 0
A5: AD | B5: IPResource | C5: 分接口类型的IP地址 | D5: ManagedElement | E5: =COUNTIF(AD!$B:$B,"A") -> 0 | F5: =COUNTIF(AD!$B:$B,"B") -> 5 | G5: =COUNTIF(AD!$B:$B,"C") -> 0 | H5: =COUNTIF(AD!$B:$B,"CA") -> 0 | I5: =COUNTIF(AD!$B:$B,"CB") -> 0 | J5: =COUNTIF(AD!$B:$B,"CC") -> 0 | K5: =SUM($E5:$J5) -> 5 | L5: =SUMPRODUCT((AD!$B:$B="CA")*(AD!$I:$I="NA")) -> 0 | M5: =SUMPRODUCT((AD!$B:$B="CB")*(AD!$I:$I="NA")) -> 0 | N5: =SUMPRODUCT((AD!$B:$B="CC")*(AD!$I:$I="NA")) -> 0 | O5: =SUMPRODUCT((AD!$B:$B="A")*(AD!$I:$I="T")) -> 0 | P5: =SUMPRODUCT((AD!$B:$B="B")*(AD!$I:$I="T")) -> 0 | Q5: =SUMPRODUCT((AD!$B:$B="C")*(AD!$I:$I="T")) -> 0 | R5: =SUMPRODUCT((AD!$B:$B="CA")*(AD!$I:$I="T")) -> 0 | S5: =SUMPRODUCT((AD!$B:$B="CB")*(AD!$I:$I="T")) -> 0 | T5: =SUMPRODUCT((AD!$B:$B="CC")*(AD!$I:$I="T")) -> 0 | U5: =SUMPRODUCT((AD!$B:$B="A")*(AD!$I:$I="T+1Q")) -> 0 | V5: =SUMPRODUCT((AD!$B:$B="B")*(AD!$I:$I="T+1Q")) -> 0 | W5: =SUMPRODUCT((AD!$B:$B="C")*(AD!$I:$I="T+1Q")) -> 0 | X5: =SUMPRODUCT((AD!$B:$B="CA")*(AD!$I:$I="T+1Q")) -> 0 | Y5: =SUMPRODUCT((AD!$B:$B="CB")*(AD!$I:$I="T+1Q")) -> 0 | Z5: =SUMPRODUCT((AD!$B:$B="CC")*(AD!$I:$I="T+1Q")) -> 0 | AA5: =SUMPRODUCT((AD!$B:$B="A")*(AD!$I:$I="T+2Q")) -> 0 | AB5: =SUMPRODUCT((AD!$B:$B="B")*(AD!$I:$I="T+2Q")) -> 0 | AC5: =SUMPRODUCT((AD!$B:$B="C")*(AD!$I:$I="T+2Q")) -> 0 | AD5: =SUMPRODUCT((AD!$B:$B="CA")*(AD!$I:$I="T+2Q")) -> 0 | AE5: =SUMPRODUCT((AD!$B:$B="CB")*(AD!$I:$I="T+2Q")) -> 0 | AF5: =SUMPRODUCT((AD!$B:$B="CC")*(AD!$I:$I="T+2Q")) -> 0 | AG5: =SUMPRODUCT((AD!$B:$B="A")*(AD!$I:$I="T+3Q")) -> 0 | AH5: =SUMPRODUCT((AD!$B:$B="B")*(AD!$I:$I="T+3Q")) -> 0 | AI5: =SUMPRODUCT((AD!$B:$B="C")*(AD!$I:$I="T+3Q")) -> 0 | AJ5: =SUMPRODUCT((AD!$B:$B="CA")*(AD!$I:$I="T+3Q")) -> 0 | AK5: =SUMPRODUCT((AD!$B:$B="CB")*(AD!$I:$I="T+3Q")) -> 0 | AL5: =SUMPRODUCT((AD!$B:$B="CC")*(AD!$I:$I="T+3Q")) -> 0 | AM5: =SUMPRODUCT((AD!$B:$B="A")*(AD!$I:$I="T+4Q")) -> 0 | AN5: =SUMPRODUCT((AD!$B:$B="B")*(AD!$I:$I="T+4Q")) -> 0 | AO5: =SUMPRODUCT((AD!$B:$B="C")*(AD!$I:$I="T+4Q")) -> 0 | AP5: =SUMPRODUCT((AD!$B:$B="CA")*(AD!$I:$I="T+4Q")) -> 0 | AQ5: =SUMPRODUCT((AD!$B:$B="CB")*(AD!$I:$I="T+4Q")) -> 0 | AR5: =SUMPRODUCT((AD!$B:$B="CC")*(AD!$I:$I="T+4Q")) -> 0
A6: 合计 | E6: =SUM(E2:E5) -> 2 | F6: =SUM(F2:F5) -> 24 | G6: =SUM(G2:G5) -> 0 | H6: =SUM(H2:H5) -> 0 | I6: =SUM(I2:I5) -> 0 | J6: =SUM(J2:J5) -> 0 | K6: =SUM(K2:K5) -> 26 | L6: =SUM(L2:L5) -> 0 | ... AR6: =SUM(AR2:AR5) -> 0

Sheet AA
A1: 属性编码 | B1: 重要度 | C1: 英文名称 | D1: 中文名称 | E1: 定义 | F1: 数据类型 | G1: 单位 | H1: 备注 | I1: 支持时间
A2: PCFAA01 | B2: B | C2: Id | D2: 标识符 | E2: 网元标识，只在OMC范围内有效 | F2: 字符串 | H2: 继承自TOP
A3: PCFAA02 | B3: B | C3: UserLabel | D3: 用户友好名 | E3: 网元名称，根据运营商的网元命名规则设定。 | F3: 字符串 | H3: 继承自TOP
A4: PCFAA03 | B4: B | C4: VendorName | D4: 厂商名称 | E4: 厂商名称 | F4: 字符串
A5: PCFAA04 | B5: B | C5: ManagedBy | D5: 管理节点 | E5: 管理ManagedElement的ManagementNode对象类的DN值 | F5: 字符串
A6: PCFAA05 | B6: B | C6: ManagementIpAddress | D6: 网管接口IP地址列表 | E6: 网管接口IP地址列表 | F6: 字符串列表
A7: PCFAA06 | B7: A | C7: SwVersion | D7: 软件版本 | E7: 网元的软件版本 | F7: 字符串
A8: PCFAA07 | B8: B | C8: PatchInfo | D8: 补丁信息 | E8: 补丁信息,用于表示当前网元加载的补丁名称列表。 | F8: 字符串列表
A9: PCFAA08 | B9: B | C9: AdministrativeState | D9: 管理状态 | E9: 管理的状态，取值范围为{Locked，Unlocked，ShuttingDown} | F9: 枚举
A10: PCFAA09 | B10: B | C10: OperationalState | D10: 运行状态 | E10: 运行的状态，取值范围为{Disabled, Enabled} | F10: 枚举

Sheet AB
A1: 属性编码 | B1: 重要度 | C1: 英文名称 | D1: 中文名称 | E1: 定义 | F1: 数据类型 | G1: 单位 | H1: 备注 | I1: 支持时间
A2: PCFAB01 | B2: B | C2: Id | D2: 标识符 | E2: 命名属性 | F2: 字符串
A3: PCFAB02 | B3: B | C3: UserLabel | D3: 用户友好名 | E3: 对象名称 | F3: 字符串
A4: PCFAB03 | B4: B | C4: AdministrativeState | D4: 管理状态 | E4: 管理的状态，取值范围为{Locked，Unlocked，ShuttingDown} | F4: 枚举
A5: PCFAB04 | B5: B | C5: OperationalState | D5: 运行状态 | E5: 运行的状态，取值范围为{Disabled, Enabled} | F5: 枚举
A6: PCFAB05 | B6: B | C6: VnfInstanceId | D6: 虚拟化实例标识 | E6: 虚拟网元的InstanceId | F6: 字符串
A7: PCFAB05 | B7: B | C7: Fqdn | D7: PcfFunction的FQDN | E7: 基于服务化接口PcfFunction的FQDN，FQDN结构请参见TS23.003. | F7: 字符串
A8: PCFAB06 | B8: B | C8: SbiServiceList | D8: PcfFunction的服务列表 | E8: PcfFunction上所有注册到服务化接口的service列表，该列表由每个service的名称组成。其中ServiceName参见29.510 Table 6.1.6.3.11-1: Enumeration ServiceName定义 | F8: 字符串列表

Sheet AC
A1: 属性编码 | B1: 重要度 | C1: 英文名称 | D1: 中文名称 | E1: 定义 | F1: 数据类型 | G1: 单位 | H1: 备注 | I1: 支持时间
A2: PCFAC01 | B2: B | C2: Id | D2: 标识符 | E2: 命名属性 | F2: 字符串 | H2: 继承自TOP
A3: PCFAC02 | B3: B | C3: UserLabel | D3: 用户友好名 | E3: 用户友好名，由EMS厂商自己指定，做为其内部标识，并可被NMS修改。 语音PCF不涉及Udr，语音PCF对应指标填写PCF的取值。 | F3: 字符串 | H3: 继承自TOP
A4: PCFAC03 | B4: B | C4: AdministrativeState | D4: 管理状态 | E4: 管理的状态，枚举型 {Locked, Unlocked, ShuttingDown} | F4: 枚举 | H4: 继承自ManagedFunction
A5: PCFAC04 | B5: B | C5: OperationalState | D5: 运行状态 | E5: 运行的状态，枚举型{Disabled,Enabled} | F5: 枚举 | H5: 继承自ManagedFunction
A6: PCFAC07 | B6: A | C6: MaxSubNbr | D6: 最大签约用户数 | E6: UDR最大能存储的签约用户的个数，该值受软硬件条件共同限制，如Licence。 语音PCF不涉及Udr，语音PCF对应指标填0。 | F6: 整数 | G6: 个

Sheet AD
A1: 属性编码 | B1: 重要度 | C1: 英文名称 | D1: 中文名称 | E1: 定义 | F1: 数据类型 | G1: 单位 | H1: 备注 | I1: 支持时间
A2: PCFAD01 | B2: B | C2: Id | D2: 标识符 | E2: 命名属性 | F2: 字符串 | G2: 无
A3: PCFAD02 | B3: B | C3: UserLabel | D3: 用户友好名 | E3: 用户友好名，由EMS厂商自己指定，做为其内部标识，并可被NMS修改。 | F3: 字符串 | G3: 无
A4: PCFAD03 | B4: B | C4: InterfaceType | D4: 接口类型 | E4: 包含管理接口和业务接口（信令和媒体）。枚举型{Mgt,Rx,Gx,N5,N7,N15,N28}，备注：管理接口为Mgt。 | F4: 枚举值 | G4: 无 | H4: 管理接口：网管维护接口 业务接口：网元业务接口
A5: PCFAD04 | B5: B | C5: LocIpV4AddrList | D5: 本端IPV4地址列表 | E5: 参考点所关联的本端网元的IP地址列表（Ipv4地址格式），如无IPV4地址，填写{Default}。 | F5: 字符串列表 | G5: 无
A6: PCFAD05 | B6: B | C6: LocIpV6AddrList | D6: 本端IPV6地址列表 | E6: 参考点所关联的本端网元的IP地址列表（Ipv6地址格式），如无IPV6地址，填写{Default}。 | F6: 字符串列表 | G6: 无

Sheet 附录1
A1: 一、IOC包含关系图
A23: 二、IOC继承关系图

Sheet 附录2
A1: 参与规范编写人员名单
A2: 姓名 | B2: 公司 | C2: 手机 | D2: 邮箱
A3: 崔璀璀 | B3: 爱立信 | C3: 13910834683 | D3: tracy.c.cui@ericsson.com
A4: 何刚 | B4: 爱立信 | C4: 13910785072 | D4: grant.he@ericsson.com
A5: 蒋炜 | B5: 爱立信 | C5: 13601368683 | D5: will.jiang@ericsson.com
A6: 李云刚 | B6: 爱立信 | C6: 13501109642 | D6: yungang.li@ericsson.com
A7: 刘强 | B7: 爱立信 | C7: 13636426617 | D7: qiang.liu@ericsson.com
A8: 时森 | B8: 爱立信 | C8: 13910084851 | D8: sen.shi@ericsson.com
A9: 杨利 | B9: 爱立信 | C9: 13911554821 | D9: li.g.yang@ericsson.com
A10: 张一帆 | B10: 爱立信 | C10: 13910532301 | D10: grace.f.zhang@ericsson.com
A11: 常轶钊 | B11: 华为 | C11: 15191850585 | D11: changyizha@huawei.com
A12: 陈恒 | B12: 华为 | C12: 18918325595 | D12: andrew.chen@huawei.com
A13: 高胜展 | B13: 华为 | C13: 18500522566 | D13: gaoshnegzhan@huawei.com
A14: 姜传奎 | B14: 华为 | C14: 18616850658 | D14: jiangchuankui@huawei.com
... A28: 杨洋 | B28: 中兴 | C28: 15195995119 | D28: yangyang115@zte.com.cn
