Workbook

Sheet 修订历史
A1: 版本 | B1: 日期 | C1: 修订内容 | D1: 修订人
A2: V0.1.0 | B2: 43401 | C2: 创建第一稿 | D2: 李健、胡亚希
A3: V0.2.0 | B3: 43427 | C3: 1. 统一性能测量名称中的测量族命名规则： a) 基本规则是用网络功能实体名作为性能测量的族名。 b) 可能被多个网络实体的共用的内容，比如信令层的统计，SCTP层的统计，ME负荷的统计，使用单独的族名。 2. 修改性能测量名称，简化。 3. “AMF向UDM发起的注册请求次数”, “UDM向AMF发的分HTTP Status Code的注册响应次数” 改为 “UECD注册请求次数“，”UECM注册成功次数“ 4. AMF向UDM发起的去注册请求次数 的触发点中的Npcf_Nudm_UECM_Deregistration service operation 修改为 Nudm_UECM_Deregistration service operation 5. 删除HJ “Namf测量数据” | D3: 李健、胡亚希
A4: V0.2.1 | B4: 43451 | C4: 1. 补充Index页的统计公式 2. 修订HD，HE，HI，HJ，Index 页 | D4: 李健、胡亚希
A5: V0.3.0 | B5: 43473 | C5: HI：删除AMF.UecmRegFail.DnnNotAllowed | D5: 李健、胡亚希
A6: V0.4.0 | B6: 43516 | C6: 1.修订HH、HI、HJ页的编码错误。 2.增加HL页,统计“AMF挂接5G基站数”，该测量用于计算AMF挂接基站容量利用率。 3.统一字体为宋体10号字。 4.HD页，简化英文名称，并将InterAMF和IntraAMF更新为InterAmf和IntraAmf。 5. HF页，英文名称统一为大驼峰式书写。 | D6: 李健、胡亚希
B7: 43621 | C7: 1、HB页，采纳诺基亚建议，“AMF注册态用户数”定义中删除“包括隐式分离等异常状态用户”描述
A8: V1.0.0 | B8: 43731 | C8: HD01：中文名称“分TA的跟踪区更新请求次数”改为“分TA的注册更新请求次数” HD02：中文名称“分TA的跟踪区更新接受次数”改为“分TA的注册更新接受次数” HB01:英文名称“AMF.RegSub_NS”改为“AMF.RegSub._Ns”，中文名称“每跟踪区”改为“分跟踪区的”，“每网络切片”改为“分切片的”； HE：中文名称中“每跟踪区”改为“分跟踪区” | D8: 李健、胡亚希、李端
A9: V1.0.1 | B9: 43747 | C9: 1. HI页,将部分统计对象由“EpRpDynN8AMF”纠正为“EpRpDynN8Amf” | D9: 李健
A10: V1.1.0 | B10: 43821 | C10: 无更新，与NRM版本保持一致。 | D10: 李健
A11: V1.1.1 | B11: 44168 | C11: HC03：增加“初始注册失败次数_N1模式不允许”和“分跟踪区的初始注册失败次数_N1模式不允许”理由：根据5G NAS原因值规范，27为用户原因的注册失败统计项，为保证注册成功率KPI的准确性，需要把27原因值上报，并在计算KPI时排除掉。 | D11: 刘振旺
B12: 44173 | C12: HA02：修正AMF.AuthFail.21与AMF.AuthFail.26对应的中文名称
B13: 44186 | C13: HB：增加A、B类指标增加对应的平均值和最大值统计
A14: V1.1.2 | B14: 44249 | C14: HH页，“系统平均负荷”，“单位”统一取消“%”为“-”。 | D14: 刘振旺
B15: 44270 | C15: HC页，“初始注册平均时长”，添加备注“无此业务流程时，上报空值""”。
B16: 44286 | C16: HC页，增加“初始注册失败次数”用户相关原因指标：9,11,12,13,62,111.
B17: 44295 | C17: HC页，用户原因AMF.FailedInitReg.9更新为AMF.FailedInitReg.9.User，另新增网络原因AMF.FailedInitReg.9；
B18: 44295 | C18: HC页，用户原因AMF.FailedInitReg.111更新为AMF.FailedInitReg.111.User，另新增网络原因AMF.FailedInitReg.111；
B19: 44295 | C19: HC页，“初始注册失败次数”用户相关原因指标：9.User,11,12,13,62,111.User重要度为A；非用户原因指标：9,111重要度为B；12,13因应用场景较少重要度为B；
B20: 44301 | C20: HC页， 1.AMF.FailedInitReg.9.User触发场景描述更正； 2.AMF.FailedInitReg.9触发场景描述更正；
B21: 44390 | C21: HB页： 1.新增AMF.RegSub.CmConnected._Ns指标；
B22: 44557 | C22: HC页：因为协议针对初始注册失败并没有定义失败原因值9，删除如下指标： AMF.FailedInitReg.9，AMF.FailedInitReg.9.User, AMF.FailedInitReg._Ta.9,AMF.FailedInitReg._Ta.9_User.
B23: 44754 | C23: HC初始注册过程统计，对于初始注册失败分原因值统计补充“其他场景”说明 | D23: 张渊、洪晓
A24: V1.1.5 | B24: 44770 | C24: 同步NRM版本号更新 | D24: 张渊、洪晓、梁旭驰
B25: 44817 | C25: HC页line18~21，需要补充：采集方式、数据类型、单位、空间粒度、时间粒度、上报周期、测试要求 | D25: 张渊、洪晓、梁旭驰

Sheet 应答统计
A1: AMF-PM(V1.1.5)应答情况汇总表
A2: 设备厂家名称 | E2: XX公司
A3: 应答日期(T) | E3: XXXX年XX月XX日
A4: 本应答文档适用的设备版本（及补丁） | E4: VersionXX(patchXX)
A5: 对OMC的版本（及补丁）要求 | E5: OMC版本需升级到VXXXX (或/并 加载补丁YYYY）
A7: 内容 | C7: 规范定义数量 | D7: 不适用数量 | E7: 当前支持数量 | F7: 当前+1Q支持数量 | G7: 当前+2Q支持数量 | H7: 当前+3Q支持数量 | I7: 当前+4Q支持数量 | J7: 当前支持率 | K7: 综合支持率 | L7: 最终支持率
A8: 网络资源模型IOC属性 | B8: A类 | C8: =Index!D14 -> 26 | D8: NA | E8: =Index!N14 -> 0 | F8: =Index!T14 -> 0 | G8: =Index!Z14 -> 0 | H8: =Index!AF14 -> 0 | I8: =Index!AL14 -> 0 | J8: =(E8+E11)/(C8+C11-D11) -> 0 | K8: =((E8+E11)+0.8*(F8+F11)+0.6*(G8+G11)+0.4*(H8+H11)+0.2*(I8+I11))/(C8+C11-D11) -> 0 | L8: =((E8+E11)+(F8+F11)+(G8+G11)+(H8+H11)+(I8+I11))/(C8+C11-D11) -> 0
B9: B类 | C9: =Index!E14 -> 98 | D9: NA | E9: =Index!O14 -> 0 | F9: =Index!U14 -> 0 | G9: =Index!AA14 -> 0 | H9: =Index!AG14 -> 0 | I9: =Index!AM14 -> 0 | J9: =(E9+E12)/(C9+C12-D12) -> 0 | K9: =((E9+E12)+0.8*(F9+F12)+0.6*(G9+G12)+0.4*(H9+H12)+0.2*(I9+I12))/(C9+C12-D12) -> 0 | L9: =((E9+E12)+(F9+F12)+(G9+G12)+(H9+H12)+(I9+I12))/(C9+C12-D12) -> 0
B10: C类 | C10: =Index!F14 -> 15 | D10: NA | E10: =Index!P14 -> 0 | F10: =Index!V14 -> 0 | G10: =Index!AB14 -> 0 | H10: =Index!AH14 -> 0 | I10: =Index!AN14 -> 0 | J10: =(E10+E13)/(C10+C13-D13) -> 0 | K10: =((E10+E13)+0.8*(F10+F13)+0.6*(G10+G13)+0.4*(H10+H13)+0.2*(I10+I13))/(C10+C13-D13) -> 0 | L10: =((E10+E13)+(F10+F13)+(G10+G13)+(H10+H13)+(I10+I13))/(C10+C13-D13) -> 0
B11: CA类 | C11: =Index!G14 -> 0 | D11: =Index!K14 -> 0 | E11: =Index!Q14 -> 0 | F11: =Index!W14 -> 0 | G11: =Index!AC14 -> 0 | H11: =Index!AI14 -> 0 | I11: =Index!AO14 -> 0 | J11: NA
B12: CB类 | C12: =Index!H14 -> 0 | D12: =Index!L14 -> 0 | E12: =Index!R14 -> 0 | F12: =Index!X14 -> 0 | G12: =Index!AD14 -> 0 | H12: =Index!AJ14 -> 0 | I12: =Index!AP14 -> 0
B13: CC类 | C13: =Index!I14 -> 0 | D13: =Index!M14 -> 0 | E13: =Index!S14 -> 0 | F13: =Index!Y14 -> 0 | G13: =Index!AE14 -> 0 | H13: =Index!AK14 -> 0 | I13: =Index!AQ14 -> 0
A17: 应答说明：
A18: 一、本页须填写蓝色字体部分，即公司名、应答日期、本应答适用的版本（及补丁）名、对OMC的版本（及补丁）要求。AA开始的各页仅须应答“支持时间”一列。其中， “T”：指当前(T)已经支持，所谓当前即应答日期。 “T+1Q”：指当前(T)不支持，但（当前时间+91天）之前可以支持。 “T+2Q”：指当前(T)不支持，但（当前时间+182天）之前可以支持 “T+3Q”：指当前(T)不支持，但（当前时间+273天）之前可以支持 “T+4Q”：指当前(T)不支持，但（当前时间+364天）之前可以支持 “NS”: 若计划支持时间晚于T+4Q，或没有支持计划，必须应答“NS” “NA”：对应于CA、CB、CC类条件属性,条件成立时答上述支持时间，条件不成立时答“NA”，指示不适用。
A19: 二、“Index”页以及“应答统计”页的统计结果均为公式自动生成，请勿直接改动。
A20: 三、NRM中的对象属性是否支持的应答，以北向接口的NRM文件为准。当且仅当同时满足以下3项要求时才可以应答为具体的支持时间(T/T+xQ): 1、NRM文件遵循《移动通信网网络管理技术规范 OMC北向接口 统一网络资源模型文件格式》的要求；_x000D_ 2、对象的属性名、数据类型与相应网元的北向接口信息模型规范的约定完全一致；_x000D_ 3、可以从NRM文件中取到属性值。
A21: 四、注意将文件名中的“Company”、“Version”改为你公司名称以及应答适用的网元版本。
A22: 五、若应答文档需要打印，请打印“Index”和“应答统计”页，并打印当前不支持的统计项的相关页，请勿打印全部规范，请勿打印“修订历史”和“附录”页。
A23: 本应答模板的更新日期：2022-09-23

Sheet Index
A1: 索引 | B1: 性能测量参数表名 | C1: 备注 | D1: A类测量数 | E1: B类测量数 | F1: C类测量数 | G1: CA类测量数 | H1: CB类测量数 | I1: CC类测量数 | J1: 小计 | K1: CA类不适用数 | L1: CB类不适用数 | M1: CC类不适用数 | N1: 当前A类支持数 | O1: 当前B类支持数 | P1: 当前C类支持数 | Q1: 当前CA类支持数 | R1: 当前CB类支持数 | S1: 当前CC类支持数 | T1: (当前+1Q)A类支持数 | U1: (当前+1Q)B类支持数 | V1: (当前+1Q)C类支持数 | W1: (当前+1Q)CA类支持数 | X1: (当前+1Q)CB类支持数 | Y1: (当前+1Q)CC类支持数 | Z1: (当前+2Q)A类支持数 | AA1: (当前+2Q)B类支持数 | AB1: (当前+2Q)C类支持数 | AC1: (当前+2Q)CA类支持数 | AD1: (当前+2Q)CB类支持数 | AE1: (当前+2Q)CC类支持数 | AF1: (当前+3Q)A类支持数 | AG1: (当前+3Q)B类支持数 | AH1: (当前+3Q)C类支持数 | AI1: (当前+3Q)CA类支持数 | AJ1: (当前+3Q)CB类支持数 | AK1: (当前+3Q)CC类支持数 | AL1: (当前+4Q)A类支持数 | AM1: (当前+4Q)B类支持数 | AN1: (当前+4Q)C类支持数 | AO1: (当前+4Q)CA类支持数 | AP1: (当前+4Q)CB类支持数 | AQ1: (当前+4Q)CC类支持数
A2: HA | B2: 鉴权过程性能测量 | C2: UE鉴权统计。 | D2: =COUNTIF(HA!$B:$B,"A") -> 0 | E2: =COUNTIF(HA!$B:$B,"B") -> 3 | F2: =COUNTIF(HA!$B:$B,"C") -> 3 | G2: =COUNTIF(HA!$B:$B,"CA") -> 0 | H2: =COUNTIF(HA!$B:$B,"CB") -> 0 | I2: =COUNTIF(HA!$B:$B,"CC") -> 0 | J2: =SUM(D2:I2) -> 6 | K2: =SUMPRODUCT((HA!$B:$B="CA")*(HA!$O:$O="NA")) -> 0 | L2: =SUMPRODUCT((HA!$B:$B="CB")*(HA!$O:$O="NA")) -> 0 | M2: =SUMPRODUCT((HA!$B:$B="CC")*(HA!$O:$O="NA")) -> 0 | N2: =SUMPRODUCT((HA!$B:$B="A")*(HA!$O:$O="T")) -> 0 | O2: =SUMPRODUCT((HA!$B:$B="B")*(HA!$O:$O="T")) -> 0 | P2: =SUMPRODUCT((HA!$B:$B="C")*(HA!$O:$O="T")) -> 0 | Q2: =SUMPRODUCT((HA!$B:$B="CA")*(HA!$O:$O="T")) -> 0 | R2: =SUMPRODUCT((HA!$B:$B="CB")*(HA!$O:$O="T")) -> 0 | S2: =SUMPRODUCT((HA!$B:$B="CC")*(HA!$O:$O="T")) -> 0 | T2: =SUMPRODUCT((HA!$B:$B="A")*(HA!$O:$O="T+1Q")) -> 0 | U2: =SUMPRODUCT((HA!$B:$B="B")*(HA!$O:$O="T+1Q")) -> 0 | V2: =SUMPRODUCT((HA!$B:$B="C")*(HA!$O:$O="T+1Q")) -> 0 | W2: =SUMPRODUCT((HA!$B:$B="CA")*(HA!$O:$O="T+1Q")) -> 0 | X2: =SUMPRODUCT((HA!$B:$B="CB")*(HA!$O:$O="T+1Q")) -> 0 | Y2: =SUMPRODUCT((HA!$B:$B="CC")*(HA!$O:$O="T+1Q")) -> 0 | Z2: =SUMPRODUCT((HA!$B:$B="A")*(HA!$O:$O="T+2Q")) -> 0 | AA2: =SUMPRODUCT((HA!$B:$B="B")*(HA!$O:$O="T+2Q")) -> 0 | AB2: =SUMPRODUCT((HA!$B:$B="C")*(HA!$O:$O="T+2Q")) -> 0 | AC2: =SUMPRODUCT((HA!$B:$B="CA")*(HA!$O:$O="T+2Q")) -> 0 | AD2: =SUMPRODUCT((HA!$B:$B="CB")*(HA!$O:$O="T+2Q")) -> 0 | AE2: =SUMPRODUCT((HA!$B:$B="CC")*(HA!$O:$O="T+2Q")) -> 0 | AF2: =SUMPRODUCT((HA!$B:$B="A")*(HA!$O:$O="T+3Q")) -> 0 | AG2: =SUMPRODUCT((HA!$B:$B="B")*(HA!$O:$O="T+3Q")) -> 0 | AH2: =SUMPRODUCT((HA!$B:$B="C")*(HA!$O:$O="T+3Q")) -> 0 | AI2: =SUMPRODUCT((HA!$B:$B="CA")*(HA!$O:$O="T+3Q")) -> 0 | AJ2: =SUMPRODUCT((HA!$B:$B="CB")*(HA!$O:$O="T+3Q")) -> 0 | AK2: =SUMPRODUCT((HA!$B:$B="CC")*(HA!$O:$O="T+3Q")) -> 0 | AL2: =SUMPRODUCT((HA!$B:$B="A")*(HA!$O:$O="T+4Q")) -> 0 | AM2: =SUMPRODUCT((HA!$B:$B="B")*(HA!$O:$O="T+4Q")) -> 0 | AN2: =SUMPRODUCT((HA!$B:$B="C")*(HA!$O:$O="T+4Q")) -> 0 | AO2: =SUMPRODUCT((HA!$B:$B="CA")*(HA!$O:$O="T+4Q")) -> 0 | AP2: =SUMPRODUCT((HA!$B:$B="CB")*(HA!$O:$O="T+4Q")) -> 0 | AQ2: =SUMPRODUCT((HA!$B:$B="CC")*(HA!$O:$O="T+4Q")) -> 0
A3: HB | B3: AMF注册用户数测量 | C3: 总用户数，空闲态用户数，连接态用户数。 | D3: =COUNTIF(HB!$B:$B,"A") -> 3 | E3: =COUNTIF(HB!$B:$B,"B") -> 16 | F3: =COUNTIF(HB!$B:$B,"C") -> 1 | G3: =COUNTIF(HB!$B:$B,"CA") -> 0 | H3: =COUNTIF(HB!$B:$B,"CB") -> 0 | I3: =COUNTIF(HB!$B:$B,"CC") -> 0 | J3: =SUM(D3:I3) -> 20 | K3: =SUMPRODUCT((HB!$B:$B="CA")*(HB!$O:$O="NA")) -> 0 | L3: =SUMPRODUCT((HB!$B:$B="CB")*(HB!$O:$O="NA")) -> 0 | M3: =SUMPRODUCT((HB!$B:$B="CC")*(HB!$O:$O="NA")) -> 0 | N3: =SUMPRODUCT((HB!$B:$B="A")*(HB!$O:$O="T")) -> 0 | O3: =SUMPRODUCT((HB!$B:$B="B")*(HB!$O:$O="T")) -> 0 | P3: =SUMPRODUCT((HB!$B:$B="C")*(HB!$O:$O="T")) -> 0 | Q3: =SUMPRODUCT((HB!$B:$B="CA")*(HB!$O:$O="T")) -> 0 | R3: =SUMPRODUCT((HB!$B:$B="CB")*(HB!$O:$O="T")) -> 0 | S3: =SUMPRODUCT((HB!$B:$B="CC")*(HB!$O:$O="T")) -> 0 | T3: =SUMPRODUCT((HB!$B:$B="A")*(HB!$O:$O="T+1Q")) -> 0 | U3: =SUMPRODUCT((HB!$B:$B="B")*(HB!$O:$O="T+1Q")) -> 0 | V3: =SUMPRODUCT((HB!$B:$B="C")*(HB!$O:$O="T+1Q")) -> 0 | W3: =SUMPRODUCT((HB!$B:$B="CA")*(HB!$O:$O="T+1Q")) -> 0 | X3: =SUMPRODUCT((HB!$B:$B="CB")*(HB!$O:$O="T+1Q")) -> 0 | Y3: =SUMPRODUCT((HB!$B:$B="CC")*(HB!$O:$O="T+1Q")) -> 0 | Z3: =SUMPRODUCT((HB!$B:$B="A")*(HB!$O:$O="T+2Q")) -> 0 | AA3: =SUMPRODUCT((HB!$B:$B="B")*(HB!$O:$O="T+2Q")) -> 0 | AB3: =SUMPRODUCT((HB!$B:$B="C")*(HB!$O:$O="T+2Q")) -> 0 | AC3: =SUMPRODUCT((HB!$B:$B="CA")*(HB!$O:$O="T+2Q")) -> 0 | AD3: =SUMPRODUCT((HB!$B:$B="CB")*(HB!$O:$O="T+2Q")) -> 0 | AE3: =SUMPRODUCT((HB!$B:$B="CC")*(HB!$O:$O="T+2Q")) -> 0 | AF3: =SUMPRODUCT((HB!$B:$B="A")*(HB!$O:$O="T+3Q")) -> 0 | AG3: =SUMPRODUCT((HB!$B:$B="B")*(HB!$O:$O="T+3Q")) -> 0 | AH3: =SUMPRODUCT((HB!$B:$B="C")*(HB!$O:$O="T+3Q")) -> 0 | AI3: =SUMPRODUCT((HB!$B:$B="CA")*(HB!$O:$O="T+3Q")) -> 0 | AJ3: =SUMPRODUCT((HB!$B:$B="CB")*(HB!$O:$O="T+3Q")) -> 0 | AK3: =SUMPRODUCT((HB!$B:$B="CC")*(HB!$O:$O="T+3Q")) -> 0 | AL3: =SUMPRODUCT((HB!$B:$B="A")*(HB!$O:$O="T+4Q")) -> 0 | AM3: =SUMPRODUCT((HB!$B:$B="B")*(HB!$O:$O="T+4Q")) -> 0 | AN3: =SUMPRODUCT((HB!$B:$B="C")*(HB!$O:$O="T+4Q")) -> 0 | AO3: =SUMPRODUCT((HB!$B:$B="CA")*(HB!$O:$O="T+4Q")) -> 0 | AP3: =SUMPRODUCT((HB!$B:$B="CB")*(HB!$O:$O="T+4Q")) -> 0 | AQ3: =SUMPRODUCT((HB!$B:$B="CC")*(HB!$O:$O="T+4Q")) -> 0
A4: HC | B4: 初始注册过程性能测量 | C4: 初始注册过程统计 | D4: =COUNTIF(HC!$B:$B,"A") -> 20 | E4: =COUNTIF(HC!$B:$B,"B") -> 15 | F4: =COUNTIF(HC!$B:$B,"C") -> 1 | G4: =COUNTIF(HC!$B:$B,"CA") -> 0 | H4: =COUNTIF(HC!$B:$B,"CB") -> 0 | I4: =COUNTIF(HC!$B:$B,"CC") -> 0 | J4: =SUM(D4:I4) -> 36 | K4: =SUMPRODUCT((HC!$B:$B="CA")*(HC!$O:$O="NA")) -> 0 | L4: =SUMPRODUCT((HC!$B:$B="CB")*(HC!$O:$O="NA")) -> 0 | M4: =SUMPRODUCT((HC!$B:$B="CC")*(HC!$O:$O="NA")) -> 0 | N4: =SUMPRODUCT((HC!$B:$B="A")*(HC!$O:$O="T")) -> 0 | O4: =SUMPRODUCT((HC!$B:$B="B")*(HC!$O:$O="T")) -> 0 | P4: =SUMPRODUCT((HC!$B:$B="C")*(HC!$O:$O="T")) -> 0 | Q4: =SUMPRODUCT((HC!$B:$B="CA")*(HC!$O:$O="T")) -> 0 | R4: =SUMPRODUCT((HC!$B:$B="CB")*(HC!$O:$O="T")) -> 0 | S4: =SUMPRODUCT((HC!$B:$B="CC")*(HC!$O:$O="T")) -> 0 | T4: =SUMPRODUCT((HC!$B:$B="A")*(HC!$O:$O="T+1Q")) -> 0 | U4: =SUMPRODUCT((HC!$B:$B="B")*(HC!$O:$O="T+1Q")) -> 0 | V4: =SUMPRODUCT((HC!$B:$B="C")*(HC!$O:$O="T+1Q")) -> 0 | W4: =SUMPRODUCT((HC!$B:$B="CA")*(HC!$O:$O="T+1Q")) -> 0 | X4: =SUMPRODUCT((HC!$B:$B="CB")*(HC!$O:$O="T+1Q")) -> 0 | Y4: =SUMPRODUCT((HC!$B:$B="CC")*(HC!$O:$O="T+1Q")) -> 0 | Z4: =SUMPRODUCT((HC!$B:$B="A")*(HC!$O:$O="T+2Q")) -> 0 | AA4: =SUMPRODUCT((HC!$B:$B="B")*(HC!$O:$O="T+2Q")) -> 0 | AB4: =SUMPRODUCT((HC!$B:$B="C")*(HC!$O:$O="T+2Q")) -> 0 | AC4: =SUMPRODUCT((HC!$B:$B="CA")*(HC!$O:$O="T+2Q")) -> 0 | AD4: =SUMPRODUCT((HC!$B:$B="CB")*(HC!$O:$O="T+2Q")) -> 0 | AE4: =SUMPRODUCT((HC!$B:$B="CC")*(HC!$O:$O="T+2Q")) -> 0 | AF4: =SUMPRODUCT((HC!$B:$B="A")*(HC!$O:$O="T+3Q")) -> 0 | AG4: =SUMPRODUCT((HC!$B:$B="B")*(HC!$O:$O="T+3Q")) -> 0 | AH4: =SUMPRODUCT((HC!$B:$B="C")*(HC!$O:$O="T+3Q")) -> 0 | AI4: =SUMPRODUCT((HC!$B:$B="CA")*(HC!$O:$O="T+3Q")) -> 0 | AJ4: =SUMPRODUCT((HC!$B:$B="CB")*(HC!$O:$O="T+3Q")) -> 0 | AK4: =SUMPRODUCT((HC!$B:$B="CC")*(HC!$O:$O="T+3Q")) -> 0 | AL4: =SUMPRODUCT((HC!$B:$B="A")*(HC!$O:$O="T+4Q")) -> 0 | AM4: =SUMPRODUCT((HC!$B:$B="B")*(HC!$O:$O="T+4Q")) -> 0 | AN4: =SUMPRODUCT((HC!$B:$B="C")*(HC!$O:$O="T+4Q")) -> 0 | AO4: =SUMPRODUCT((HC!$B:$B="CA")*(HC!$O:$O="T+4Q")) -> 0 | AP4: =SUMPRODUCT((HC!$B:$B="CB")*(HC!$O:$O="T+4Q")) -> 0 | AQ4: =SUMPRODUCT((HC!$B:$B="CC")*(HC!$O:$O="T+4Q")) -> 0
A5: HD | B5: 注册更新性能测量 | C5: AMF内和AMF间注册更新过程； | D5: =COUNTIF(HD!$B:$B,"A") -> 0 | E5: =COUNTIF(HD!$B:$B,"B") -> 24 | F5: =COUNTIF(HD!$B:$B,"C") -> 1 | G5: =COUNTIF(HD!$B:$B,"CA") -> 0 | H5: =COUNTIF(HD!$B:$B,"CB") -> 0 | I5: =COUNTIF(HD!$B:$B,"CC") -> 0 | J5: =SUM(D5:I5) -> 25 | K5: =SUMPRODUCT((HD!$B:$B="CA")*(HD!$O:$O="NA")) -> 0 | L5: =SUMPRODUCT((HD!$B:$B="CB")*(HD!$O:$O="NA")) -> 0 | M5: =SUMPRODUCT((HD!$B:$B="CC")*(HD!$O:$O="NA")) -> 0 | N5: =SUMPRODUCT((HD!$B:$B="A")*(HD!$O:$O="T")) -> 0 | O5: =SUMPRODUCT((HD!$B:$B="B")*(HD!$O:$O="T")) -> 0 | P5: =SUMPRODUCT((HD!$B:$B="C")*(HD!$O:$O="T")) -> 0 | Q5: =SUMPRODUCT((HD!$B:$B="CA")*(HD!$O:$O="T")) -> 0 | R5: =SUMPRODUCT((HD!$B:$B="CB")*(HD!$O:$O="T")) -> 0 | S5: =SUMPRODUCT((HD!$B:$B="CC")*(HD!$O:$O="T")) -> 0 | T5: =SUMPRODUCT((HD!$B:$B="A")*(HD!$O:$O="T+1Q")) -> 0 | U5: =SUMPRODUCT((HD!$B:$B="B")*(HD!$O:$O="T+1Q")) -> 0 | V5: =SUMPRODUCT((HD!$B:$B="C")*(HD!$O:$O="T+1Q")) -> 0 | W5: =SUMPRODUCT((HD!$B:$B="CA")*(HD!$O:$O="T+1Q")) -> 0 | X5: =SUMPRODUCT((HD!$B:$B="CB")*(HD!$O:$O="T+1Q")) -> 0 | Y5: =SUMPRODUCT((HD!$B:$B="CC")*(HD!$O:$O="T+1Q")) -> 0 | Z5: =SUMPRODUCT((HD!$B:$B="A")*(HD!$O:$O="T+2Q")) -> 0 | AA5: =SUMPRODUCT((HD!$B:$B="B")*(HD!$O:$O="T+2Q")) -> 0 | AB5: =SUMPRODUCT((HD!$B:$B="C")*(HD!$O:$O="T+2Q")) -> 0 | AC5: =SUMPRODUCT((HD!$B:$B="CA")*(HD!$O:$O="T+2Q")) -> 0 | AD5: =SUMPRODUCT((HD!$B:$B="CB")*(HD!$O:$O="T+2Q")) -> 0 | AE5: =SUMPRODUCT((HD!$B:$B="CC")*(HD!$O:$O="T+2Q")) -> 0 | AF5: =SUMPRODUCT((HD!$B:$B="A")*(HD!$O:$O="T+3Q")) -> 0 | AG5: =SUMPRODUCT((HD!$B:$B="B")*(HD!$O:$O="T+3Q")) -> 0 | AH5: =SUMPRODUCT((HD!$B:$B="C")*(HD!$O:$O="T+3Q")) -> 0 | AI5: =SUMPRODUCT((HD!$B:$B="CA")*(HD!$O:$O="T+3Q")) -> 0 | AJ5: =SUMPRODUCT((HD!$B:$B="CB")*(HD!$O:$O="T+3Q")) -> 0 | AK5: =SUMPRODUCT((HD!$B:$B="CC")*(HD!$O:$O="T+3Q")) -> 0 | AL5: =SUMPRODUCT((HD!$B:$B="A")*(HD!$O:$O="T+4Q")) -> 0 | AM5: =SUMPRODUCT((HD!$B:$B="B")*(HD!$O:$O="T+4Q")) -> 0 | AN5: =SUMPRODUCT((HD!$B:$B="C")*(HD!$O:$O="T+4Q")) -> 0 | AO5: =SUMPRODUCT((HD!$B:$B="CA")*(HD!$O:$O="T+4Q")) -> 0 | AP5: =SUMPRODUCT((HD!$B:$B="CB")*(HD!$O:$O="T+4Q")) -> 0 | AQ5: =SUMPRODUCT((HD!$B:$B="CC")*(HD!$O:$O="T+4Q")) -> 0
A6: HE | B6: 业务请求和寻呼过程性能测量 | C6: 业务请求、寻呼过程等统计。 | D6: =COUNTIF(HE!$B:$B,"A") -> 3 | E6: =COUNTIF(HE!$B:$B,"B") -> 5 | F6: =COUNTIF(HE!$B:$B,"C") -> 1 | G6: =COUNTIF(HE!$B:$B,"CA") -> 0 | H6: =COUNTIF(HE!$B:$B,"CB") -> 0 | I6: =COUNTIF(HE!$B:$B,"CC") -> 0 | J6: =SUM(D6:I6) -> 9 | K6: =SUMPRODUCT((HE!$B:$B="CA")*(HE!$O:$O="NA")) -> 0 | L6: =SUMPRODUCT((HE!$B:$B="CB")*(HE!$O:$O="NA")) -> 0 | M6: =SUMPRODUCT((HE!$B:$B="CC")*(HE!$O:$O="NA")) -> 0 | N6: =SUMPRODUCT((HE!$B:$B="A")*(HE!$O:$O="T")) -> 0 | O6: =SUMPRODUCT((HE!$B:$B="B")*(HE!$O:$O="T")) -> 0 | P6: =SUMPRODUCT((HE!$B:$B="C")*(HE!$O:$O="T")) -> 0 | Q6: =SUMPRODUCT((HE!$B:$B="CA")*(HE!$O:$O="T")) -> 0 | R6: =SUMPRODUCT((HE!$B:$B="CB")*(HE!$O:$O="T")) -> 0 | S6: =SUMPRODUCT((HE!$B:$B="CC")*(HE!$O:$O="T")) -> 0 | T6: =SUMPRODUCT((HE!$B:$B="A")*(HE!$O:$O="T+1Q")) -> 0 | U6: =SUMPRODUCT((HE!$B:$B="B")*(HE!$O:$O="T+1Q")) -> 0 | V6: =SUMPRODUCT((HE!$B:$B="C")*(HE!$O:$O="T+1Q")) -> 0 | W6: =SUMPRODUCT((HE!$B:$B="CA")*(HE!$O:$O="T+1Q")) -> 0 | X6: =SUMPRODUCT((HE!$B:$B="CB")*(HE!$O:$O="T+1Q")) -> 0 | Y6: =SUMPRODUCT((HE!$B:$B="CC")*(HE!$O:$O="T+1Q")) -> 0 | Z6: =SUMPRODUCT((HE!$B:$B="A")*(HE!$O:$O="T+2Q")) -> 0 | AA6: =SUMPRODUCT((HE!$B:$B="B")*(HE!$O:$O="T+2Q")) -> 0 | AB6: =SUMPRODUCT((HE!$B:$B="C")*(HE!$O:$O="T+2Q")) -> 0 | AC6: =SUMPRODUCT((HE!$B:$B="CA")*(HE!$O:$O="T+2Q")) -> 0 | AD6: =SUMPRODUCT((HE!$B:$B="CB")*(HE!$O:$O="T+2Q")) -> 0 | AE6: =SUMPRODUCT((HE!$B:$B="CC")*(HE!$O:$O="T+2Q")) -> 0 | AF6: =SUMPRODUCT((HE!$B:$B="A")*(HE!$O:$O="T+3Q")) -> 0 | AG6: =SUMPRODUCT((HE!$B:$B="B")*(HE!$O:$O="T+3Q")) -> 0 | AH6: =SUMPRODUCT((HE!$B:$B="C")*(HE!$O:$O="T+3Q")) -> 0 | AI6: =SUMPRODUCT((HE!$B:$B="CA")*(HE!$O:$O="T+3Q")) -> 0 | AJ6: =SUMPRODUCT((HE!$B:$B="CB")*(HE!$O:$O="T+3Q")) -> 0 | AK6: =SUMPRODUCT((HE!$B:$B="CC")*(HE!$O:$O="T+3Q")) -> 0 | AL6: =SUMPRODUCT((HE!$B:$B="A")*(HE!$O:$O="T+4Q")) -> 0 | AM6: =SUMPRODUCT((HE!$B:$B="B")*(HE!$O:$O="T+4Q")) -> 0 | AN6: =SUMPRODUCT((HE!$B:$B="C")*(HE!$O:$O="T+4Q")) -> 0 | AO6: =SUMPRODUCT((HE!$B:$B="CA")*(HE!$O:$O="T+4Q")) -> 0 | AP6: =SUMPRODUCT((HE!$B:$B="CB")*(HE!$O:$O="T+4Q")) -> 0 | AQ6: =SUMPRODUCT((HE!$B:$B="CC")*(HE!$O:$O="T+4Q")) -> 0
A7: HF | B7: 5G网络内切换性能数据 | C7: 基于Xn接口的Handover过程、基于N2接口的Intra AMF Handover过程和基于N2接口的Inter AMF Handover过程的尝试和成功次数。 | D7: =COUNTIF(HF!$B:$B,"A") -> 0 | E7: =COUNTIF(HF!$B:$B,"B") -> 8 | F7: =COUNTIF(HF!$B:$B,"C") -> 0 | G7: =COUNTIF(HF!$B:$B,"CA") -> 0 | H7: =COUNTIF(HF!$B:$B,"CB") -> 0 | I7: =COUNTIF(HF!$B:$B,"CC") -> 0 | J7: =SUM(D7:I7) -> 8 | K7: =SUMPRODUCT((HF!$B:$B="CA")*(HF!$O:$O="NA")) -> 0 | L7: =SUMPRODUCT((HF!$B:$B="CB")*(HF!$O:$O="NA")) -> 0 | M7: =SUMPRODUCT((HF!$B:$B="CC")*(HF!$O:$O="NA")) -> 0 | N7: =SUMPRODUCT((HF!$B:$B="A")*(HF!$O:$O="T")) -> 0 | O7: =SUMPRODUCT((HF!$B:$B="B")*(HF!$O:$O="T")) -> 0 | P7: =SUMPRODUCT((HF!$B:$B="C")*(HF!$O:$O="T")) -> 0 | Q7: =SUMPRODUCT((HF!$B:$B="CA")*(HF!$O:$O="T")) -> 0 | R7: =SUMPRODUCT((HF!$B:$B="CB")*(HF!$O:$O="T")) -> 0 | S7: =SUMPRODUCT((HF!$B:$B="CC")*(HF!$O:$O="T")) -> 0 | T7: =SUMPRODUCT((HF!$B:$B="A")*(HF!$O:$O="T+1Q")) -> 0 | U7: =SUMPRODUCT((HF!$B:$B="B")*(HF!$O:$O="T+1Q")) -> 0 | V7: =SUMPRODUCT((HF!$B:$B="C")*(HF!$O:$O="T+1Q")) -> 0 | W7: =SUMPRODUCT((HF!$B:$B="CA")*(HF!$O:$O="T+1Q")) -> 0 | X7: =SUMPRODUCT((HF!$B:$B="CB")*(HF!$O:$O="T+1Q")) -> 0 | Y7: =SUMPRODUCT((HF!$B:$B="CC")*(HF!$O:$O="T+1Q")) -> 0 | Z7: =SUMPRODUCT((HF!$B:$B="A")*(HF!$O:$O="T+2Q")) -> 0 | AA7: =SUMPRODUCT((HF!$B:$B="B")*(HF!$O:$O="T+2Q")) -> 0 | AB7: =SUMPRODUCT((HF!$B:$B="C")*(HF!$O:$O="T+2Q")) -> 0 | AC7: =SUMPRODUCT((HF!$B:$B="CA")*(HF!$O:$O="T+2Q")) -> 0 | AD7: =SUMPRODUCT((HF!$B:$B="CB")*(HF!$O:$O="T+2Q")) -> 0 | AE7: =SUMPRODUCT((HF!$B:$B="CC")*(HF!$O:$O="T+2Q")) -> 0 | AF7: =SUMPRODUCT((HF!$B:$B="A")*(HF!$O:$O="T+3Q")) -> 0 | AG7: =SUMPRODUCT((HF!$B:$B="B")*(HF!$O:$O="T+3Q")) -> 0 | AH7: =SUMPRODUCT((HF!$B:$B="C")*(HF!$O:$O="T+3Q")) -> 0 | AI7: =SUMPRODUCT((HF!$B:$B="CA")*(HF!$O:$O="T+3Q")) -> 0 | AJ7: =SUMPRODUCT((HF!$B:$B="CB")*(HF!$O:$O="T+3Q")) -> 0 | AK7: =SUMPRODUCT((HF!$B:$B="CC")*(HF!$O:$O="T+3Q")) -> 0 | AL7: =SUMPRODUCT((HF!$B:$B="A")*(HF!$O:$O="T+4Q")) -> 0 | AM7: =SUMPRODUCT((HF!$B:$B="B")*(HF!$O:$O="T+4Q")) -> 0 | AN7: =SUMPRODUCT((HF!$B:$B="C")*(HF!$O:$O="T+4Q")) -> 0 | AO7: =SUMPRODUCT((HF!$B:$B="CA")*(HF!$O:$O="T+4Q")) -> 0 | AP7: =SUMPRODUCT((HF!$B:$B="CB")*(HF!$O:$O="T+4Q")) -> 0 | AQ7: =SUMPRODUCT((HF!$B:$B="CC")*(HF!$O:$O="T+4Q")) -> 0
A8: HG | B8: 4G/5G互操作性能测量 | C8: 4G和5G之间切换、重选过程统计； | D8: =COUNTIF(HG!$B:$B,"A") -> 0 | E8: =COUNTIF(HG!$B:$B,"B") -> 6 | F8: =COUNTIF(HG!$B:$B,"C") -> 0 | G8: =COUNTIF(HG!$B:$B,"CA") -> 0 | H8: =COUNTIF(HG!$B:$B,"CB") -> 0 | I8: =COUNTIF(HG!$B:$B,"CC") -> 0 | J8: =SUM(D8:I8) -> 6 | K8: =SUMPRODUCT((HG!$B:$B="CA")*(HG!$O:$O="NA")) -> 0 | L8: =SUMPRODUCT((HG!$B:$B="CB")*(HG!$O:$O="NA")) -> 0 | M8: =SUMPRODUCT((HG!$B:$B="CC")*(HG!$O:$O="NA")) -> 0 | N8: =SUMPRODUCT((HG!$B:$B="A")*(HG!$O:$O="T")) -> 0 | O8: =SUMPRODUCT((HG!$B:$B="B")*(HG!$O:$O="T")) -> 0 | P8: =SUMPRODUCT((HG!$B:$B="C")*(HG!$O:$O="T")) -> 0 | Q8: =SUMPRODUCT((HG!$B:$B="CA")*(HG!$O:$O="T")) -> 0 | R8: =SUMPRODUCT((HG!$B:$B="CB")*(HG!$O:$O="T")) -> 0 | S8: =SUMPRODUCT((HG!$B:$B="CC")*(HG!$O:$O="T")) -> 0 | T8: =SUMPRODUCT((HG!$B:$B="A")*(HG!$O:$O="T+1Q")) -> 0 | U8: =SUMPRODUCT((HG!$B:$B="B")*(HG!$O:$O="T+1Q")) -> 0 | V8: =SUMPRODUCT((HG!$B:$B="C")*(HG!$O:$O="T+1Q")) -> 0 | W8: =SUMPRODUCT((HG!$B:$B="CA")*(HG!$O:$O="T+1Q")) -> 0 | X8: =SUMPRODUCT((HG!$B:$B="CB")*(HG!$O:$O="T+1Q")) -> 0 | Y8: =SUMPRODUCT((HG!$B:$B="CC")*(HG!$O:$O="T+1Q")) -> 0 | Z8: =SUMPRODUCT((HG!$B:$B="A")*(HG!$O:$O="T+2Q")) -> 0 | AA8: =SUMPRODUCT((HG!$B:$B="B")*(HG!$O:$O="T+2Q")) -> 0 | AB8: =SUMPRODUCT((HG!$B:$B="C")*(HG!$O:$O="T+2Q")) -> 0 | AC8: =SUMPRODUCT((HG!$B:$B="CA")*(HG!$O:$O="T+2Q")) -> 0 | AD8: =SUMPRODUCT((HG!$B:$B="CB")*(HG!$O:$O="T+2Q")) -> 0 | AE8: =SUMPRODUCT((HG!$B:$B="CC")*(HG!$O:$O="T+2Q")) -> 0 | AF8: =SUMPRODUCT((HG!$B:$B="A")*(HG!$O:$O="T+3Q")) -> 0 | AG8: =SUMPRODUCT((HG!$B:$B="B")*(HG!$O:$O="T+3Q")) -> 0 | AH8: =SUMPRODUCT((HG!$B:$B="C")*(HG!$O:$O="T+3Q")) -> 0 | AI8: =SUMPRODUCT((HG!$B:$B="CA")*(HG!$O:$O="T+3Q")) -> 0 | AJ8: =SUMPRODUCT((HG!$B:$B="CB")*(HG!$O:$O="T+3Q")) -> 0 | AK8: =SUMPRODUCT((HG!$B:$B="CC")*(HG!$O:$O="T+3Q")) -> 0 | AL8: =SUMPRODUCT((HG!$B:$B="A")*(HG!$O:$O="T+4Q")) -> 0 | AM8: =SUMPRODUCT((HG!$B:$B="B")*(HG!$O:$O="T+4Q")) -> 0 | AN8: =SUMPRODUCT((HG!$B:$B="C")*(HG!$O:$O="T+4Q")) -> 0 | AO8: =SUMPRODUCT((HG!$B:$B="CA")*(HG!$O:$O="T+4Q")) -> 0 | AP8: =SUMPRODUCT((HG!$B:$B="CB")*(HG!$O:$O="T+4Q")) -> 0 | AQ8: =SUMPRODUCT((HG!$B:$B="CC")*(HG!$O:$O="T+4Q")) -> 0
A9: HH | B9: 系统负荷性能测量 | C9: 系统负荷 | D9: =COUNTIF(HH!$B:$B,"A") -> 0 | E9: =COUNTIF(HH!$B:$B,"B") -> 1 | F9: =COUNTIF(HH!$B:$B,"C") -> 0 | G9: =COUNTIF(HH!$B:$B,"CA") -> 0 | H9: =COUNTIF(HH!$B:$B,"CB") -> 0 | I9: =COUNTIF(HH!$B:$B,"CC") -> 0 | J9: =SUM(D9:I9) -> 1 | K9: =SUMPRODUCT((HH!$B:$B="CA")*(HH!$O:$O="NA")) -> 0 | L9: =SUMPRODUCT((HH!$B:$B="CB")*(HH!$O:$O="NA")) -> 0 | M9: =SUMPRODUCT((HH!$B:$B="CC")*(HH!$O:$O="NA")) -> 0 | N9: =SUMPRODUCT((HH!$B:$B="A")*(HH!$O:$O="T")) -> 0 | O9: =SUMPRODUCT((HH!$B:$B="B")*(HH!$O:$O="T")) -> 0 | P9: =SUMPRODUCT((HH!$B:$B="C")*(HH!$O:$O="T")) -> 0 | Q9: =SUMPRODUCT((HH!$B:$B="CA")*(HH!$O:$O="T")) -> 0 | R9: =SUMPRODUCT((HH!$B:$B="CB")*(HH!$O:$O="T")) -> 0 | S9: =SUMPRODUCT((HH!$B:$B="CC")*(HH!$O:$O="T")) -> 0 | T9: =SUMPRODUCT((HH!$B:$B="A")*(HH!$O:$O="T+1Q")) -> 0 | U9: =SUMPRODUCT((HH!$B:$B="B")*(HH!$O:$O="T+1Q")) -> 0 | V9: =SUMPRODUCT((HH!$B:$B="C")*(HH!$O:$O="T+1Q")) -> 0 | W9: =SUMPRODUCT((HH!$B:$B="CA")*(HH!$O:$O="T+1Q")) -> 0 | X9: =SUMPRODUCT((HH!$B:$B="CB")*(HH!$O:$O="T+1Q")) -> 0 | Y9: =SUMPRODUCT((HH!$B:$B="CC")*(HH!$O:$O="T+1Q")) -> 0 | Z9: =SUMPRODUCT((HH!$B:$B="A")*(HH!$O:$O="T+2Q")) -> 0 | AA9: =SUMPRODUCT((HH!$B:$B="B")*(HH!$O:$O="T+2Q")) -> 0 | AB9: =SUMPRODUCT((HH!$B:$B="C")*(HH!$O:$O="T+2Q")) -> 0 | AC9: =SUMPRODUCT((HH!$B:$B="CA")*(HH!$O:$O="T+2Q")) -> 0 | AD9: =SUMPRODUCT((HH!$B:$B="CB")*(HH!$O:$O="T+2Q")) -> 0 | AE9: =SUMPRODUCT((HH!$B:$B="CC")*(HH!$O:$O="T+2Q")) -> 0 | AF9: =SUMPRODUCT((HH!$B:$B="A")*(HH!$O:$O="T+3Q")) -> 0 | AG9: =SUMPRODUCT((HH!$B:$B="B")*(HH!$O:$O="T+3Q")) -> 0 | AH9: =SUMPRODUCT((HH!$B:$B="C")*(HH!$O:$O="T+3Q")) -> 0 | AI9: =SUMPRODUCT((HH!$B:$B="CA")*(HH!$O:$O="T+3Q")) -> 0 | AJ9: =SUMPRODUCT((HH!$B:$B="CB")*(HH!$O:$O="T+3Q")) -> 0 | AK9: =SUMPRODUCT((HH!$B:$B="CC")*(HH!$O:$O="T+3Q")) -> 0 | AL9: =SUMPRODUCT((HH!$B:$B="A")*(HH!$O:$O="T+4Q")) -> 0 | AM9: =SUMPRODUCT((HH!$B:$B="B")*(HH!$O:$O="T+4Q")) -> 0 | AN9: =SUMPRODUCT((HH!$B:$B="C")*(HH!$O:$O="T+4Q")) -> 0 | AO9: =SUMPRODUCT((HH!$B:$B="CA")*(HH!$O:$O="T+4Q")) -> 0 | AP9: =SUMPRODUCT((HH!$B:$B="CB")*(HH!$O:$O="T+4Q")) -> 0 | AQ9: =SUMPRODUCT((HH!$B:$B="CC")*(HH!$O:$O="T+4Q")) -> 0
A10: HI | B10: N8接口测量数据 | C10: AMF和UDM接口,注册和去注册统计 | D10: =COUNTIF(HI!$B:$B,"A") -> 0 | E10: =COUNTIF(HI!$B:$B,"B") -> 6 | F10: =COUNTIF(HI!$B:$B,"C") -> 7 | G10: =COUNTIF(HI!$B:$B,"CA") -> 0 | H10: =COUNTIF(HI!$B:$B,"CB") -> 0 | I10: =COUNTIF(HI!$B:$B,"CC") -> 0 | J10: =SUM(D10:I10) -> 13 | K10: =SUMPRODUCT((HI!$B:$B="CA")*(HI!$O:$O="NA")) -> 0 | L10: =SUMPRODUCT((HI!$B:$B="CB")*(HI!$O:$O="NA")) -> 0 | M10: =SUMPRODUCT((HI!$B:$B="CC")*(HI!$O:$O="NA")) -> 0 | N10: =SUMPRODUCT((HI!$B:$B="A")*(HI!$O:$O="T")) -> 0 | O10: =SUMPRODUCT((HI!$B:$B="B")*(HI!$O:$O="T")) -> 0 | P10: =SUMPRODUCT((HI!$B:$B="C")*(HI!$O:$O="T")) -> 0 | Q10: =SUMPRODUCT((HI!$B:$B="CA")*(HI!$O:$O="T")) -> 0 | R10: =SUMPRODUCT((HI!$B:$B="CB")*(HI!$O:$O="T")) -> 0 | S10: =SUMPRODUCT((HI!$B:$B="CC")*(HI!$O:$O="T")) -> 0 | T10: =SUMPRODUCT((HI!$B:$B="A")*(HI!$O:$O="T+1Q")) -> 0 | U10: =SUMPRODUCT((HI!$B:$B="B")*(HI!$O:$O="T+1Q")) -> 0 | V10: =SUMPRODUCT((HI!$B:$B="C")*(HI!$O:$O="T+1Q")) -> 0 | W10: =SUMPRODUCT((HI!$B:$B="CA")*(HI!$O:$O="T+1Q")) -> 0 | X10: =SUMPRODUCT((HI!$B:$B="CB")*(HI!$O:$O="T+1Q")) -> 0 | Y10: =SUMPRODUCT((HI!$B:$B="CC")*(HI!$O:$O="T+1Q")) -> 0 | Z10: =SUMPRODUCT((HI!$B:$B="A")*(HI!$O:$O="T+2Q")) -> 0 | AA10: =SUMPRODUCT((HI!$B:$B="B")*(HI!$O:$O="T+2Q")) -> 0 | AB10: =SUMPRODUCT((HI!$B:$B="C")*(HI!$O:$O="T+2Q")) -> 0 | AC10: =SUMPRODUCT((HI!$B:$B="CA")*(HI!$O:$O="T+2Q")) -> 0 | AD10: =SUMPRODUCT((HI!$B:$B="CB")*(HI!$O:$O="T+2Q")) -> 0 | AE10: =SUMPRODUCT((HI!$B:$B="CC")*(HI!$O:$O="T+2Q")) -> 0 | AF10: =SUMPRODUCT((HI!$B:$B="A")*(HI!$O:$O="T+3Q")) -> 0 | AG10: =SUMPRODUCT((HI!$B:$B="B")*(HI!$O:$O="T+3Q")) -> 0 | AH10: =SUMPRODUCT((HI!$B:$B="C")*(HI!$O:$O="T+3Q")) -> 0 | AI10: =SUMPRODUCT((HI!$B:$B="CA")*(HI!$O:$O="T+3Q")) -> 0 | AJ10: =SUMPRODUCT((HI!$B:$B="CB")*(HI!$O:$O="T+3Q")) -> 0 | AK10: =SUMPRODUCT((HI!$B:$B="CC")*(HI!$O:$O="T+3Q")) -> 0 | AL10: =SUMPRODUCT((HI!$B:$B="A")*(HI!$O:$O="T+4Q")) -> 0 | AM10: =SUMPRODUCT((HI!$B:$B="B")*(HI!$O:$O="T+4Q")) -> 0 | AN10: =SUMPRODUCT((HI!$B:$B="C")*(HI!$O:$O="T+4Q")) -> 0 | AO10: =SUMPRODUCT((HI!$B:$B="CA")*(HI!$O:$O="T+4Q")) -> 0 | AP10: =SUMPRODUCT((HI!$B:$B="CB")*(HI!$O:$O="T+4Q")) -> 0 | AQ10: =SUMPRODUCT((HI!$B:$B="CC")*(HI!$O:$O="T+4Q")) -> 0
A11: HJ | B11: N11接口测量数据 | C11: AMF和SMF接口,会话上下文管理 | D11: =COUNTIF(HJ!$B:$B,"A") -> 0 | E11: =COUNTIF(HJ!$B:$B,"B") -> 8 | F11: =COUNTIF(HJ!$B:$B,"C") -> 0 | G11: =COUNTIF(HJ!$B:$B,"CA") -> 0 | H11: =COUNTIF(HJ!$B:$B,"CB") -> 0 | I11: =COUNTIF(HJ!$B:$B,"CC") -> 0 | J11: =SUM(D11:I11) -> 8 | K11: =SUMPRODUCT((HJ!$B:$B="CA")*(HJ!$O:$O="NA")) -> 0 | L11: =SUMPRODUCT((HJ!$B:$B="CB")*(HJ!$O:$O="NA")) -> 0 | M11: =SUMPRODUCT((HJ!$B:$B="CC")*(HJ!$O:$O="NA")) -> 0 | N11: =SUMPRODUCT((HJ!$B:$B="A")*(HJ!$O:$O="T")) -> 0 | O11: =SUMPRODUCT((HJ!$B:$B="B")*(HJ!$O:$O="T")) -> 0 | P11: =SUMPRODUCT((HJ!$B:$B="C")*(HJ!$O:$O="T")) -> 0 | Q11: =SUMPRODUCT((HJ!$B:$B="CA")*(HJ!$O:$O="T")) -> 0 | R11: =SUMPRODUCT((HJ!$B:$B="CB")*(HJ!$O:$O="T")) -> 0 | S11: =SUMPRODUCT((HJ!$B:$B="CC")*(HJ!$O:$O="T")) -> 0 | T11: =SUMPRODUCT((HJ!$B:$B="A")*(HJ!$O:$O="T+1Q")) -> 0 | U11: =SUMPRODUCT((HJ!$B:$B="B")*(HJ!$O:$O="T+1Q")) -> 0 | V11: =SUMPRODUCT((HJ!$B:$B="C")*(HJ!$O:$O="T+1Q")) -> 0 | W11: =SUMPRODUCT((HJ!$B:$B="CA")*(HJ!$O:$O="T+1Q")) -> 0 | X11: =SUMPRODUCT((HJ!$B:$B="CB")*(HJ!$O:$O="T+1Q")) -> 0 | Y11: =SUMPRODUCT((HJ!$B:$B="CC")*(HJ!$O:$O="T+1Q")) -> 0 | Z11: =SUMPRODUCT((HJ!$B:$B="A")*(HJ!$O:$O="T+2Q")) -> 0 | AA11: =SUMPRODUCT((HJ!$B:$B="B")*(HJ!$O:$O="T+2Q")) -> 0 | AB11: =SUMPRODUCT((HJ!$B:$B="C")*(HJ!$O:$O="T+2Q")) -> 0 | AC11: =SUMPRODUCT((HJ!$B:$B="CA")*(HJ!$O:$O="T+2Q")) -> 0 | AD11: =SUMPRODUCT((HJ!$B:$B="CB")*(HJ!$O:$O="T+2Q")) -> 0 | AE11: =SUMPRODUCT((HJ!$B:$B="CC")*(HJ!$O:$O="T+2Q")) -> 0 | AF11: =SUMPRODUCT((HJ!$B:$B="A")*(HJ!$O:$O="T+3Q")) -> 0 | AG11: =SUMPRODUCT((HJ!$B:$B="B")*(HJ!$O:$O="T+3Q")) -> 0 | AH11: =SUMPRODUCT((HJ!$B:$B="C")*(HJ!$O:$O="T+3Q")) -> 0 | AI11: =SUMPRODUCT((HJ!$B:$B="CA")*(HJ!$O:$O="T+3Q")) -> 0 | AJ11: =SUMPRODUCT((HJ!$B:$B="CB")*(HJ!$O:$O="T+3Q")) -> 0 | AK11: =SUMPRODUCT((HJ!$B:$B="CC")*(HJ!$O:$O="T+3Q")) -> 0 | AL11: =SUMPRODUCT((HJ!$B:$B="A")*(HJ!$O:$O="T+4Q")) -> 0 | AM11: =SUMPRODUCT((HJ!$B:$B="B")*(HJ!$O:$O="T+4Q")) -> 0 | AN11: =SUMPRODUCT((HJ!$B:$B="C")*(HJ!$O:$O="T+4Q")) -> 0 | AO11: =SUMPRODUCT((HJ!$B:$B="CA")*(HJ!$O:$O="T+4Q")) -> 0 | AP11: =SUMPRODUCT((HJ!$B:$B="CB")*(HJ!$O:$O="T+4Q")) -> 0 | AQ11: =SUMPRODUCT((HJ!$B:$B="CC")*(HJ!$O:$O="T+4Q")) -> 0
A12: HK | B12: N12接口测量数据 | C12: AMF和AUSF接口,AMF与UDM之间的鉴权管理 | D12: =COUNTIF(HK!$B:$B,"A") -> 0 | E12: =COUNTIF(HK!$B:$B,"B") -> 5 | F12: =COUNTIF(HK!$B:$B,"C") -> 1 | G12: =COUNTIF(HK!$B:$B,"CA") -> 0 | H12: =COUNTIF(HK!$B:$B,"CB") -> 0 | I12: =COUNTIF(HK!$B:$B,"CC") -> 0 | J12: =SUM(D12:I12) -> 6 | K12: =SUMPRODUCT((HK!$B:$B="CA")*(HK!$O:$O="NA")) -> 0 | L12: =SUMPRODUCT((HK!$B:$B="CB")*(HK!$O:$O="NA")) -> 0 | M12: =SUMPRODUCT((HK!$B:$B="CC")*(HK!$O:$O="NA")) -> 0 | N12: =SUMPRODUCT((HK!$B:$B="A")*(HK!$O:$O="T")) -> 0 | O12: =SUMPRODUCT((HK!$B:$B="B")*(HK!$O:$O="T")) -> 0 | P12: =SUMPRODUCT((HK!$B:$B="C")*(HK!$O:$O="T")) -> 0 | Q12: =SUMPRODUCT((HK!$B:$B="CA")*(HK!$O:$O="T")) -> 0 | R12: =SUMPRODUCT((HK!$B:$B="CB")*(HK!$O:$O="T")) -> 0 | S12: =SUMPRODUCT((HK!$B:$B="CC")*(HK!$O:$O="T")) -> 0 | T12: =SUMPRODUCT((HK!$B:$B="A")*(HK!$O:$O="T+1Q")) -> 0 | U12: =SUMPRODUCT((HK!$B:$B="B")*(HK!$O:$O="T+1Q")) -> 0 | V12: =SUMPRODUCT((HK!$B:$B="C")*(HK!$O:$O="T+1Q")) -> 0 | W12: =SUMPRODUCT((HK!$B:$B="CA")*(HK!$O:$O="T+1Q")) -> 0 | X12: =SUMPRODUCT((HK!$B:$B="CB")*(HK!$O:$O="T+1Q")) -> 0 | Y12: =SUMPRODUCT((HK!$B:$B="CC")*(HK!$O:$O="T+1Q")) -> 0 | Z12: =SUMPRODUCT((HK!$B:$B="A")*(HK!$O:$O="T+2Q")) -> 0 | AA12: =SUMPRODUCT((HK!$B:$B="B")*(HK!$O:$O="T+2Q")) -> 0 | AB12: =SUMPRODUCT((HK!$B:$B="C")*(HK!$O:$O="T+2Q")) -> 0 | AC12: =SUMPRODUCT((HK!$B:$B="CA")*(HK!$O:$O="T+2Q")) -> 0 | AD12: =SUMPRODUCT((HK!$B:$B="CB")*(HK!$O:$O="T+2Q")) -> 0 | AE12: =SUMPRODUCT((HK!$B:$B="CC")*(HK!$O:$O="T+2Q")) -> 0 | AF12: =SUMPRODUCT((HK!$B:$B="A")*(HK!$O:$O="T+3Q")) -> 0 | AG12: =SUMPRODUCT((HK!$B:$B="B")*(HK!$O:$O="T+3Q")) -> 0 | AH12: =SUMPRODUCT((HK!$B:$B="C")*(HK!$O:$O="T+3Q")) -> 0 | AI12: =SUMPRODUCT((HK!$B:$B="CA")*(HK!$O:$O="T+3Q")) -> 0 | AJ12: =SUMPRODUCT((HK!$B:$B="CB")*(HK!$O:$O="T+3Q")) -> 0 | AK12: =SUMPRODUCT((HK!$B:$B="CC")*(HK!$O:$O="T+3Q")) -> 0 | AL12: =SUMPRODUCT((HK!$B:$B="A")*(HK!$O:$O="T+4Q")) -> 0 | AM12: =SUMPRODUCT((HK!$B:$B="B")*(HK!$O:$O="T+4Q")) -> 0 | AN12: =SUMPRODUCT((HK!$B:$B="C")*(HK!$O:$O="T+4Q")) -> 0 | AO12: =SUMPRODUCT((HK!$B:$B="CA")*(HK!$O:$O="T+4Q")) -> 0 | AP12: =SUMPRODUCT((HK!$B:$B="CB")*(HK!$O:$O="T+4Q")) -> 0 | AQ12: =SUMPRODUCT((HK!$B:$B="CC")*(HK!$O:$O="T+4Q")) -> 0
A13: HL | B13: 5G基站数测量 | D13: =COUNTIF(HL!$B:$B,"A") -> 0 | E13: =COUNTIF(HL!$B:$B,"B") -> 1 | F13: =COUNTIF(HL!$B:$B,"C") -> 0 | G13: =COUNTIF(HL!$B:$B,"CA") -> 0 | H13: =COUNTIF(HL!$B:$B,"CB") -> 0 | I13: =COUNTIF(HL!$B:$B,"CC") -> 0 | J13: =SUM(D13:I13) -> 1 | K13: =SUMPRODUCT((HL!$B:$B="CA")*(HL!$O:$O="NA")) -> 0 | L13: =SUMPRODUCT((HL!$B:$B="CB")*(HL!$O:$O="NA")) -> 0 | M13: =SUMPRODUCT((HL!$B:$B="CC")*(HL!$O:$O="NA")) -> 0 | N13: =SUMPRODUCT((HL!$B:$B="A")*(HL!$O:$O="T")) -> 0 | O13: =SUMPRODUCT((HL!$B:$B="B")*(HL!$O:$O="T")) -> 0 | P13: =SUMPRODUCT((HL!$B:$B="C")*(HL!$O:$O="T")) -> 0 | Q13: =SUMPRODUCT((HL!$B:$B="CA")*(HL!$O:$O="T")) -> 0 | R13: =SUMPRODUCT((HL!$B:$B="CB")*(HL!$O:$O="T")) -> 0 | S13: =SUMPRODUCT((HL!$B:$B="CC")*(HL!$O:$O="T")) -> 0 | T13: =SUMPRODUCT((HL!$B:$B="A")*(HL!$O:$O="T+1Q")) -> 0 | U13: =SUMPRODUCT((HL!$B:$B="B")*(HL!$O:$O="T+1Q")) -> 0 | V13: =SUMPRODUCT((HL!$B:$B="C")*(HL!$O:$O="T+1Q")) -> 0 | W13: =SUMPRODUCT((HL!$B:$B="CA")*(HL!$O:$O="T+1Q")) -> 0 | X13: =SUMPRODUCT((HL!$B:$B="CB")*(HL!$O:$O="T+1Q")) -> 0 | Y13: =SUMPRODUCT((HL!$B:$B="CC")*(HL!$O:$O="T+1Q")) -> 0 | Z13: =SUMPRODUCT((HL!$B:$B="A")*(HL!$O:$O="T+2Q")) -> 0 | AA13: =SUMPRODUCT((HL!$B:$B="B")*(HL!$O:$O="T+2Q")) -> 0 | AB13: =SUMPRODUCT((HL!$B:$B="C")*(HL!$O:$O="T+2Q")) -> 0 | AC13: =SUMPRODUCT((HL!$B:$B="CA")*(HL!$O:$O="T+2Q")) -> 0 | AD13: =SUMPRODUCT((HL!$B:$B="CB")*(HL!$O:$O="T+2Q")) -> 0 | AE13: =SUMPRODUCT((HL!$B:$B="CC")*(HL!$O:$O="T+2Q")) -> 0 | AF13: =SUMPRODUCT((HL!$B:$B="A")*(HL!$O:$O="T+3Q")) -> 0 | AG13: =SUMPRODUCT((HL!$B:$B="B")*(HL!$O:$O="T+3Q")) -> 0 | AH13: =SUMPRODUCT((HL!$B:$B="C")*(HL!$O:$O="T+3Q")) -> 0 | AI13: =SUMPRODUCT((HL!$B:$B="CA")*(HL!$O:$O="T+3Q")) -> 0 | AJ13: =SUMPRODUCT((HL!$B:$B="CB")*(HL!$O:$O="T+3Q")) -> 0 | AK13: =SUMPRODUCT((HL!$B:$B="CC")*(HL!$O:$O="T+3Q")) -> 0 | AL13: =SUMPRODUCT((HL!$B:$B="A")*(HL!$O:$O="T+4Q")) -> 0 | AM13: =SUMPRODUCT((HL!$B:$B="B")*(HL!$O:$O="T+4Q")) -> 0 | AN13: =SUMPRODUCT((HL!$B:$B="C")*(HL!$O:$O="T+4Q")) -> 0 | AO13: =SUMPRODUCT((HL!$B:$B="CA")*(HL!$O:$O="T+4Q")) -> 0 | AP13: =SUMPRODUCT((HL!$B:$B="CB")*(HL!$O:$O="T+4Q")) -> 0 | AQ13: =SUMPRODUCT((HL!$B:$B="CC")*(HL!$O:$O="T+4Q")) -> 0
A14: 合计 | D14: =SUM(D2:D13) -> 26 | E14: =SUM(E2:E13) -> 98 | F14: =SUM(F2:F12) -> 15 | G14: =SUM(G2:G13) -> 0 | H14: =SUM(H2:H13) -> 0 | I14: =SUM(I2:I13) -> 0 | J14: =SUM(J2:J13) -> 139 | K14: =SUM(K2:K13) -> 0 | L14: =SUM(L2:L13) -> 0 | M14: =SUM(M2:M13) -> 0 | N14: =SUM(N2:N13) -> 0 | ... AQ14: =SUM(AQ2:AQ13) -> 0
A16: 注：本规范只适用于虚拟部署的AMF
A19: 测量族 | B19: 测量族说明
A20: AMF | B20: AMF接入性、移动性等测量
A21: ME | B21: 设备资源性能相关性能测量

Sheet HA
A1: 统计编码 | B1: 重要度 | C1: 英文名称 | D1: 中文名称 | E1: 定义 | F1: 触发点 | G1: 采集方式 | H1: 数据类型 | I1: 单位 | J1: 空间粒度 | K1: 时间粒度 | L1: 上报周期 | M1: 测试要求 | N1: 备注 | O1: 支持时间
A2: AMFHA01 | B2: B | C2: AMF.AuthReq | D2: 鉴权请求次数 | E2: AMF发起鉴权请求消息的次数 | F2: AMF向UE发送Authentication Request消息。 | G2: CC | H2: 整数 | I2: 个 | J2: AmfFunction | K2: 15分钟 | L2: 15分钟 | M2: 否
A3: AMFHA02 | B3: B | C3: AMF.AuthFail | D3: 鉴权参数错误次数 | E3: UE检测出Authentication Request中包含的鉴权参数错误，向AMF发送Authentication Failure的次数，cause值可能为20、21、26 | F3: AMF收到UE的发送的Authentication Failure消息。 | G3: CC | H3: 整数 | I3: 个 | J3: AmfFunction | K3: 15分钟 | L3: 15分钟 | M3: 否
B4: C | C4: AMF.AuthFail.20 | D4: MAC错误导致的鉴权参数错误次数 | G4: CC | H4: 整数 | I4: 个 | J4: AmfFunction | K4: 15分钟 | L4: 15分钟 | M4: 否
B5: C | C5: AMF.AuthFail.21 | D5: 同步失败导致的鉴权参数错误次数 | G5: CC | H5: 整数 | I5: 个 | J5: AmfFunction | K5: 15分钟 | L5: 15分钟 | M5: 否
B6: C | C6: AMF.AuthFail.26 | D6: 非5G鉴权导致的鉴权参数错误次数 | G6: CC | H6: 整数 | I6: 个 | J6: AmfFunction | K6: 15分钟 | L6: 15分钟 | M6: 否
A7: AMFHA03 | B7: B | C7: AMF.AuthReject | D7: 鉴权拒绝次数 | E7: 发送Authentication Reject消息的次数； | F7: AMF向UE发送Authentication Reject消息，表示鉴权失败。 | G7: CC | H7: 整数 | I7: 个 | J7: AmfFunction | K7: 15分钟 | L7: 15分钟 | M7: 否

Sheet HB
A1: 统计编码 | B1: 重要度 | C1: 英文名称 | D1: 中文名称 | E1: 定义 | F1: 触发点 | G1: 采集方式 | H1: 数据类型 | I1: 单位 | J1: 空间粒度 | K1: 时间粒度 | L1: 上报周期 | M1: 测试要求 | N1: 备注 | O1: 支持时间
A2: AMFHB01 | B2: A | C2: AMF.RegSub | D2: AMF注册态用户数 | E2: 当前所有注册在AMF上的用户 | F2: 无 | G2: GAUGE | H2: 整数 | I2: 个 | J2: AmfFunction | K2: 15分钟 | L2: 15分钟 | M2: 否
B3: A | C3: AMF.RegSubMean | D3: AMF平均注册态用户数 | E3: 当前所有注册在AMF上的用户，取统计周期内的平均值 | G3: GAUGE | H3: 整数 | I3: 个 | J3: AmfFunction | K3: 15分钟 | L3: 15分钟 | M3: 否
B4: A | C4: AMF.RegSubMax | D4: AMF最大注册态用户数 | E4: 当前所有注册在AMF上的用户，取统计周期内的最大值 | G4: GAUGE | H4: 整数 | I4: 个 | J4: AmfFunction | K4: 15分钟 | L4: 15分钟 | M4: 否
B5: B | C5: AMF.RegSub.CmIdle | D5: AMF空闲态用户数 | E5: 当前所有注册在AMF上的处于CM-IDLE状态的用户。 | G5: GAUGE | H5: 整数 | I5: 个 | J5: AmfFunction | K5: 15分钟 | L5: 15分钟 | M5: 否
B6: B | C6: AMF.RegSub.CmIdleMean | D6: AMF平均空闲态用户数 | E6: 当前所有注册在AMF上的处于CM-IDLE状态的用户，取统计周期内的平均值 | G6: GAUGE | H6: 整数 | I6: 个 | J6: AmfFunction | K6: 15分钟 | L6: 15分钟 | M6: 否
B7: B | C7: AMF.RegSub.CmIdleMax | D7: AMF最大空闲态用户数 | E7: 当前所有注册在AMF上的处于CM-IDLE状态的用户，取统计周期内的最大值 | G7: GAUGE | H7: 整数 | I7: 个 | J7: AmfFunction | K7: 15分钟 | L7: 15分钟 | M7: 否
B8: B | C8: AMF.RegSub.CmIdle._Ta | D8: 分跟踪区的AMF空闲态用户数 | E8: 分TA统计当前处于CM-IDLE状态的用户数。如果网络配置约定TAList只包括当前TA，则分跟踪区的统计是准确的；若网络配置TAList可以包括多个TA，则以上次用户处于连接态时的TA作为用户当前TA，但这样统计的结果只是一个近似值。 | G8: GAUGE | H8: 整数 | I8: 个 | J8: AmfFunction | K8: 15分钟 | L8: 15分钟 | M8: 否
B9: B | C9: AMF.RegSub.CmIdleMean._Ta | D9: 分跟踪区的AMF平均空闲态用户数 | E9: 分TA统计当前处于CM-IDLE状态的用户数，取统计周期内的平均值。如果网络配置约定TAList只包括当前TA，则分跟踪区的统计是准确的；若网络配置TAList可以包括多个TA，则以上次用户处于连接态时的TA作为用户当前TA，但这样统计的结果只是一个近似值。 | G9: GAUGE | H9: 整数 | I9: 个 | J9: AmfFunction | K9: 15分钟 | L9: 15分钟 | M9: 否
B10: B | C10: AMF.RegSub.CmIdleMax._Ta | D10: 分跟踪区的AMF最大空闲态用户数 | E10: 分TA统计当前处于CM-IDLE状态的用户数，取统计周期内的最大值。如果网络配置约定TAList只包括当前TA，则分跟踪区的统计是准确的；若网络配置TAList可以包括多个TA，则以上次用户处于连接态时的TA作为用户当前TA，但这样统计的结果只是一个近似值。 | G10: GAUGE | H10: 整数 | I10: 个 | J10: AmfFunction | K10: 15分钟 | L10: 15分钟 | M10: 否
B11: B | C11: AMF.RegSub.CmConnected | D11: AMF连接态用户数 | E11: 当前所有注册在AMF上的处于CM-CONNECTED状态的用户. | G11: GAUGE | H11: 整数 | I11: 个 | J11: AmfFunction | K11: 15分钟 | L11: 15分钟 | M11: 否
B12: B | C12: AMF.RegSub.CmConnectedMean | D12: AMF平均连接态用户数 | E12: 当前所有注册在AMF上的处于CM-CONNECTED状态的用户，取统计周期内的平均值 | G12: GAUGE | H12: 整数 | I12: 个 | J12: AmfFunction | K12: 15分钟 | L12: 15分钟 | M12: 否
B13: B | C13: AMF.RegSub.CmConnectedMax | D13: AMF最大连接态用户数 | E13: 当前所有注册在AMF上的处于CM-CONNECTED状态的用户，取统计周期内的最大值 | G13: GAUGE | H13: 整数 | I13: 个 | J13: AmfFunction | K13: 15分钟 | L13: 15分钟 | M13: 否
B14: B | C14: AMF.RegSub.CmConnected._Ta | D14: 分跟踪区的AMF连接态用户数 | E14: 分跟踪区统计当前所有注册在AMF上的处于CM-CONNECTED状态的用户. | G14: GAUGE | H14: 整数 | I14: 个 | J14: AmfFunction | K14: 15分钟 | L14: 15分钟 | M14: 否
... B21: C | C21: AMF.RegSub._NumSeg | D21: 分号段的AMF注册用户数 | E21: 分号段统计注册在AMF上的用户。伪测量_NumSeg的取值形式如下： １）对于国漫用户： <MCC><MNC>, 即IMSI的前5(6)位数字。 AMF.NbrSubEcm.10001 2）对于网内用户： <NDC><H0H1H2H3>,如 AMF.NbrSubEcm.1370101 | G21: GAUGE | H21: 整数 | I21: 个 | J21: AmfFunction | K21: 1小时 | L21: 1小时 | M21: 否

Sheet HC
A1: 统计编码 | B1: 重要度 | C1: 英文名称 | D1: 中文名称 | E1: 定义 | F1: 触发点 | G1: 采集方式 | H1: 数据类型 | I1: 单位 | J1: 空间粒度 | K1: 时间粒度 | L1: 上报周期 | M1: 测试要求 | N1: 备注 | O1: 支持时间
A2: AMFHC01 | B2: A | C2: AMF.AttInitReg | D2: 初始注册请求次数 | E2: 初始注册请求次数，并分TA进行统计。 | F2: AMF收到UE发送的注册请求消息（REGISTRATION REQUEST，3GPP TS 24.501），其中“5GS registration type”信元的取值为“initial registration”，不计重发。 | G2: CC | H2: 整数 | I2: 次 | J2: AmfFunction | K2: 15分钟 | L2: 15分钟 | M2: 是
B3: B | C3: AMF.AttInitReg._Ta | D3: 分跟踪区的初始注册请求次数 | M3: 否
A4: AMFHC02 | B4: A | C4: AMF.SuccInitReg | D4: 初始注册成功次数 | E4: 初始注册完成次数，并分TA进行统计。 | F4: 初始注册流程中，AMF收到UE发送注册完成消息（REGISTRATION COMPLETE，3GPP TS 24.501），不计重发。 | G4: CC | H4: 整数 | I4: 次 | J4: AmfFunction | K4: 15分钟 | L4: 15分钟 | M4: 是
B5: B | C5: AMF.SuccInitReg._Ta | D5: 分跟踪区的初始注册成功次数 | M5: 否
A6: AMFHC03 | B6: B | C6: AMF.FailedInitReg | D6: 初始注册失败次数 | E6: 初始注册失败次数，分原因进行分类统计； 其中，原因值3、5、6、7.User、15.User、27、9.User、11、12、13、62、111.User视为用户原因。 | F6: 初始注册流程中，AMF向UE发送注册拒绝消息（REGISTRATION REJECT，3GPP TS 24.501）。 | G6: CC | H6: 整数 | I6: 次 | J6: AmfFunction | K6: 15分钟 | L6: 15分钟 | M6: 否
B7: C | C7: AMF.FailedInitReg._Cause | D7: 分原因值的初始注册失败次数 | F7: 初始注册流程中，AMF向UE发送注册拒绝消息（REGISTRATION REJECT，3GPP TS 24.501），根据5GMM Cause的不同取值进行统计。 | M7: 否
B8: A | C8: AMF.FailedInitReg.3 | D8: 初始注册失败次数_非法用户 | F8: 初始注册流程中，AMF向UE发送注册拒绝消息5GMM Cause=3(Illegal UE)。 | M8: 是
B9: A | C9: AMF.FailedInitReg.5 | D9: 初始注册失败次数_PEI不允许 | F9: 初始注册流程中，AMF向UE发送注册拒绝消息5GMM Cause=5(PEI not accepted)。 | M9: 是
B10: A | C10: AMF.FailedInitReg.6 | D10: 初始注册失败次数_非法设备 | F10: 初始注册流程中，AMF向UE发送注册拒绝消息5GMM Cause=6(Illegal ME)。 | M10: 是
B11: B | C11: AMF.FailedInitReg.7 | D11: 初始注册失败次数_5GS服务不允许 | F11: 初始注册流程中，AMF向UE发送注册拒绝消息5GMM Cause=7(5GS services not allowed)。包括AMF.FailedInitReg.7.User中定义的场景以及以下场景： (1)AUSF拒绝AMF的鉴权请求，拒绝的HTTP status code为404 Not Found，application error为USER_NOT_FOUND。 (2)UDM拒绝AMF的注册请求，拒绝的HTTP status code为404 Not Found，application error为USER_NOT_FOUND。 (3)其它场景。 | M11: 是
B12: A | C12: AMF.FailedInitReg.7.User | D12: 初始注册失败次数_5GS服务不允许_用户原因 | F12: 初始注册流程中，AMF向UE发送注册拒绝消息5GMM Cause=7(5GS services not allowed),包括以下场景： (1)AUSF拒绝AMF对UE的鉴权请求，拒绝的HTTP status code为403 Forbidden。说明：还需要协议进行澄清，是否有更详细的application error用于区别不同的场景，比如是仅仅不允许5G接入，还是不允许整个PS业务接入等，AMF据此区分给UE下发的具体原因值。 (2)UDM拒绝AMF对UE的注册请求，拒绝的HTTP status code为403 Forbidden，application error为NO_PS_SUBSCRIPTION。 | M12: 否
B13: B | C13: AMF.FailedInitReg.15 | D13: 初始注册失败次数_跟踪区内无合适小区 | F13: 初始注册流程中，AMF向UE发送注册拒绝消息5GMM Cause=15(No Suitable Cells In tracking area)。包括AMF.FailedInitReg.15.User中定义的场景以及以下场景： (1)AUSF拒绝AMF的鉴权请求，拒绝的HTTP status code为500 Internal Server Error。 (2)UDM拒绝AMF的注册请求，拒绝的HTTP status code为500 Internal Server Error。 (3)其它场景。 | M13: 是
B14: A | C14: AMF.FailedInitReg.15.User | D14: 初始注册失败次数_跟踪区内无合适小区_用户原因 | F14: 初始注册流程中，AMF向UE发送注册拒绝消息5GMM Cause=15(No Suitable Cells In tracking area)。包括以下场景： (1)AUSF拒绝AMF对UE的鉴权请求，拒绝的HTTP status code为403 Forbidden。说明：还需要协议进行澄清，是否有更详细的application error用于区别不同的场景，比如是仅仅不允许5G接入，还是不允许整个PS业务接入等，AMF据此区分给UE下发的具体原因值。 (2)UDM拒绝AMF对UE的注册请求，拒绝的HTTP status code为403 Forbidden，application error为UNKNOWN_5GS_SUBSCRIPTION，ROAMING_NOT_ALLOWED，ACCESS_NOT_ALLOWED或RAT_NOT ALLOWED。 | M14: 否
B15: B | C15: AMF.FailedInitReg.12 | D15: 初始注册失败次数_跟踪区不允许 | F15: 初始注册流程中，AMF向UE发送注册拒绝消息5GMM Cause=12（Tracking area not allowed）。包括以下场景： (1)用户签约5G业务，但ARD参数设置为NR禁止，AMF发起用户注册时，因RAT-Type=NR，UDM拒绝AMF。HTTP状态码为403 Forbidden，原因值为RAT_NOT_ALLOWED。 | M15: 是
B16: B | C16: AMF.FailedInitReg.13 | D16: 初始注册失败次数_漫游跟踪区禁止接入 | F16: 初始注册流程中，AMF向UE发送注册拒绝消息5GMM Cause=13(Roaming not allowed in this tracking area)。包括以下场景： (1)用户签约5G业务，但ARD参数设置为NR禁止，AMF发起用户注册时，因RAT-Type=NR，UDM拒绝AMF。HTTP状态码为403 Forbidden，原因值为RAT_NOT_ALLOWED。 | M16: 是
B17: A | C17: AMF.FailedInitReg.27 | D17: 初始注册失败次数_N1模式不允许 | F17: 初始注册流程中，AMF向UE发送注册拒绝消息5GMM Cause=27(N1 mode not allowed)。包括以下场景： (1)用户停机，AMF鉴权请求时，AUSF拒绝AMF HTTP状态码为403 Forbidden，原因值为AUTHENTICATION_REJECTED (2)用户停机，鉴权通过后，AMF切片信息查询时，UDM拒绝AMF HTTP状态码为404 Not Found，原因值为Data_NOT_FOUND (3)用户停机，鉴权通过后，AMF注册请求时，UDM拒绝AMF" HTTP状态码为403 Forbidden，原因值为UNKNOWN_5GS_SUBSCRIPTION (4)IWF下，用户停机，鉴权成功后，AMF发起用户切片信息查询，IWF作为MME发起至HSS的ULR（Update-Location-Request）消息，HSS返回ULA消息，携带DIAMETER_ERROR_USER_UNKNOWN(5001)或DIAMETER_ERROR_UNKNOWN_EPS_SUBSCRIPTION (5420)等原因值，IWF收到后拒绝AMF" HTTP状态码为404，原因值为DATA_NOT_FOUND (5)IWF下，用户停机，鉴权成功后，AMF发起用户注册时，IWF作为MME发起至HSS的ULR（Update-Location-Request）消息，HSS返回ULA消息，携带DIAMETER_ERROR_USER_UNKNOWN(5001)或DIAMETER_ERROR_UNKNOWN_EPS_SUBSCRIPTION (5420)等原因值，IWF收到后拒绝AMF" HTTP状态码为403，原因值为UNKNOWN_5GS_SUBSCRIPTION (6)IWF下，用户停机，用户已附着在5G网络，HSS下发CLR（Cancel）消息其中Cancellation Type为MME_UPDATE_PROCEDURE至MME，IWF作为MME接收后，作为UDM发起 Nudm_UEContextManagement_DeRegisterationNotification Request消息通知AMF去注册，去注册原因值为5GS to EPS Mobility" 去注册原因值为5GS to EPS Mobility (7)IWF下，用户停机，鉴权成功后，AMF发起用户切片信息查询，IWF作为MME发起至HSS的ULR（Update-Location-Request）消息，携带ODB支持，则HSS返回ULA消息，携带ODB（bit0 ，All Packet Oriented Services Barred），IWF收到后拒绝AMF" HTTP状态码为404，原因值为DATA_NOT_FOUND (8)IWF下，用户停机，鉴权成功后，AMF发起用户注册时，IWF作为MME发起至HSS的ULR（Update-Location-Request）消息，携带ODB支持，则HSS返回ULA消息，携带ODB（bit0 ，All Packet Oriented Services Barred），IWF收到后拒绝AMF" HTTP状态码为403，原因值为UNKNOWN_5GS_SUBSCRIPTION (9)IWF下，用户停机，用户已附着在5G网络，HSS下发ISD（Insert-Subscriber-Data）消息，携带ODB（bit0 ，All Packet Oriented Services Barred），IWF作为MME接收后，作为UDM发起 Nudm_UEContextManagement_DeRegisterationNotification Request消息通知AMF去注册，去注册原因值为为SUBSCRIPTION_WITHDRAWN" 去注册原因值为为SUBSCRIPTION_WITHDRAWN (10)IWF下，用户停机，鉴权成功后，AMF发起用户切片信息查询，IWF作为MME发起至HSS的ULR（Update-Location-Request）消息，携带ODB不支持，则HSS返回ULA消息，错误码为DIAMETER_ERROR_ROAMING_NOT_ALLOWED，IWF收到后拒绝AMF" HTTP状态码为404，原因值为DATA_NOT_FOUND (11)IWF下，用户停机，鉴权成功后，AMF发起用户注册时，IWF作为MME发起至HSS的ULR（Update-Location-Request）消息，携带ODB不支持，则HSS返回ULA消息，错误码为DIAMETER_ERROR_ROAMING_NOT_ALLOWED，IWF收到后拒绝AMF" HTTP状态码为403，原因值为UNKNOWN_5GS_SUBSCRIPTION (12)IWF下，用户停机，用户已附着在5G网络，HSS下发CLR（Cancel）消息其中Cancellation Type为MME MME_UPDATE_PROCEDURE至MME，IWF作为MME接收后，作为UDM发起 Nudm_UEContextManagement_DeRegisterationNotification Request消息通知AMF去注册，去注册原因值为5GS to EPS Mobility" 去注册原因值为5GS to EPS Mobility | M17: 是
B18: A | C18: AMF.FailedInitReg.62 | D18: 初始注册失败次数_无可用网络切片 | F18: 初始注册流程中，AMF向UE发送注册拒绝消息5GMM Cause=62(No network slices available)。包括以下场景： (1)用户注册时，请求切片不允许被访问或AMF本地判断切片不允许访问，AMF拒绝用户注册 "请求切片不允许被访问，NSSF返回#403 Forbidden，原因值为NSSAI_NOT_SUPPPORTED，或AMF本地判断切片不允许访问，AMF拒绝用户注册" | G18: CC | H18: 整数 | I18: 次 | J18: AmfFunction | K18: 15分钟 | L18: 15分钟 | M18: 是
B19: A | C19: AMF.FailedInitReg.11 | D19: 初始注册失败次数_PLMN不允许 | F19: 初始注册流程中，AMF向UE发送注册拒绝消息5GMM Cause=11(PLMN not allowed)。包括以下场景： (1)针对漫入5G SA用户，用户归属运营商与中国移动签订5G SA漫游协议，但用户未开通国际漫游业务，AMF向AUSF发起鉴权请求时，若AUSF拒绝AMF "AUSF拒绝AMF ，HTTP状态码为403 Forbidden，原因值为SERVING_NETWORK_NOT_AUTHORIZED" (2)"针对漫入5G SA用户，用户归属运营商与中国移动签订5G SA漫游协议，但用户未开通国际漫游业务，AMF发起注册请求，UDM应拒绝AMF" UDM应拒绝AMF，HTTP状态码为403 Forbidden，原因值为ROAMING_NOT_ALLOWED | M19: 是
B20: B | C20: AMF.FailedInitReg.111 | D20: 初始注册失败次数_协议错误 | F20: 初始注册流程中，AMF向UE发送注册拒绝消息5GMM Cause=111(protocol error, unspecified)。包括AMF.FailedInitReg.111.User场景及以下场景： 1）AMF通过NRF发现UDM/AUSF失败且本地未配置UDM/AUSF地址，NRF返回的HTTP状态码为400 Bad Request、或404 Not Found、或500 Internal Server Error等； 2）AMF向AUSF发起鉴权请求或向UDM发起注册请求时，若AMF一段时间内未收到AUSF或UDM的任何响应或收到HTTP状态码504 Gateway Timeout时； 3）AMF收到AUSF返回HTTP状态码404 Not Found，原因值为CONTEXT_NOT_FOUND； 4）AMF给AUSF发送鉴权确认消息时，AUSF因内部原因给AMF返回HTTP状态码500，原因值为SYSTEM_FAILURE； 5）AMF向UDM发起注册或更新流程时，UDM判断语义错误，返回403 Forbidden，原因值为422 Unprocessable Entity，原因值为UNPROCESSABLE_REQUEST； 6）AMF内部异常导致注册流程失败； 7）其他场景 | M20: 是
B21: A | C21: AMF.FailedInitReg.111.User | D21: 初始注册失败次数_协议错误_用户原因 | F21: 初始注册流程中，AMF向UE发送注册拒绝消息5GMM Cause=111(protocol error, unspecified)。包括以下场景： (1)用户注册时，由于UE加密算法或者完整性算法与AMF不匹配导致注册拒绝 (2)AMF向AUSF发起鉴权请求，因UDM生成鉴权向量失败，AUSF返回500 Internal Server Error，原因值为AV_GENERATION_PROBLEM (3)AMF向UDM发起注册，UDM判断需要重新鉴权，返回403 Forbidden，原因值为REAUTHENTICATION_REQUIRED (4)在AM Policy和UE Policy更新流程中，PCF未找到用户信息，给AMF回了策略更新失败，AMF将拒绝用户接入，触发用户重新接入 HTTP状态码为404 Not Found，原因值为RESOURCE_URI_STRUCTURE_NOT_FOUND (5)核心网收到终端的消息不符合3GPP标准协议，AMF拒绝用户接入 | M21: 是
B22: B | C22: AMF.FailedInitReg._Ta | D22: 分跟踪区的初始注册失败次数 | E22: 分跟踪区的初始注册失败次数，分原因进行分类统计； 其中，原因值3、5、6、7.User、8、15.User、27、9.User、11、12、13、62、111.User视为用户原因。 | F22: 初始注册流程中，AMF向UE发送注册拒绝消息（REGISTRATION REJECT，3GPP TS 24.501） | G22: CC | H22: 整数 | I22: 次 | J22: AmfFunction | K22: 15分钟 | L22: 15分钟 | M22: 否
B23: A | C23: AMF.FailedInitReg._Ta.3 | D23: 分跟踪区的初始注册失败次数_非法用户 | F23: 初始注册流程中，AMF向UE发送注册拒绝消息5GMM Cause=3(Illegal UE)。 | M23: 是
B24: A | C24: AMF.FailedInitReg._Ta.5 | D24: 分跟踪区的初始注册失败次数_PEI不允许 | F24: 初始注册流程中，AMF向UE发送注册拒绝消息5GMM Cause=5(PEI not accepted)。 | M24: 是
B25: A | C25: AMF.FailedInitReg._Ta.6 | D25: 分跟踪区的初始注册失败次数_非法设备 | F25: 初始注册流程中，AMF向UE发送注册拒绝消息5GMM Cause=6(Illegal ME)。 | M25: 是
B26: B | C26: AMF.FailedInitReg._Ta.7 | D26: 分跟踪区的初始注册失败次数_5GS服务不允许 | F26: 初始注册流程中，AMF向UE发送注册拒绝消息5GMM Cause=7(5GS services not allowed)。包括AMF.FailedInitReg.7.User中定义的场景以及以下场景： (1)AUSF拒绝AMF的鉴权请求，拒绝的HTTP status code为404 Not Found，application error为USER_NOT_FOUND。 (2)UDM拒绝AMF的注册请求，拒绝的HTTP status code为404 Not Found，application error为USER_NOT_FOUND。 (3)其它场景。 | M26: 是
B27: A | C27: AMF.FailedInitReg._Ta.7.User | D27: 分跟踪区的初始注册失败次数_5GS服务不允许_用户原因 | F27: 初始注册流程中，AMF向UE发送注册拒绝消息5GMM Cause=7(5GS services not allowed),包括以下场景： (1)AUSF拒绝AMF对UE的鉴权请求，拒绝的HTTP status code为403 Forbidden。说明：还需要协议进行澄清，是否有更详细的application error用于区别不同的场景，比如是仅仅不允许5G接入，还是不允许整个PS业务接入等，AMF据此区分给UE下发的具体原因值。 (2)UDM拒绝AMF对UE的注册请求，拒绝的HTTP status code为403 Forbidden，application error为NO_PS_SUBSCRIPTION。 | M27: 否
B28: B | C28: AMF.FailedInitReg._Ta.15 | D28: 分跟踪区的初始注册失败次数_跟踪区内无合适小区 | F28: 初始注册流程中，AMF向UE发送注册拒绝消息5GMM Cause=15(No Suitable Cells In tracking area)。包括AMF.FailedInitReg.15.User中定义的场景以及以下场景： (1)AUSF拒绝AMF的鉴权请求，拒绝的HTTP status code为500 Internal Server Error。 (2)UDM拒绝AMF的注册请求，拒绝的HTTP status code为500 Internal Server Error。 (3)其它场景。 | M28: 是
B29: A | C29: AMF.FailedInitReg._Ta.15.User | D29: 分跟踪区的初始注册失败次数_跟踪区内无合适小区_用户原因 | F29: 初始注册流程中，AMF向UE发送注册拒绝消息5GMM Cause=15(No Suitable Cells In tracking area)。包括以下场景： (1)AUSF拒绝AMF对UE的鉴权请求，拒绝的HTTP status code为403 Forbidden。说明：还需要协议进行澄清，是否有更详细的application error用于区别不同的场景，比如是仅仅不允许5G接入，还是不允许整个PS业务接入等，AMF据此区分给UE下发的具体原因值。 (2)UDM拒绝AMF对UE的注册请求，拒绝的HTTP status code为403 Forbidden，application error为UNKNOWN_5GS_SUBSCRIPTION，ROAMING_NOT_ALLOWED，ACCESS_NOT_ALLOWED或RAT_NOT ALLOWED。 | M29: 否
B30: B | C30: AMF.FailedInitReg._Ta.12 | D30: 分跟踪区的初始注册失败次数_跟踪区不允许 | F30: 初始注册流程中，AMF向UE发送注册拒绝消息5GMM Cause=12（Tracking area not allowed）。包括以下场景： (1)用户签约5G业务，但ARD参数设置为NR禁止，AMF发起用户注册时，因RAT-Type=NR，UDM拒绝AMF。HTTP状态码为403 Forbidden，原因值为RAT_NOT_ALLOWED。 | M30: 是
B31: B | C31: AMF.FailedInitReg._Ta.13 | D31: 分跟踪区的初始注册失败次数_漫游跟踪区禁止接入 | F31: 初始注册流程中，AMF向UE发送注册拒绝消息5GMM Cause=13(Roaming not allowed in this tracking area)。包括以下场景： (1)用户签约5G业务，但ARD参数设置为NR禁止，AMF发起用户注册时，因RAT-Type=NR，UDM拒绝AMF。HTTP状态码为403 Forbidden，原因值为RAT_NOT_ALLOWED。 | M31: 是
B32: A | C32: AMF.FailedInitReg._Ta.27 | D32: 分跟踪区的初始注册失败次数_N1模式不允许 | F32: 初始注册流程中，AMF向UE发送注册拒绝消息5GMM Cause=27(N1 mode not allowed)。包括以下场景： (1)用户停机，AMF鉴权请求时，AUSF拒绝AMF HTTP状态码为403 Forbidden，原因值为AUTHENTICATION_REJECTED (2)用户停机，鉴权通过后，AMF切片信息查询时，UDM拒绝AMF HTTP状态码为404 Not Found，原因值为Data_NOT_FOUND (3)用户停机，鉴权通过后，AMF注册请求时，UDM拒绝AMF" HTTP状态码为403 Forbidden，原因值为UNKNOWN_5GS_SUBSCRIPTION (4)IWF下，用户停机，鉴权成功后，AMF发起用户切片信息查询，IWF作为MME发起至HSS的ULR（Update-Location-Request）消息，HSS返回ULA消息，携带DIAMETER_ERROR_USER_UNKNOWN(5001)或DIAMETER_ERROR_UNKNOWN_EPS_SUBSCRIPTION (5420)等原因值，IWF收到后拒绝AMF" HTTP状态码为404，原因值为DATA_NOT_FOUND (5)IWF下，用户停机，鉴权成功后，AMF发起用户注册时，IWF作为MME发起至HSS的ULR（Update-Location-Request）消息，HSS返回ULA消息，携带DIAMETER_ERROR_USER_UNKNOWN(5001)或DIAMETER_ERROR_UNKNOWN_EPS_SUBSCRIPTION (5420)等原因值，IWF收到后拒绝AMF" HTTP状态码为403，原因值为UNKNOWN_5GS_SUBSCRIPTION (6)IWF下，用户停机，用户已附着在5G网络，HSS下发CLR（Cancel）消息其中Cancellation Type为MME_UPDATE_PROCEDURE至MME，IWF作为MME接收后，作为UDM发起 Nudm_UEContextManagement_DeRegisterationNotification Request消息通知AMF去注册，去注册原因值为5GS to EPS Mobility" 去注册原因值为5GS to EPS Mobility (7)IWF下，用户停机，鉴权成功后，AMF发起用户切片信息查询，IWF作为MME发起至HSS的ULR（Update-Location-Request）消息，携带ODB支持，则HSS返回ULA消息，携带ODB（bit0 ，All Packet Oriented Services Barred），IWF收到后拒绝AMF" HTTP状态码为404，原因值为DATA_NOT_FOUND (8)IWF下，用户停机，鉴权成功后，AMF发起用户注册时，IWF作为MME发起至HSS的ULR（Update-Location-Request）消息，携带ODB支持，则HSS返回ULA消息，携带ODB（bit0 ，All Packet Oriented Services Barred），IWF收到后拒绝AMF" HTTP状态码为403，原因值为UNKNOWN_5GS_SUBSCRIPTION (9)IWF下，用户停机，用户已附着在5G网络，HSS下发ISD（Insert-Subscriber-Data）消息，携带ODB（bit0 ，All Packet Oriented Services Barred），IWF作为MME接收后，作为UDM发起 Nudm_UEContextManagement_DeRegisterationNotification Request消息通知AMF去注册，去注册原因值为为SUBSCRIPTION_WITHDRAWN" 去注册原因值为为SUBSCRIPTION_WITHDRAWN (10)IWF下，用户停机，鉴权成功后，AMF发起用户切片信息查询，IWF作为MME发起至HSS的ULR（Update-Location-Request）消息，携带ODB不支持，则HSS返回ULA消息，错误码为DIAMETER_ERROR_ROAMING_NOT_ALLOWED，IWF收到后拒绝AMF" HTTP状态码为404，原因值为DATA_NOT_FOUND (11)IWF下，用户停机，鉴权成功后，AMF发起用户注册时，IWF作为MME发起至HSS的ULR（Update-Location-Request）消息，携带ODB不支持，则HSS返回ULA消息，错误码为DIAMETER_ERROR_ROAMING_NOT_ALLOWED，IWF收到后拒绝AMF" HTTP状态码为403，原因值为UNKNOWN_5GS_SUBSCRIPTION (12)IWF下，用户停机，用户已附着在5G网络，HSS下发CLR（Cancel）消息其中Cancellation Type为MME MME_UPDATE_PROCEDURE至MME，IWF作为MME接收后，作为UDM发起 Nudm_UEContextManagement_DeRegisterationNotification Request消息通知AMF去注册，去注册原因值为5GS to EPS Mobility" 去注册原因值为5GS to EPS Mobility | M32: 是
B33: A | C33: AMF.FailedInitReg._Ta.62 | D33: 分跟踪区的初始注册失败次数_无可用网络切片 | F33: 初始注册流程中，AMF向UE发送注册拒绝消息5GMM Cause=62(No network slices available)。包括以下场景： (1)用户注册时，请求切片不允许被访问或AMF本地判断切片不允许访问，AMF拒绝用户注册 "请求切片不允许被访问，NSSF返回#403 Forbidden，原因值为NSSAI_NOT_SUPPPORTED，或AMF本地判断切片不允许访问，AMF拒绝用户注册" | M33: 是
B34: A | C34: AMF.FailedInitReg._Ta.11 | D34: 分跟踪区的初始注册失败次数_PLMN不允许 | F34: 初始注册流程中，AMF向UE发送注册拒绝消息5GMM Cause=11(PLMN not allowed)。包括以下场景： (1)针对漫入5G SA用户，用户归属运营商与中国移动签订5G SA漫游协议，但用户未开通国际漫游业务，AMF向AUSF发起鉴权请求时，若AUSF拒绝AMF "AUSF拒绝AMF ，HTTP状态码为403 Forbidden，原因值为SERVING_NETWORK_NOT_AUTHORIZED" (2)"针对漫入5G SA用户，用户归属运营商与中国移动签订5G SA漫游协议，但用户未开通国际漫游业务，AMF发起注册请求，UDM应拒绝AMF" UDM应拒绝AMF，HTTP状态码为403 Forbidden，原因值为ROAMING_NOT_ALLOWED | M34: 是
... B36: A | C36: AMF.FailedInitReg._Ta.111.User | D36: 分跟踪区的初始注册失败次数_协议错误_用户原因 | F36: 初始注册流程中，AMF向UE发送注册拒绝消息5GMM Cause=111(protocol error, unspecified)。包括以下场景： (1)用户注册时，由于UE加密算法或者完整性算法与AMF不匹配导致注册拒绝 (2)AMF向AUSF发起鉴权请求，因UDM生成鉴权向量失败，AUSF返回500 Internal Server Error，原因值为AV_GENERATION_PROBLEM (3)AMF向UDM发起注册，UDM判断需要重新鉴权，返回403 Forbidden，原因值为REAUTHENTICATION_REQUIRED (4)在AM Policy和UE Policy更新流程中，PCF未找到用户信息，给AMF回了策略更新失败，AMF将拒绝用户接入，触发用户重新接入 HTTP状态码为404 Not Found，原因值为RESOURCE_URI_STRUCTURE_NOT_FOUND (5)核心网收到终端的消息不符合3GPP标准协议，AMF拒绝用户接入 | M36: 是
A37: AMFHC04 | B37: B | C37: AMF.InitRegTime | D37: 初始注册平均时长 | E37: 成功的初始附着流程的平均时长 | F37: 一个统计周期内从UE收到注册请求消息（REGISTRATION REQUEST，3GPP TS 24.501），其中“5GS registration type”信元的取值为“initial registration”，到从UE收到注册完成消息（REGISTRATION COMPLETE，3GPP TS 24.501）的平均间隔时长。对于跨统计周期的初始注册流程，在流程完成所在周期内参与平均值计算。 | G37: SI | H37: 实数 | I37: 毫秒 | J37: AmfFunction | K37: 15分钟 | L37: 15分钟 | M37: 否 | N37: 无此业务流程时，上报空值"".

Sheet HD
A1: 统计编码 | B1: 重要度 | C1: 英文名称 | D1: 中文名称 | E1: 定义 | F1: 触发点 | G1: 采集方式 | H1: 数据类型 | I1: 单位 | J1: 空间粒度 | K1: 时间粒度 | L1: 上报周期 | M1: 测试要求 | N1: 备注 | O1: 支持时间
A2: AMFHD01 | B2: B | C2: AMF.RegUpdReq | D2: 注册更新请求次数 | E2: 注册更新请求次数，并分TA进行统计。 | F2: AMF收到UE发送的注册请求消息（REGISTRATION REQUEST，3GPP TS 24.501），其中“5GS registration type”信元的取值为“mobility registration updating”或“periodic registration updating”，不计重发。 | G2: CC | H2: 整数 | I2: 次 | J2: AmfFunction | K2: 15分钟 | L2: 15分钟 | M2: 否
B3: B | C3: AMF.RegUpdReq._Ta | D3: 分TA的注册更新请求次数
B4: B | C4: AMF.RegUpdReq.Mob.InterAmf | D4: AMF间移动性注册更新请求次数 | E4: AMF间移动性注册更新请求次数，并分TA进行统计。 | F4: AMF收到UE发送的注册请求消息（REGISTRATION REQUEST，3GPP TS 24.501），其中“5GS registration type”信元的取值为“mobility registration updating”，“5GS mobile identity”信元中携带的5G-GUTI为其它AMF分配，不计重发。 | H4: 整数 | I4: 次 | K4: 15分钟 | L4: 15分钟 | M4: 否
B5: B | C5: AMF.RegUpdReq.Mob.InterAmf._Ta | D5: 分TA的AMF间移动性注册更新请求次数
B6: B | C6: AMF.RegUpdReq.Mob.IntraAmf | D6: AMF内移动性注册更新请求次数 | E6: AMF内移动性注册更新请求次数，并分TA进行统计。 | F6: AMF收到UE发送的注册请求消息（REGISTRATION REQUEST，3GPP TS 24.501），其中“5GS registration type”信元的取值为“mobility registration updating”，“5GS mobile identity”信元中携带的5G-GUTI为本AMF分配，不计重发。
B7: B | C7: AMF.RegUpdReq.Mob.IntraAmf._Ta | D7: 分TA的AMF内移动性注册更新请求次数
B8: B | C8: AMF.RegUpdReq.Per | D8: 周期性注册更新请求次数 | E8: 周期性注册更新请求次数，并分TA进行统计。 | F8: AMF收到UE发送的注册请求消息（REGISTRATION REQUEST，3GPP TS 24.501），其中“5GS registration type”信元的取值为“periodic registration updating”，不计重发。 | H8: 整数 | I8: 次 | K8: 15分钟 | L8: 15分钟 | M8: 否
B9: B | C9: AMF.RegUpdReq.Per._Ta | D9: 分TA的周期性注册更新请求次数
A10: AMFHD02 | B10: B | C10: AMF.RegUpdAcpt | D10: 注册更新接受次数 | E10: 注册更新接受次数，并分TA进行统计。 | F10: AMF向UE发送注册接受消息（REGISTRATION ACCEPT，3GPP TS 24.501），不计重发。 | G10: CC | H10: 整数 | I10: 次 | J10: AmfFunction | K10: 15分钟 | L10: 15分钟 | M10: 否
B11: B | C11: AMF.RegUpdAcpt._Ta | D11: 分TA的注册更新接受次数
B12: B | C12: AMF.RegUpdAcpt.Mob.InterAmf | D12: AMF间移动性注册更新接受次数 | E12: AMF间移动性注册更新接受次数，并分TA进行统计。 | F12: AMF向UE发送注册接受消息（REGISTRATION ACCEPT，3GPP TS 24.501），不计重发。 | H12: 整数 | I12: 次 | K12: 15分钟 | L12: 15分钟 | M12: 否
B13: B | C13: AMF.RegUpdAcpt.Mob.InterAmf._Ta | D13: 分TA的AMF间移动性注册更新接受次数
B14: B | C14: AMF.RegUpdAcpt.Mob.IntraAmf | D14: AMF内移动性注册更新接受次数 | E14: AMF内移动性注册更新接受次数，并分TA进行统计。 | F14: AMF向UE发送注册接受消息（REGISTRATION ACCEPT，3GPP TS 24.501），不计重发。
B15: B | C15: AMF.RegUpdAcpt.Mob.IntraAmf._Ta | D15: 分TA的AMF内移动性注册更新接受次数
B16: B | C16: AMF.RegUpdAcpt.Per | D16: 周期性注册更新接受次数 | E16: 周期性注册更新接受消息的个数，并分TA进行统计。 | F16: AMF向UE发送注册接受消息（REGISTRATION ACCEPT，3GPP TS 24.501），不计重发。 | H16: 整数 | I16: 次 | K16: 15分钟 | L16: 15分钟 | M16: 否
B17: B | C17: AMF.RegUpdAcpt.Per._Ta | D17: 分TA的周期性注册更新接受次数
A18: AMFHD03 | B18: B | C18: AMF.RegUpdRej | D18: 注册更新失败次数 | E18: 注册更新失败次数，分原因进行分类统计。 其中，原因值3、6、7视为用户原因。 | F18: 注册更新流程中，AMF向UE发送注册拒绝消息（REGISTRATION REJECT，3GPP TS 24.501）。 | G18: CC | H18: 整数 | I18: 次 | J18: AmfFunction | K18: 15分钟 | L18: 15分钟 | M18: 否
B19: C | C19: AMF.RegUpdRej._Cause | D19: 分原因的注册更新失败次数 | F19: 注册更新流程中，AMF向UE发送注册拒绝消息（REGISTRATION REJECT，3GPP TS 24.501），根据5GMM Cause的不同取值进行统计。
B20: B | C20: AMF.RegUpdRej.3 | D20: 注册更新失败次数(非法用户） | F20: 注册更新流程中，AMF向UE发送注册拒绝消息，其中5GMM Cause=3(Illegal UE)。
B21: B | C21: AMF.RegUpdRej.6 | D21: 注册更新失败次数（非法设备） | F21: 注册更新流程中，AMF向UE发送注册拒绝消息，其中5GMM Cause=6(Illegal ME)。
B22: B | C22: AMF.RegUpdRej.7 | D22: 注册更新失败次数（5GS服务不允许） | F22: 注册更新流程中，AMF向UE发送注册拒绝消息，其中5GMM Cause=7(5GS services not allowed)。
B23: B | C23: AMF.RegUpdRej._Ta | D23: 分TA的注册更新失败次数 | E23: 分TA的注册更新失败次数，分原因进行分类统计。 其中，原因值3、6、7视为用户原因。 | F23: 注册更新流程中，AMF向UE发送注册拒绝消息（REGISTRATION REJECT，3GPP TS 24.501） | G23: CC | H23: 整数 | I23: 次 | J23: AmfFunction | K23: 15分钟 | L23: 15分钟 | M23: 否
B24: B | C24: AMF.RegUpdRej._Ta.3 | D24: 分TA的注册更新失败次数(非法用户） | F24: 注册更新流程中，AMF向UE发送注册拒绝消息，其中5GMM Cause=3(Illegal UE)。
B25: B | C25: AMF.RegUpdRej._Ta.6 | D25: 分TA的注册更新失败次数（非法设备） | F25: 注册更新流程中，AMF向UE发送注册拒绝消息，其中5GMM Cause=6(Illegal ME)。
B26: B | C26: AMF.RegUpdRej._Ta.7 | D26: 分TA的注册更新失败次数（5GS服务不允许） | F26: 注册更新流程中，AMF向UE发送注册拒绝消息，其中5GMM Cause=7(5GS services not allowed)。

Sheet HE
A1: 统计编码 | B1: 重要度 | C1: 英文名称 | D1: 中文名称 | E1: 定义 | F1: 触发点 | G1: 采集方式 | H1: 数据类型 | I1: 单位 | J1: 空间粒度 | K1: 时间粒度 | L1: 上报周期 | M1: 测试要求 | N1: 备注 | O1: 支持时间
A2: AMFHE01 | B2: A | C2: AMF.PagAtt | D2: 寻呼请求次数 | E2: AMF的寻呼请求次数，并分TA进行统计。不包括二次寻呼（二次及二次以上统称为二次寻呼）请求次数。 | F2: AMF发送N2接口寻呼请求消息（PAGING，3GPP TS 38.413），不计二次寻呼请求。 注：对于TAlist中的多个TA/NG-RAN发送寻呼消息，只记为一次寻呼请求。 | G2: CC | H2: 整数 | I2: 次 | J2: AmfFunction | K2: 15分钟 | L2: 15分钟 | M2: 是
B3: B | C3: AMF.PagAtt._Ta | D3: 分跟踪区寻呼请求次数 | F3: AMF发送N2接口寻呼请求消息（PAGING，3GPP TS 38.413），不计二次寻呼请求。 注：当寻呼范围是小于或等于某TA时，该TA的寻呼请求个数加1；当寻呼范围大于某TA时，该TA寻呼请求个数不增加。 | M3: 是
A4: AMFHE02 | B4: A | C4: AMF.FirstPagingSucc | D4: 一次寻呼响应次数 | E4: 一次寻呼成功次数，并分TA进行统计。 | F4: AMF发送第一次寻呼请求消息后，收到UE发送的响应寻呼请求的Service Request、Registration Request等消息（3GPP TS 24.501）。 | G4: CC | H4: 整数 | I4: 次 | J4: AmfFunction | K4: 15分钟 | L4: 15分钟 | M4: 是
B5: B | C5: AMF.FirstPagingSucc._Ta | D5: 分跟踪区一次寻呼响应次数 | F5: AMF发送第一次寻呼请求消息后，收到UE发送的响应寻呼请求的Service Request、Registration Request等消息（3GPP TS 24.501）。 注：当寻呼范围小于或等于某TA且UE在此TA响应寻呼，则该TA的寻呼成功个数加1；当寻呼范围大于某TA时，无论UE是否响应，该性能测量数据不加1。 | M5: 是
A6: AMFHE03 | B6: A | C6: AMF.SecondPagingSucc | D6: 二次寻呼响应次数 | E6: 二次（及二次以上）寻呼成功次数，并分TA进行统计。 | F6: AMF发送二次（及二次以上）寻呼请求消息后，收到UE发送的响应寻呼请求的Service Request、Registration Request等消息（3GPP TS 24.501）。 | G6: CC | H6: 整数 | I6: 次 | J6: AmfFunction | K6: 15分钟 | L6: 15分钟 | M6: 是
B7: B | C7: AMF.SecondPagingSucc._Ta | D7: 分跟踪区二次寻呼响应次数 | F7: AMF发送二次（及二次以上）寻呼请求消息后，收到UE发送的响应寻呼请求的Service Request、Registration Request等消息（3GPP TS 24.501）。 注：当寻呼范围小于或等于某TA且UE在此TA响应寻呼，则该TA的寻呼成功个数加1；当寻呼范围大于某TA时，无论UE是否响应，该性能测量数据不加1。 | M7: 是
A8: AMFHE04 | B8: B | C8: AMF.AttServiceReq | D8: 业务请求尝试次数 | E8: UE发起的业务请求次数 | F8: AMF收到UE发送的“业务请求”消息（Service Request，3GPP TS 24.501）。 | G8: CC | H8: 整数 | I8: 次 | J8: AmfFunction | K8: 15分钟 | L8: 15分钟 | M8: 否
A9: AMFHE05 | B9: B | C9: AMF.FailServiceReq | D9: 业务请求被拒次数 | E9: UE发起业务请求被拒绝个数 | F9: AMF向UE发送“业务拒绝”消息（Service Reject），每个用户原因对应一个子测量项。用户原因参考3GPP TS 24.501。 | G9: CC | H9: 整数 | I9: 次 | J9: AmfFunction | K9: 15分钟 | L9: 15分钟 | M9: 否
B10: C | C10: AMF.FailServiceReq._Cause | D10: 分原因的业务请求被拒次数 | M10: 否

Sheet HF
A1: 统计编码 | B1: 重要度 | C1: 英文名称 | D1: 中文名称 | E1: 定义 | F1: 触发点 | G1: 采集方式 | H1: 数据类型 | I1: 单位 | J1: 空间粒度 | K1: 时间粒度 | L1: 上报周期 | M1: 测试要求 | N1: 备注 | O1: 支持时间
A2: AMFHF01 | B2: B | C2: AMF.AttIntraAmfXn | D2: AMF内Xn接口切换尝试数 | E2: AMF内基于Xn接口的切换尝试次数。 | F2: AMF收到目标NG-RAN发出的路径切换请求（Path Switch Request，3GPP TS 38.413）消息。 | G2: CC | H2: 整数 | I2: 次 | J2: AmfFunction | K2: 15分钟 | L2: 15分钟 | M2: 否
A3: AMFHF02 | B3: B | C3: AMF.SuccIntraAmfXn | D3: AMF内Xn接口切换成功次数 | E3: AMF内基于Xn接口的切换成功次数。 | F3: AMF向目标NG-RAN发送路径切换请求确认（Path Switch Request Acknowledge，3GPP TS 38.413）消息。 | G3: CC | H3: 整数 | I3: 次 | J3: AmfFunction | K3: 15分钟 | L3: 15分钟 | M3: 否
A4: AMFHF03 | B4: B | C4: AMF.AttIntraAmfN2 | D4: AMF内N2接口切换尝试次数 | E4: AMF内基于N2接口的切换尝试次数。 | F4: AMF收到源NG-RAN发出的切换请求（Handover Required，3GPP TS 38.413）消息，其中Target ID信元所指示的目标NG-RAN与本AMF之间存在N2接口。 | G4: CC | H4: 整数 | I4: 次 | J4: AmfFunction | K4: 15分钟 | L4: 15分钟 | M4: 否
A5: AMFHF04 | B5: B | C5: AMF.SuccIntraAmfN2 | D5: AMF内N2接口切换成功次数 | E5: AMF内基于N2接口的切换成功次数。 | F5: AMF内基于N2接口的切换流程中，AMF收到目标NG-RAN发送切换通知（Handover Notify，3GPP TS 38.413）消息。 | G5: CC | H5: 整数 | I5: 次 | J5: AmfFunction | K5: 15分钟 | L5: 15分钟 | M5: 否
A6: AMFHF05 | B6: B | C6: AMF.AttOutInterAmf | D6: AMF间切换出尝试次数 | E6: AMF间的切换，切换出源AMF尝试次数。 | F6: AMF收到源NG-RAN发出的切换请求（Handover Required，3GPP TS 38.413）消息，其中Target ID信元所指示的目标NG-RAN与本AMF之间无N2接口。 | G6: CC | H6: 整数 | I6: 次 | J6: AmfFunction | K6: 15分钟 | L6: 15分钟 | M6: 否
A7: AMFHF06 | B7: B | C7: AMF.SuccOutInterAmf | D7: AMF间切换出成功次数 | E7: AMF间的切换，切换出源AMF成功次数。 | F7: AMF间切换流程中，源AMF的 Namf_Communication_N2InfoNotify Service Operation（3GPP TS 23.502）被目标AMF成功调用。 | G7: CC | H7: 整数 | I7: 次 | J7: AmfFunction | K7: 15分钟 | L7: 15分钟 | M7: 否
A8: AMFHF07 | B8: B | C8: AMF.AttIncInterAmf | D8: AMF间切换入尝试次数 | E8: AMF间的切换，切换入目标AMF尝试次数。 | F8: AMF间切换流程中，目标AMF的Namf_Communication_CreateUEContext Service Operation（3GPP TS 23.502）被源AMF调用。 | G8: CC | H8: 整数 | I8: 次 | J8: AmfFunction | K8: 15分钟 | L8: 15分钟 | M8: 否
A9: AMFHF08 | B9: B | C9: AMF.SuccIncInterAmf | D9: AMF间切换入成功次数 | E9: AMF间的切换，切换入目标AMF成功次数。 | F9: AMF间切换流程中，目标AMF收到目标NG-RAN发送切换通知（Handover Notify，3GPP TS 38.413）消息。 | G9: CC | H9: 整数 | I9: 次 | J9: AmfFunction | K9: 15分钟 | L9: 15分钟 | M9: 否

Sheet HG
A1: 统计编码 | B1: 重要度 | C1: 英文名称 | D1: 中文名称 | E1: 定义 | F1: 触发点 | G1: 采集方式 | H1: 数据类型 | I1: 单位 | J1: 空间粒度 | K1: 时间粒度 | L1: 上报周期 | M1: 测试要求 | N1: 备注 | O1: 支持时间
A2: AMFHG01 | B2: B | C2: AMF.Att5GHandoverTo4G | D2: 从5G网络切换出至4G网络尝试次数 | E2: 系统间切换，从源NG-RAN切换出至目标E-UTRAN尝试次数。 | F2: AMF收到源NG-RAN发送的切换请求（Handover Required，3GPP TS 38.413）消息。 | G2: CC | H2: 整数 | I2: 次 | J2: AmfFunction | K2: 15分钟 | L2: 15分钟 | M2: 否
A3: AMFHG02 | B3: B | C3: AMF.Succ5GHandoverTo4G | D3: 从5G网络切换出至4G网络成功次数 | E3: 系统间切换，从源NG-RAN切换出至目标E-UTRAN成功次数。 | F3: 系统间从5G切换出至4G流程中，AMF收到MME发送的重定位完成通知（Forward Relocation Complete Notification，3GPP TS 29.274）消息。 | G3: CC | H3: 整数 | I3: 次 | J3: AmfFunction | K3: 15分钟 | L3: 15分钟 | M3: 否
A4: AMFHG03 | B4: B | C4: AMF.Att4GHandoverTo5G | D4: 从4G网络切换入5G网络尝试次数 | E4: 系统间切换，从源E-UTRAN切换入目标NG-RAN尝试次数。 | F4: AMF收到MME发送的前向重定位请求（Forward Relocation Request，3GPP TS 29.274）消息。 | G4: CC | H4: 整数 | I4: 次 | J4: AmfFunction | K4: 15分钟 | L4: 15分钟 | M4: 否
A5: AMFHG04 | B5: B | C5: AMF.Succ4GHandoverTo5G | D5: 从4G网络切换入5G网络成功次数 | E5: 系统间切换，从源E-UTRAN切换入目标NG-RAN成功次数。 | F5: 系统间从4G切换入5G流程中，AMF收到目标NG-RAN发送切换通知（Handover Notify，3GPP TS 38.413）消息。 | G5: CC | H5: 整数 | I5: 次 | J5: AmfFunction | K5: 15分钟 | L5: 15分钟 | M5: 否
A6: AMFHG05 | B6: B | C6: AMF.Req4GReselectTo5G | D6: 从4G网络重选入5G网络请求次数 | E6: 系统间网络重选，从4G网络重选入5G网络请求次数。 | F6: AMF收到UE发送的注册请求消息（REGISTRATION REQUEST，3GPP TS 24.501），其中“5GS registration type”信元的取值为“mobility registration updating”，“UE Status”信元设置为“UE is in EMM-REGISTERED state”，“5GS mobile identity”信元中携带其它系统分配的4G-GUTI映射出的5G-GUTI，不计重发。 | G6: CC | H6: 整数 | I6: 次 | J6: AmfFunction | K6: 15分钟 | L6: 15分钟 | M6: 否
A7: AMFHG06 | B7: B | C7: AMF.Acc4GReselectTo5G | D7: 从4G网络重选入5G网络接受次数 | E7: 系统间网络重选，从4G网络重选入5G网络成功次数。 | F7: 从4G重选入5G流程中，AMF向UE发送注册接受消息（REGISTRATION ACCEPT，3GPP TS 24.501），不计重发。 | G7: CC | H7: 整数 | I7: 次 | J7: AmfFunction | K7: 15分钟 | L7: 15分钟 | M7: 否

Sheet HH
A1: 统计编码 | B1: 重要度 | C1: 英文名称 | D1: 中文名称 | E1: 定义 | F1: 触发点 | G1: 采集方式 | H1: 数据类型 | I1: 单位 | J1: 空间粒度 | K1: 时间粒度 | L1: 上报周期 | M1: 测试要求 | N1: 备注 | O1: 支持时间
A2: AMFHH01 | B2: B | C2: ME.MeanMeLoad | D2: 系统平均负荷 | E2: 指测量周期中，网元的虚拟资源负荷的抽样平均值。网元的虚拟资源负荷可取对网元影响最大的模块的负荷，或取不同模块的负荷的加权平均值，不同厂商设备的计算方法各不相同。 | F2: 在测量周期内，对网元的虚拟资源平均负荷进行采样，取上述采样值的算术平均； | G2: SI | H2: 实数 | I2: - | J2: ManagedElement | K2: 15分钟 | L2: 15分钟 | M2: 否 | N2: 以80.25%负荷为例，约定北向接口上报数据应为0.8025，不上报80.25。

Sheet HI
A1: 统计编码 | B1: 重要度 | C1: 英文名称 | D1: 中文名称 | E1: 定义 | F1: 触发点 | G1: 采集方式 | H1: 数据类型 | I1: 单位 | J1: 空间粒度 | K1: 时间粒度 | L1: 上报周期 | M1: 测试要求 | N1: 备注 | O1: 支持时间
A2: AMFHI01 | B2: C | C2: AMF.UecmRegReq | D2: UECM注册请求次数 | E2: AMF向UDM发起UECM注册请求的次数。 | F2: AMF发送HTTP PUT请求消息，请求针对UDM的“Amf3GppAccessRegistration”资源URI发起“PUT”标准操作。 （3GPP TS 29.503） | G2: CC | H2: 整数 | I2: 次 | J2: EpRpDynN8Amf | K2: 15分钟 | L2: 15分钟 | M2: 否
A3: AMFHI02 | B3: C | C3: AMF.UecmRegSucc | D3: UECM注册成功次数 | E3: AMF收到UDM返回的UECM注册成功的次数。 | F3: AMF发送HTTP PUT请求消息，请求针对UDM的“Amf3GppAccessRegistration”资源URI发起“PUT”标准操作，AMF收到UDM返回的响应消息，对于以下两种情况，均视为注册成功： 1）HTTP Status Code=204 No Content，指示其他AMF已经向该UDM注册过，UDM需更新注册资源信息； 2）HTTP Status Code=201 created，指示对于该用户，UDM之前没有存储AMF信息。（3GPP TS 29.503） | G3: CC | H3: 整数 | I3: 次 | J3: EpRpDynN8Amf | K3: 15分钟 | L3: 15分钟 | M3: 否
A4: AMFHI03 | B4: B | C4: AMF.UecmRegFail | D4: UECM注册失败次数 | E4: AMF收到UDM返回的UECM注册失败的次数。 | F4: AMF发送HTTP PUT请求消息，请求针对UDM的“Amf3GppAccessRegistration”资源URI发起“PUT”标准操作，AMF收到UDM返回的响应消息，其中HTTP Status Code不等于2XX，指示UDM拒绝AMF注册请求，具体错误原因携带在响应消息体中。 其中携带的Application Error为UNKNOWN_5GS_SUBSCRIPTION、NO_PS_SUBSCRIPTION、ROAMING_NOT_ALLOWED、ACCESS_NOT_ALLOWED、RAT_NOT ALLOWED可视为用户原因，需分别统计。 | G4: CC | H4: 整数 | I4: 次 | J4: EpRpDynN8Amf | K4: 15分钟 | L4: 15分钟 | M4: 否
B5: C | C5: AMF.UecmRegFail._Cause | D5: 分原因的UECM注册失败次数 | G5: CC | H5: 整数 | I5: 次 | J5: EpRpDynN8Amf | K5: 15分钟 | L5: 15分钟 | M5: 否
B6: B | C6: AMF.UecmRegFail.Unknown5GSub | D6: UECM注册失败次数_未签约5G | G6: CC | H6: 整数 | I6: 次 | J6: EpRpDynN8Amf | K6: 15分钟 | L6: 15分钟 | M6: 否
B7: B | C7: AMF.UecmRegFail.NoPsSub | D7: UECM注册失败次数_未签约PS业务 | G7: CC | H7: 整数 | I7: 次 | J7: EpRpDynN8Amf | K7: 15分钟 | L7: 15分钟 | M7: 否
B8: B | C8: AMF.UecmRegFail.RoamNotAllowed | D8: UECM注册失败次数_漫游不允许 | G8: CC | H8: 整数 | I8: 次 | J8: EpRpDynN8Amf | K8: 15分钟 | L8: 15分钟 | M8: 否
B9: B | C9: AMF.UecmRegFail.AccessNotAllowed | D9: UECM注册失败次数_接入类型不允许 | G9: CC | H9: 整数 | I9: 次 | J9: EpRpDynN8Amf | K9: 15分钟 | L9: 15分钟 | M9: 否
B10: B | C10: AMF.UecmRegFail.RatNotAllowed | D10: UECM注册失败次数_5GS接入不允许 | G10: CC | H10: 整数 | I10: 次 | J10: EpRpDynN8Amf | K10: 15分钟 | L10: 15分钟 | M10: 否
A11: AMFHI4 | B11: C | C11: AMF.UecmDeregReq | D11: AMF发起的UECM去注册请求次数 | E11: 在AMF删除用户数据时，AMF向UDM发起的UECM去注册请求次数 | F11: AMF发送HTTP PATCH请求消息，请求针对UDM的“Amf3GppAccessRegistration”资源URI发起“PATCH”标准操作。 （3GPP TS 29.503） | G11: CC | H11: 整数 | I11: 次 | J11: EpRpDynN8Amf | K11: 15分钟 | L11: 15分钟 | M11: 否
A12: AMFHI5 | B12: C | C12: AMF.UecmDeregSucc | D12: AMF发起的UECM去注册成功次数 | E12: 在AMF删除用户数据时，AMF收到UDM返回的UECM去注册成功次数 | F12: AMF发送HTTP PATCH请求消息，请求针对UDM的“Amf3GppAccessRegistration”资源URI发起“PATCH”标准操作，AMF收到UDM返回的204 No Content消息（3GPP TS 29.503） | G12: CC | H12: 整数 | I12: 次 | J12: EpRpDynN8Amf | K12: 15分钟 | L12: 15分钟 | M12: 否
A13: AMFHI6 | B13: C | C13: AMF.UecmDeregNotifyReq | D13: UDM发起的UECM去注册请求次数 | E13: 当UDM中用户数据变更或用户移动到新的AMF下时，UDM向AMF发起的UECM去注册通知次数 | F13: AMF收到HTTP POST请求消息，UDM针对AMF的“NotificationUri”URI发起Deregistration通知。 （3GPP TS 29.503） | G13: CC | H13: 整数 | I13: 次 | J13: EpRpDynN8Amf | K13: 15分钟 | L13: 15分钟 | M13: 否
A14: AMFHI7 | B14: C | C14: AMF.UecmDeregNotifySucc | D14: UDM发起的UECM去注册成功次数 | E14: UDM调用Nudm_UECM_DeregistrationNotification service operation对AMF进行通知，AMF分HTTP Status Code进行的响应次数。 | F14: AMF收到HTTP POST请求消息，UDM针对AMF的“NotificationUri”URI发起Deregistration通知，AMF返回204 No Content消息。（3GPP TS 29.503） | G14: CC | H14: 整数 | I14: 次 | J14: EpRpDynN8Amf | K14: 15分钟 | L14: 15分钟 | M14: 否

Sheet HJ
A1: 统计编码 | B1: 重要度 | C1: 英文名称 | D1: 中文名称 | E1: 定义 | F1: 触发点 | G1: 采集方式 | H1: 数据类型 | I1: 单位 | J1: 空间粒度 | K1: 时间粒度 | L1: 上报周期 | M1: 测试要求 | N1: 备注 | O1: 支持时间
A2: AMFHJ01 | B2: B | C2: AMF.SmContextCreateReq | D2: 会话上下文建立请求次数 | E2: AMF向SMF发起建立会话上下文的次数。 | F2: AMF发送HTTP POST请求消息，对端请求针对SMF的“SM contexts collection”资源URI发起“POST”标准操作。 （3GPP TS 29.502） | G2: CC | H2: 整数 | I2: 次 | J2: EpRpDynN11Amf | K2: 15分钟 | L2: 15分钟 | M2: 否
A3: AMFHJ02 | B3: B | C3: AMF.SessionCreateSucc | D3: 会话上下文建立成功次数 | E3: SMF返回AMF建立会话上下文成功的次数 | F3: AMF发送HTTP POST请求消息，对端请求针对SMF的“SM contexts collection”资源URI发起“POST”标准操作，AMF收到SMF返回响应消息，其中HTTP Status Code=201 Created。（3GPP TS 29.502） | G3: CC | H3: 整数 | I3: 次 | J3: EpRpDynN11Amf | K3: 15分钟 | L3: 15分钟 | M3: 否
A4: AMFHJ03 | B4: B | C4: AMF.SmContextUpdateReq | D4: 会话上下文更新请求次数 | E4: AMF向SMF发起更新会话上下文的次数。 | F4: AMF发送HTTP POST请求消息，对端请求针对SMF的“individual SM context”资源URI发起“modify”定制操作。 （3GPP TS 29.502） | G4: CC | H4: 整数 | I4: 次 | J4: EpRpDynN11Amf | K4: 15分钟 | L4: 15分钟 | M4: 否
A5: AMFHJ04 | B5: B | C5: AMF.SessionUpdateSucc | D5: 会话上下文更新成功次数 | E5: SMF返回AMF更新会话上下文成功的次数 | F5: AMF发送HTTP POST请求消息，对端请求针对SMF的“individual SM context”资源URI发起“modify”定制操作，AMF收到SMF返回响应消息，每个HTTP Status Code对应一个子测量项。（3GPP TS 29.502） | G5: CC | H5: 整数 | I5: 次 | J5: EpRpDynN11Amf | K5: 15分钟 | L5: 15分钟 | M5: 否
A6: AMFHJ05 | B6: B | C6: AMF.SmContextReleaseReq | D6: 会话上下文释放请求次数 | E6: AMF向SMF发起释放会话上下文的次数。 | F6: AMF发送HTTP POST请求消息，对端请求针对SMF的“individual SM context”资源URI发起“release”定制操作。 （3GPP TS 29.502） | G6: CC | H6: 整数 | I6: 次 | J6: EpRpDynN11Amf | K6: 15分钟 | L6: 15分钟 | M6: 否
A7: AMFHJ06 | B7: B | C7: AMF.SessionReleaseSucc | D7: 会话上下文释放成功次数 | E7: SMF返回AMF释放会话上下文成功的次数 | F7: AMF发送HTTP POST请求消息，对端请求针对SMF的“individual SM context”资源URI发起“release”定制操作，AMF收到SMF返回响应消息，每个HTTP Status Code对应一个子测量项。（3GPP TS 29.29.502） | G7: CC | H7: 整数 | I7: 次 | J7: EpRpDynN11Amf | K7: 15分钟 | L7: 15分钟 | M7: 否
A8: AMFHJ07 | B8: B | C8: AMF.SmContextRetrieveReq | D8: 会话上下文查询请求次数 | E8: AMF向SMF发起查询会话上下文的次数。 | F8: AMF发送HTTP POST请求消息，对端请求针对SMF的“individual SM context”资源URI发起“retrieve”定制操作。 （3GPP TS 29.502） | G8: CC | H8: 整数 | I8: 次 | J8: EpRpDynN11Amf | K8: 15分钟 | L8: 15分钟 | M8: 否
A9: AMFHJ08 | B9: B | C9: AMF.SessionRetrieveSucc | D9: 会话上下文查询成功次数 | E9: SMF返回AMF查询会话上下文成功的次数 | F9: AMF发送HTTP POST请求消息，对端请求针对SMF的“individual SM context”资源URI发起“retrieve”定制操作，AMF收到SMF返回响应消息，每个HTTP Status Code对应一个子测量项。（3GPP TS 29.29.502） | G9: CC | H9: 整数 | I9: 次 | J9: EpRpDynN11Amf | K9: 15分钟 | L9: 15分钟 | M9: 否

Sheet HK
A1: 统计编码 | B1: 重要度 | C1: 英文名称 | D1: 中文名称 | E1: 定义 | F1: 触发点 | G1: 采集方式 | H1: 数据类型 | I1: 单位 | J1: 空间粒度 | K1: 时间粒度 | L1: 上报周期 | M1: 测试要求 | N1: 备注 | O1: 支持时间
A2: AMFHK01 | B2: B | C2: AMF.UeAuthReq | D2: AMF向AUSF发起鉴权请求次数 | E2: AMF向AUSF发起鉴权请求消息次数 | F2: AMF发送HTTP POST请求消息，请求针对AUSF的“ue-authentications”资源URI发起“POST”标准操作。 （3GPP TS 29.509） | G2: CC | H2: 整数 | I2: 次 | J2: EpRpDynN12Amf | K2: 15分钟 | L2: 15分钟 | M2: 否 | N2: 适用于5G AKA模式
A3: AMFHK02 | B3: B | C3: AMF.UeAuthSucc | D3: AUSF向AMF返回的鉴权成功次数 | E3: AUSF向AMF返回的鉴权成功消息次数 | F3: AMF发送HTTP POST请求消息，请求针对AUSF的“ue-authentications”资源URI发起“POST”标准操作，AMF收到AUSF返回的响应消息，其中HTTP Status Code=201 Created。（3GPP TS 29.509） | G3: CC | H3: 整数 | I3: 次 | J3: EpRpDynN12Amf | K3: 15分钟 | L3: 15分钟 | M3: 否 | N3: 适用于5G AKA模式
A4: AMFHK03 | B4: B | C4: AMF.UeAuthFail | D4: 鉴权失败次数 | E4: 统计AMF收到的AUSF返回的鉴权失败次数，并分application error进行统计。 | F4: AUSF返回鉴权响应消息时，HTTP Status Code不等于2XX时统计，application error参见3GPP TS 29.509 6.1.7.3节 | G4: CC_x000D_ | H4: 整数 | I4: 个 | J4: EpRpDynN12Amf | K4: 15分钟 | L4: 15分钟 | M4: 否 | N4: 适用于5G AKA模式
B5: C | C5: AMF.UeAuthFail._Cause | D5: 分原因的鉴权失败次数 | G5: CC_x000D_ | H5: 整数 | I5: 个 | J5: EpRpDynN12Amf | K5: 15分钟 | L5: 15分钟 | M5: 否 | N5: 适用于5G AKA模式
A6: AMFHK08 | B6: B | C6: AMF.UeAuthCfmReq | D6: AMF向AUSF发起鉴权确认请求次数 | E6: AMF向AUSF发起鉴权确认请求消息次数 | F6: AMF发送HTTP PUT请求消息，请求针对AUSF的“5g-aka-confirmation”资源URI发起“PUT”标准操作。 （3GPP TS 29.509） | G6: CC | H6: 整数 | I6: 次 | J6: EpRpDynN12Amf | K6: 15分钟 | L6: 15分钟 | M6: 否 | N6: 适用于5G AKA模式
A7: AMFHK09 | B7: B | C7: AMF.UeAuthCfmSucc | D7: AUSF向AMF返回的鉴权确认成功次数 | E7: AUSF向AMF返回的鉴权确认成功消息次数 | F7: AMF发送HTTP PUT请求消息，请求针对AUSF的“5g-aka-confirmation”资源URI发起“PUT”标准操作，AMF收到AUSF返回"200 OK"消息。 | G7: CC | H7: 整数 | I7: 次 | J7: EpRpDynN12Amf | K7: 15分钟 | L7: 15分钟 | M7: 否 | N7: 适用于5G AKA模式

Sheet HL
A1: 统计编码 | B1: 重要度 | C1: 英文名称 | D1: 中文名称 | E1: 定义 | F1: 触发点 | G1: 采集方式 | H1: 数据类型 | I1: 单位 | J1: 空间粒度 | K1: 时间粒度 | L1: 上报周期 | M1: 测试要求 | N1: 备注 | O1: 支持时间
A2: AMFHL01 | B2: B | C2: AMF.GnbNum | D2: AMF挂接5G基站数 | E2: 统计周期结束点时刻，挂接在AMF下的5G基站数量 | F2: 无 | G2: GAUGE | H2: 整数 | I2: 个 | J2: AmfFunction | K2: 15分钟 | L2: 15分钟 | M2: 否

Sheet 附件
A1: 参与规范编写人员名单 | O1: 支持时间
A2: 姓名 | B2: 公司 | C2: 手机 | D2: 邮箱
A3: 崔璀璀 | B3: 爱立信 | C3: 13910834683 | D3: tracy.c.cui@ericsson.com
A4: 何刚 | B4: 爱立信 | C4: 13910785072 | D4: grant.he@ericsson.com
A5: 蒋炜 | B5: 爱立信 | C5: 13601368683 | D5: will.jiang@ericsson.com
A6: 李云刚 | B6: 爱立信 | C6: 13501109642 | D6: yungang.li@ericsson.com
A7: 刘强 | B7: 爱立信 | C7: 13636426617 | D7: qiang.liu@ericsson.com
A8: 时森 | B8: 爱立信 | C8: 13910084851 | D8: sen.shi@ericsson.com
A9: 杨利 | B9: 爱立信 | C9: 13911554821 | D9: li.g.yang@ericsson.com
A10: 张一帆 | B10: 爱立信 | C10: 13910532301 | D10: grace.f.zhang@ericsson.com
A11: 常轶钊 | B11: 华为 | C11: 15191850585 | D11: changyizha@huawei.com
A12: 陈恒 | B12: 华为 | C12: 18918325595 | D12: andrew.chen@huawei.com
A13: 高胜展 | B13: 华为 | C13: 18500522566 | D13: gaoshnegzhan@huawei.com
A14: 姜传奎 | B14: 华为 | C14: 18616850658 | D14: jiangchuankui@huawei.com
... A28: 杨洋 | B28: 中兴 | C28: 15195995119 | D28: yangyang115@zte.com.cn
